BEGIN:VCALENDAR
VERSION:2.0
PRODID:-//VBR - ECPv6.15.17.1//NONSGML v1.0//EN
CALSCALE:GREGORIAN
METHOD:PUBLISH
X-WR-CALNAME:VBR
X-ORIGINAL-URL:https://valleybusinessreport.com
X-WR-CALDESC:Events for VBR
REFRESH-INTERVAL;VALUE=DURATION:PT1H
X-Robots-Tag:noindex
X-PUBLISHED-TTL:PT1H
BEGIN:VTIMEZONE
TZID:America/Chicago
BEGIN:DAYLIGHT
TZOFFSETFROM:-0600
TZOFFSETTO:-0500
TZNAME:CDT
DTSTART:20220313T080000
END:DAYLIGHT
BEGIN:STANDARD
TZOFFSETFROM:-0500
TZOFFSETTO:-0600
TZNAME:CST
DTSTART:20221106T070000
END:STANDARD
BEGIN:DAYLIGHT
TZOFFSETFROM:-0600
TZOFFSETTO:-0500
TZNAME:CDT
DTSTART:20230312T080000
END:DAYLIGHT
BEGIN:STANDARD
TZOFFSETFROM:-0500
TZOFFSETTO:-0600
TZNAME:CST
DTSTART:20231105T070000
END:STANDARD
BEGIN:DAYLIGHT
TZOFFSETFROM:-0600
TZOFFSETTO:-0500
TZNAME:CDT
DTSTART:20240310T080000
END:DAYLIGHT
BEGIN:STANDARD
TZOFFSETFROM:-0500
TZOFFSETTO:-0600
TZNAME:CST
DTSTART:20241103T070000
END:STANDARD
END:VTIMEZONE
BEGIN:VEVENT
DTSTART;TZID=America/Chicago:20230314T113000
DTEND;TZID=America/Chicago:20230314T130000
DTSTAMP:20260421T105112
CREATED:20230307T180803Z
LAST-MODIFIED:20230307T180803Z
UID:10000904-1678793400-1678798800@valleybusinessreport.com
SUMMARY:Link Up: Speed Networking
DESCRIPTION:“Link Up: Speed Networking” on March 14 is geared towards McAllen Chamber of Commerce members and gives attendees the opportunity to promote their business\, develop new leads and create new professional contacts. \nLight lunch will be provided. Seating is limited. \nTo reserve your spot\, contact Andrea de la Garza.\n\n\n	Related
URL:https://valleybusinessreport.com/event/link-up-speed-networking-2/
LOCATION:McAllen Chamber of Commerce\, 1200 Ash Ave.\, McAllen\, TX\, 78501\, United States
CATEGORIES:Networking
ORGANIZER;CN="Andrea de la Garza%2C McAllen Chamber of Commerce":MAILTO:adelagarza@mcallenchamber.com
END:VEVENT
END:VCALENDAR