BEGIN:VCALENDAR
VERSION:2.0
PRODID:-//VBR - ECPv6.15.17.1//NONSGML v1.0//EN
CALSCALE:GREGORIAN
METHOD:PUBLISH
X-WR-CALNAME:VBR
X-ORIGINAL-URL:https://valleybusinessreport.com
X-WR-CALDESC:Events for VBR
REFRESH-INTERVAL;VALUE=DURATION:PT1H
X-Robots-Tag:noindex
X-PUBLISHED-TTL:PT1H
BEGIN:VTIMEZONE
TZID:America/Chicago
BEGIN:DAYLIGHT
TZOFFSETFROM:-0600
TZOFFSETTO:-0500
TZNAME:CDT
DTSTART:20210314T080000
END:DAYLIGHT
BEGIN:STANDARD
TZOFFSETFROM:-0500
TZOFFSETTO:-0600
TZNAME:CST
DTSTART:20211107T070000
END:STANDARD
BEGIN:DAYLIGHT
TZOFFSETFROM:-0600
TZOFFSETTO:-0500
TZNAME:CDT
DTSTART:20220313T080000
END:DAYLIGHT
BEGIN:STANDARD
TZOFFSETFROM:-0500
TZOFFSETTO:-0600
TZNAME:CST
DTSTART:20221106T070000
END:STANDARD
BEGIN:DAYLIGHT
TZOFFSETFROM:-0600
TZOFFSETTO:-0500
TZNAME:CDT
DTSTART:20230312T080000
END:DAYLIGHT
BEGIN:STANDARD
TZOFFSETFROM:-0500
TZOFFSETTO:-0600
TZNAME:CST
DTSTART:20231105T070000
END:STANDARD
END:VTIMEZONE
BEGIN:VEVENT
DTSTART;VALUE=DATE:20220304
DTEND;VALUE=DATE:20220306
DTSTAMP:20260421T063033
CREATED:20220222T210613Z
LAST-MODIFIED:20220222T210820Z
UID:10000564-1646352000-1646524799@valleybusinessreport.com
SUMMARY:Health & Wellness Fair
DESCRIPTION:Rio Grande City holds its first annual free Community Health and Wellness Fair March 4 from 9 a.m. to 4:30 p.m. and March 5 from 9 a.m. to noon at the AC2E Elementary School in Fort Ringgold. \nDedicated to the health and wellness needs of families in the Rio Grande City area\, local clinicians and health professionals will provide free health screenings\, medical information\, education and health-related services including the following: \n\nCholesterol Screenings\nBlood Pressure Screenings\nLiver Scans\nMedical Weight Loss\nRehabilitation Consulting\nBehavioral Health\nCar Seat Checks\nFlu Vaccines\nCardiovascular Disease\nDiabetes Screening\nCardiac Health Screening\nAlzheimer’s Disease Screening\n\nVendors and health care service providers may register online.\n\n\n	Related
URL:https://valleybusinessreport.com/event/health-wellness-fair/
LOCATION:AC2E Elementary School in Fort Ringgold\, Fort Ringgold\, Rio Grande City\, 78582
CATEGORIES:Festivals and Celebrations
ATTACH;FMTTYPE=image/jpeg:https://valleybusinessreport.com/wp-content/uploads/2021/04/healthcare.jpg
ORGANIZER;CN="Angelina Villarreal":MAILTO:avillarreal@cityofrgc.com
END:VEVENT
END:VCALENDAR