BEGIN:VCALENDAR
VERSION:2.0
PRODID:-//VBR - ECPv6.15.17.1//NONSGML v1.0//EN
CALSCALE:GREGORIAN
METHOD:PUBLISH
X-WR-CALNAME:VBR
X-ORIGINAL-URL:https://valleybusinessreport.com
X-WR-CALDESC:Events for VBR
REFRESH-INTERVAL;VALUE=DURATION:PT1H
X-Robots-Tag:noindex
X-PUBLISHED-TTL:PT1H
BEGIN:VTIMEZONE
TZID:America/Chicago
BEGIN:DAYLIGHT
TZOFFSETFROM:-0600
TZOFFSETTO:-0500
TZNAME:CDT
DTSTART:20200308T080000
END:DAYLIGHT
BEGIN:STANDARD
TZOFFSETFROM:-0500
TZOFFSETTO:-0600
TZNAME:CST
DTSTART:20201101T070000
END:STANDARD
BEGIN:DAYLIGHT
TZOFFSETFROM:-0600
TZOFFSETTO:-0500
TZNAME:CDT
DTSTART:20210314T080000
END:DAYLIGHT
BEGIN:STANDARD
TZOFFSETFROM:-0500
TZOFFSETTO:-0600
TZNAME:CST
DTSTART:20211107T070000
END:STANDARD
BEGIN:DAYLIGHT
TZOFFSETFROM:-0600
TZOFFSETTO:-0500
TZNAME:CDT
DTSTART:20220313T080000
END:DAYLIGHT
BEGIN:STANDARD
TZOFFSETFROM:-0500
TZOFFSETTO:-0600
TZNAME:CST
DTSTART:20221106T070000
END:STANDARD
BEGIN:DAYLIGHT
TZOFFSETFROM:-0600
TZOFFSETTO:-0500
TZNAME:CDT
DTSTART:20230312T080000
END:DAYLIGHT
BEGIN:STANDARD
TZOFFSETFROM:-0500
TZOFFSETTO:-0600
TZNAME:CST
DTSTART:20231105T070000
END:STANDARD
END:VTIMEZONE
BEGIN:VEVENT
DTSTART;TZID=America/Chicago:20220118T100000
DTEND;TZID=America/Chicago:20220118T110000
DTSTAMP:20260425T112223
CREATED:20220107T200256Z
LAST-MODIFIED:20220107T200256Z
UID:10000535-1642500000-1642503600@valleybusinessreport.com
SUMMARY:How Much is Your Company's Data Worth?
DESCRIPTION:The Brownsville Chamber of Commerce presents “How Much is Your Company’s Data Worth?” Jan. 18 as part the Cybersecurity for Businesses Series. Seminar presenter is Dustin Salinas of ArkWare LLC. \nIn this workshop\, participants will learn about: \n\nViruses\nData\nAnd the Dark Web\n\nThis event is free and open to the community. Register online. \nFor more information\, contact the Brownsville Chamber of Commerce.\n\n\n	Related
URL:https://valleybusinessreport.com/event/how-much-is-your-companys-data-worth/
LOCATION:Brownsville Chamber of Commerce\, 1600 University Blvd.\, Brownsville\, TX\, 78520\, United States
CATEGORIES:Seminars and Workshops
ATTACH;FMTTYPE=image/png:https://valleybusinessreport.com/wp-content/uploads/2022/01/1.18.21HowMuchisYourCompaniesDataWorth.png
ORGANIZER;CN="Brownsville Chamber of Commerce":MAILTO:info@brownsvillechamber.com
GEO:25.8979742;-97.4945709
X-APPLE-STRUCTURED-LOCATION;VALUE=URI;X-ADDRESS=Brownsville Chamber of Commerce 1600 University Blvd. Brownsville TX 78520 United States;X-APPLE-RADIUS=500;X-TITLE=1600 University Blvd.:geo:-97.4945709,25.8979742
END:VEVENT
BEGIN:VEVENT
DTSTART;TZID=America/Chicago:20211227T140000
DTEND;TZID=America/Chicago:20211227T150000
DTSTAMP:20260425T112223
CREATED:20211214T200645Z
LAST-MODIFIED:20211214T200645Z
UID:10000656-1640613600-1640617200@valleybusinessreport.com
SUMMARY:Chamber Connect +
DESCRIPTION:Whether you’re looking to learn more about what the Brownsville Chamber of Commerce can do for you or you just need a refresher on your membership benefits\, join the Brownsville Chamber for Chamber Connect + Dec. 27. \nParticipants will learn how to:\n\nTake advantage of your membership benefits\nJoin a committee\nStay connected with your members-only online portal\nSet up your membership profile\n\nThis event is free and open to the community. Register online. \nFor more information\, contact the Brownsville Chamber.\n\n\n	Related
URL:https://valleybusinessreport.com/event/chamber-connect-2/
LOCATION:Brownsville Chamber of Commerce\, 1600 University Blvd.\, Brownsville\, TX\, 78520\, United States
CATEGORIES:Networking
ATTACH;FMTTYPE=image/png:https://valleybusinessreport.com/wp-content/uploads/2021/12/ChamberConnectFY21-22.png
ORGANIZER;CN="Brownsville Chamber of Commerce":MAILTO:info@brownsvillechamber.com
GEO:25.8979742;-97.4945709
X-APPLE-STRUCTURED-LOCATION;VALUE=URI;X-ADDRESS=Brownsville Chamber of Commerce 1600 University Blvd. Brownsville TX 78520 United States;X-APPLE-RADIUS=500;X-TITLE=1600 University Blvd.:geo:-97.4945709,25.8979742
END:VEVENT
BEGIN:VEVENT
DTSTART;TZID=America/Chicago:20211216T100000
DTEND;TZID=America/Chicago:20211216T110000
DTSTAMP:20260425T112223
CREATED:20211208T201239Z
LAST-MODIFIED:20211208T203004Z
UID:10000655-1639648800-1639652400@valleybusinessreport.com
SUMMARY:How Businesses Obtain Credit
DESCRIPTION:Join the Brownsville Chamber of Commerce and BBVA for an online financial education workshop Dec. 16. \nIn this workshop\, participants will:\n\nLearn how small businesses build and maintain credit\nExplore how creditworthiness is measured for small businesses\nExamine the connection between personal and business credit\nIdentify the documents you’ll need for small business credit applications\n\nRegister online.\n\n\n	Related
URL:https://valleybusinessreport.com/event/how-businesses-obtain-credit-3/
LOCATION:Webinar
CATEGORIES:Seminars and Workshops
ATTACH;FMTTYPE=image/png:https://valleybusinessreport.com/wp-content/uploads/2021/12/12.16.21HowBusinessesObtainCredit.png
ORGANIZER;CN="Brownsville Chamber of Commerce":MAILTO:info@brownsvillechamber.com
END:VEVENT
BEGIN:VEVENT
DTSTART;TZID=America/Chicago:20211209T140000
DTEND;TZID=America/Chicago:20211209T150000
DTSTAMP:20260425T112223
CREATED:20211201T181017Z
LAST-MODIFIED:20211201T181154Z
UID:10000529-1639058400-1639062000@valleybusinessreport.com
SUMMARY:Cybersecurity for Businesses Series: Business Network Security
DESCRIPTION:The Brownsville Chamber of Commerce in partnership with ArkWare LLC present the “Business Network Security” workshop Dec. 9. The latest installment of the Cybersecurity for Businesses Series features guest speaker Dustin Salinas of ArkWare. \nIn this workshop\, participants will learn about: \n\nComputers\nThe Internet\nViruses\nData\nProtection\nAnd the Dark Web\n\nRegister online. \nFor more information\, contact the Brownsville Chamber of Commerce.\n\n\n	Related
URL:https://valleybusinessreport.com/event/cybersecurity-for-businesses-series-business-network-security/
LOCATION:Brownsville Chamber of Commerce\, 1600 University Blvd.\, Brownsville\, TX\, 78520\, United States
CATEGORIES:Seminars and Workshops
ATTACH;FMTTYPE=image/png:https://valleybusinessreport.com/wp-content/uploads/2021/12/12.9.21BusinessNetworkSecurity.png
ORGANIZER;CN="Brownsville Chamber of Commerce":MAILTO:info@brownsvillechamber.com
GEO:25.8979742;-97.4945709
X-APPLE-STRUCTURED-LOCATION;VALUE=URI;X-ADDRESS=Brownsville Chamber of Commerce 1600 University Blvd. Brownsville TX 78520 United States;X-APPLE-RADIUS=500;X-TITLE=1600 University Blvd.:geo:-97.4945709,25.8979742
END:VEVENT
BEGIN:VEVENT
DTSTART;TZID=America/Chicago:20211201T113000
DTEND;TZID=America/Chicago:20211201T133000
DTSTAMP:20260425T112223
CREATED:20211117T194040Z
LAST-MODIFIED:20211117T194040Z
UID:10000524-1638358200-1638365400@valleybusinessreport.com
SUMMARY:State of Business & Leadership Luncheon
DESCRIPTION:Join the Brownsville Chamber of Commerce for its in-person State of Business & Leadership Luncheon Dec. 1. Thought leaders from the Texas Association of Business and the Texas Chamber of Commerce Executives will discuss the big issues for businesses. Other topics include bills and policies from the 87th Texas Legislature\, the employment landscape and what we can expect in the near future. \nSpeakers include Senior Vice President of Advocacy for the Texas Association of Business Stephanie Matthews and Aaron Cox\, vice-president of chamber relations and for the Texas Association of Business and the CEO of the Texas Chamber of Commerce Executives. \nTickets are $50 and sponsorships are available. \nRegister online.\n\n\n	Related
URL:https://valleybusinessreport.com/event/state-of-business-leadership-luncheon/
LOCATION:Brownsville Event Center\, 1 Event Center\, Brownsville\, 78526\, United States
CATEGORIES:Speakers
ATTACH;FMTTYPE=image/png:https://valleybusinessreport.com/wp-content/uploads/2021/11/12.1.21-State-of-Business-Design.png
ORGANIZER;CN="Brownsville Chamber of Commerce":MAILTO:info@brownsvillechamber.com
GEO:25.9621367;-97.4880968
X-APPLE-STRUCTURED-LOCATION;VALUE=URI;X-ADDRESS=Brownsville Event Center 1 Event Center Brownsville 78526 United States;X-APPLE-RADIUS=500;X-TITLE=1 Event Center:geo:-97.4880968,25.9621367
END:VEVENT
BEGIN:VEVENT
DTSTART;TZID=America/Chicago:20211130T100000
DTEND;TZID=America/Chicago:20211130T110000
DTSTAMP:20260425T112223
CREATED:20211117T192922Z
LAST-MODIFIED:20211117T192922Z
UID:10000523-1638266400-1638270000@valleybusinessreport.com
SUMMARY:Cybersecurity for Businesses Series: Data Worth
DESCRIPTION:The Brownsville Chamber of Commerce in partnership with ArkWare\, LLC presents “Data Worth” Nov. 30 as part of its Cybersecurity for Businesses Series. \nIn this workshop\, participants will learn about:\n\nViruses\nData\nThe Dark Web\n\nThis event is free and open to the community. For more information\, contact the Brownsville Chamber of Commerce. \nRegister online.\n\n\n	Related
URL:https://valleybusinessreport.com/event/cybersecurity-for-businesses-series-data-worth/
LOCATION:Brownsville Chamber of Commerce\, 1600 University Blvd.\, Brownsville\, TX\, 78520\, United States
CATEGORIES:Seminars and Workshops
ATTACH;FMTTYPE=image/png:https://valleybusinessreport.com/wp-content/uploads/2021/11/11.30.21DataWorth.png
ORGANIZER;CN="Brownsville Chamber of Commerce":MAILTO:info@brownsvillechamber.com
GEO:25.8979742;-97.4945709
X-APPLE-STRUCTURED-LOCATION;VALUE=URI;X-ADDRESS=Brownsville Chamber of Commerce 1600 University Blvd. Brownsville TX 78520 United States;X-APPLE-RADIUS=500;X-TITLE=1600 University Blvd.:geo:-97.4945709,25.8979742
END:VEVENT
BEGIN:VEVENT
DTSTART;TZID=America/Chicago:20211122T100000
DTEND;TZID=America/Chicago:20211122T110000
DTSTAMP:20260425T112223
CREATED:20211117T192206Z
LAST-MODIFIED:20211117T192206Z
UID:10000651-1637575200-1637578800@valleybusinessreport.com
SUMMARY:Brownsville Chamber Connect +
DESCRIPTION:The Brownsville Chamber of Commerce hosts Chamber Connect + Nov. 22 for those looking to learn more about what the chamber can do for them. The event also serves as a refresher on membership benefits. \nAttend Chamber Connect + and learn how to:\n\nTake advantage of membership benefits\nJoin a committee\nStay connected with the members-only online portal\nSet up a membership profile\n\nThis event is free and open to the community. \nFor more information\, contact the Brownsville Chamber.\n\n\n	Related
URL:https://valleybusinessreport.com/event/brownsville-chamber-connect-3/
LOCATION:Brownsville Chamber of Commerce\, 1600 University Blvd.\, Brownsville\, TX\, 78520\, United States
CATEGORIES:Networking
ATTACH;FMTTYPE=image/png:https://valleybusinessreport.com/wp-content/uploads/2017/06/BrownsvilleChamberLogo.png
ORGANIZER;CN="Brownsville Chamber of Commerce":MAILTO:info@brownsvillechamber.com
GEO:25.8979742;-97.4945709
X-APPLE-STRUCTURED-LOCATION;VALUE=URI;X-ADDRESS=Brownsville Chamber of Commerce 1600 University Blvd. Brownsville TX 78520 United States;X-APPLE-RADIUS=500;X-TITLE=1600 University Blvd.:geo:-97.4945709,25.8979742
END:VEVENT
BEGIN:VEVENT
DTSTART;TZID=America/Chicago:20211111T100000
DTEND;TZID=America/Chicago:20211111T110000
DTSTAMP:20260425T112223
CREATED:20211101T191353Z
LAST-MODIFIED:20211101T191353Z
UID:10000659-1636624800-1636628400@valleybusinessreport.com
SUMMARY:Credit Scores & Reports
DESCRIPTION:The Brownsville Chamber of Commerce and BBVA present a financial education Zoom workshop on credit scores and reports Nov. 11. \nIn this workshop\, participants will:\n\nExplore the importance of credit scores and reports\nLearn how to access information about your credit score and report\nDiscuss strategies to build and improve your credit\nIdentify how to protect your credit from incorrect claims and fraud\n\nThis event is free and open to the public. \nRegister online.\n\n\n	Related
URL:https://valleybusinessreport.com/event/credit-scores-reports-2/
LOCATION:Zoom
CATEGORIES:Seminars and Workshops
ATTACH;FMTTYPE=image/png:https://valleybusinessreport.com/wp-content/uploads/2021/11/11.11.21CreditScoresReports.png
ORGANIZER;CN="Brownsville Chamber of Commerce":MAILTO:info@brownsvillechamber.com
END:VEVENT
BEGIN:VEVENT
DTSTART;TZID=America/Chicago:20211102T090000
DTEND;TZID=America/Chicago:20211102T100000
DTSTAMP:20260425T112223
CREATED:20211027T182313Z
LAST-MODIFIED:20211027T182313Z
UID:10000675-1635843600-1635847200@valleybusinessreport.com
SUMMARY:Small Business Financial Statements Presented by Frost Bank
DESCRIPTION:Frost Bank in partnership with the Brownsville Chamber of Commerce\, UTRGV Small Business Development Center\, LiftFund and PeopleFund hosts a Small Business Financial Statements workshop Nov. 2. \nLearn how to create\, use and maintain three important financial statements: balance sheets\, profit and loss statements and cash flow statements. Explore how small businesses can use them to build a strong financial plan and strategy for continued growth. \nSpecial guest speakers include Patti Ayala\, senior vice president and community leader for Frost Corporate Banking; and Rocio Lucio\, assistance vice president of Frost Corporate Banking. \nRegister online.\n\n\n	Related
URL:https://valleybusinessreport.com/event/small-business-financial-statements-presented-by-frost-bank/
LOCATION:Brownsville Chamber of Commerce\, 1600 University Blvd.\, Brownsville\, TX\, 78520\, United States
CATEGORIES:Seminars and Workshops
ATTACH;FMTTYPE=image/png:https://valleybusinessreport.com/wp-content/uploads/2021/10/11.2.21FrostSmallBusinessOutreachSeminar.png
ORGANIZER;CN="Brownsville Chamber of Commerce":MAILTO:info@brownsvillechamber.com
GEO:25.8979742;-97.4945709
X-APPLE-STRUCTURED-LOCATION;VALUE=URI;X-ADDRESS=Brownsville Chamber of Commerce 1600 University Blvd. Brownsville TX 78520 United States;X-APPLE-RADIUS=500;X-TITLE=1600 University Blvd.:geo:-97.4945709,25.8979742
END:VEVENT
BEGIN:VEVENT
DTSTART;TZID=America/Chicago:20211026T100000
DTEND;TZID=America/Chicago:20211026T110000
DTSTAMP:20260425T112223
CREATED:20211019T184850Z
LAST-MODIFIED:20211019T184850Z
UID:10000519-1635242400-1635246000@valleybusinessreport.com
SUMMARY:Budgeting Webinar
DESCRIPTION:The Brownsville Chamber of Commerce and BBVA present a financial education virtual workshop on budgeting Oct. 26. \nIn this workshop\, participants will:\n\nExplore the importance of creating and maintaining a budget.\nExamine the differences between wants and needs.\nSet goals for spending\, saving\, and debt repayment.\n\nThis event is free and open to the public. \nRegister online.\n\n\n	Related
URL:https://valleybusinessreport.com/event/budgeting-webinar/
LOCATION:Webinar
ATTACH;FMTTYPE=image/jpeg:https://valleybusinessreport.com/wp-content/uploads/2019/04/budget.jpg
ORGANIZER;CN="Brownsville Chamber of Commerce":MAILTO:info@brownsvillechamber.com
END:VEVENT
BEGIN:VEVENT
DTSTART;TZID=America/Chicago:20210902T173000
DTEND;TZID=America/Chicago:20210902T193000
DTSTAMP:20260425T112223
CREATED:20210823T180412Z
LAST-MODIFIED:20210823T180412Z
UID:10000496-1630603800-1630611000@valleybusinessreport.com
SUMMARY:Digitally Empowered Community Mixer & Focus Group
DESCRIPTION:The Brownsville Chamber of Commerce and its Connect BTX Committee host a focus group Sept. 2 to determine the needs of the Brownsville area business community related to digital literacy. Attendees can also meet like-minded people. \nTopics for discussion include:\n\nYour experience with high-speed internet access and its impact on your organization.\nWhat obstacles your organization is facing in becoming digitally empowered.\nThoughts and feedback on the current state of the digital divide in our community.\n\nIn order to provide a comfortable and safe experience for all in attendance\, we will meet in the outdoors portion of the restaurant. This event is free and open to the community. \nRegister online. \nFor more information or assistance registering for the event\, contact the Brownsville Chamber of Commerce.\n\n\n	Related
URL:https://valleybusinessreport.com/event/digitally-empowered-community-mixer-focus-group/
LOCATION:Tingy Remix\, 2353 Old Port Isabel Road\, Brownsville\, TX\, United States
CATEGORIES:Networking
ATTACH;FMTTYPE=image/png:https://valleybusinessreport.com/wp-content/uploads/2021/08/DigitalCommunity.png
ORGANIZER;CN="Brownsville Chamber of Commerce":MAILTO:info@brownsvillechamber.com
END:VEVENT
BEGIN:VEVENT
DTSTART;TZID=America/Chicago:20210729T120000
DTEND;TZID=America/Chicago:20210729T130000
DTSTAMP:20260425T112223
CREATED:20210721T131234Z
LAST-MODIFIED:20210721T131450Z
UID:10000490-1627560000-1627563600@valleybusinessreport.com
SUMMARY:Lunch & Learn: Weathering a Financial Emergency
DESCRIPTION:Join the Brownsville Chamber of Commerce and BBVA for a financial education workshop July 29. Financial experts will provide information\, tips and resources to help you with your everyday finances and long-term financial goals. \nIn this workshop\, participants will:\n\nUnderstand the risks small businesses may face during a financial emergency.\nPrepare for financial emergencies by creating a personalized plan.\nSeek out and access resources provided specifically for small businesses.\n\nThis event is free and open to the community. \nRegister online.\n\n\n	Related
URL:https://valleybusinessreport.com/event/lunch-learn-weathering-a-financial-emergency/
LOCATION:Brownsville Chamber of Commerce\, 1600 University Blvd.\, Brownsville\, TX\, 78520\, United States
CATEGORIES:Seminars and Workshops
ATTACH;FMTTYPE=image/png:https://valleybusinessreport.com/wp-content/uploads/2021/07/7.29.21WeatheringaFinancialEmergency.png
ORGANIZER;CN="Brownsville Chamber of Commerce":MAILTO:info@brownsvillechamber.com
GEO:25.8979742;-97.4945709
X-APPLE-STRUCTURED-LOCATION;VALUE=URI;X-ADDRESS=Brownsville Chamber of Commerce 1600 University Blvd. Brownsville TX 78520 United States;X-APPLE-RADIUS=500;X-TITLE=1600 University Blvd.:geo:-97.4945709,25.8979742
END:VEVENT
BEGIN:VEVENT
DTSTART;TZID=America/Chicago:20210727T100000
DTEND;TZID=America/Chicago:20210727T110000
DTSTAMP:20260425T112223
CREATED:20210721T132205Z
LAST-MODIFIED:20210721T132205Z
UID:10000491-1627380000-1627383600@valleybusinessreport.com
SUMMARY:Chamber Connect +: 84th Anniversary Celebration
DESCRIPTION:The Brownsville Chamber of Commerce celebrates its 84th anniversary as an incorporated nonprofit on July 27 with Chamber Connect +. \nJoin the chamber to learn more about its history. Get to know what your local chamber of commerce can do for you and your business. \nAttendees will learn how to:\n\ntake advantage of membership benefits\njoin a committee\nstay connected with the members-only online portal\nset up a membership profile\n\nThis event is free and open to the public. \nRegister online.\n\n\n	Related
URL:https://valleybusinessreport.com/event/chamber-connect-84th-anniversary-celebration/
LOCATION:Brownsville Chamber of Commerce\, 1600 University Blvd.\, Brownsville\, TX\, 78520\, United States
CATEGORIES:Networking
ATTACH;FMTTYPE=image/png:https://valleybusinessreport.com/wp-content/uploads/2021/07/Brownsville-84thAnniversary.png
ORGANIZER;CN="Brownsville Chamber of Commerce":MAILTO:info@brownsvillechamber.com
GEO:25.8979742;-97.4945709
X-APPLE-STRUCTURED-LOCATION;VALUE=URI;X-ADDRESS=Brownsville Chamber of Commerce 1600 University Blvd. Brownsville TX 78520 United States;X-APPLE-RADIUS=500;X-TITLE=1600 University Blvd.:geo:-97.4945709,25.8979742
END:VEVENT
BEGIN:VEVENT
DTSTART;TZID=America/Chicago:20210714T140000
DTEND;TZID=America/Chicago:20210714T153000
DTSTAMP:20260425T112223
CREATED:20210623T140409Z
LAST-MODIFIED:20210623T140409Z
UID:10000606-1626271200-1626276600@valleybusinessreport.com
SUMMARY:SBA Federal Contracting Series: Federal HUBZone Program + Texas HUB Program Certification
DESCRIPTION:As part of the Federal Contracting Series\, the Brownsville Chamber of Commerce collaborates with the U.S. Small Business Administration and the UTRGV Procurement Technical Assistance Center for the Federal HUBZone Certification Program + Texas HUB Program Certification webinar July 14. \nThe federal government uses special programs to help small businesses win at least at 23 percent of all federal contracting dollars each year. \nTo help provide a level playing field for small businesses located in a HUBZone area the government limits competition for certain contracts to businesses that participate in the Federal HUBZone Programs. \nThe government’s goal is to award at least three percent of all contracting dollars to HUBZone-certified small businesses each year. The presenters will also cover the Texas HUB Program certification. \nDiscover and learn:\n\nIf government contracting is for you.\nThe benefits for being a certified firm.\nIf you qualify for the program.\nIf you are in a designated area.\nSteps on how to do business with the federal government.\n\nRegister online.\n\n\n	Related
URL:https://valleybusinessreport.com/event/sba-federal-contracting-series-federal-hubzone-program-texas-hub-program-certification/
LOCATION:Zoom
CATEGORIES:Seminars and Workshops
ATTACH;FMTTYPE=image/png:https://valleybusinessreport.com/wp-content/uploads/2021/06/FederalHUBZoneTexasHUB.png
ORGANIZER;CN="Brownsville Chamber of Commerce":MAILTO:info@brownsvillechamber.com
END:VEVENT
BEGIN:VEVENT
DTSTART;TZID=America/Chicago:20210707T100000
DTEND;TZID=America/Chicago:20210707T113000
DTSTAMP:20260425T112223
CREATED:20210623T135403Z
LAST-MODIFIED:20210623T135403Z
UID:10000590-1625652000-1625657400@valleybusinessreport.com
SUMMARY:SBA Federal Contracting Series: Women-Owned Small Business Program + PTAC Services
DESCRIPTION:As part of the Federal Contracting Series\, the Brownsville Chamber of Commerce collaborates with the U.S. Small Business Administration for the Women-Owned Small Business Program online workshop July 7. \nThe federal government’s goal is to award at least five percent of all federal contracting dollars to women-owned small businesses each year. \nAt this workshop\, attendees will learn about the Woman-Owned Small Business and the Economically Disadvantaged Woman Owned Small Business Program. They will also receive information on the benefits of being a WOSB certified firm. \nIn addition\, attendees will learn about WOSB’s application process and if they qualify for the programs. \nIf your business is owned and controlled by a woman\, and you have a product or service you can sell to the federal government\, and you want to take advantage of federal contracting opportunities\, then this workshop is for you. This is a no-cost informational session. \nRegister online.\n\n\n	Related
URL:https://valleybusinessreport.com/event/sba-federal-contracting-series-women-owned-small-business-program-ptac-services/
LOCATION:Zoom
CATEGORIES:Seminars and Workshops
ATTACH;FMTTYPE=image/png:https://valleybusinessreport.com/wp-content/uploads/2021/06/WOSBPTAC.png
ORGANIZER;CN="Brownsville Chamber of Commerce":MAILTO:info@brownsvillechamber.com
END:VEVENT
BEGIN:VEVENT
DTSTART;TZID=America/Chicago:20210701T170000
DTEND;TZID=America/Chicago:20210701T193000
DTSTAMP:20260425T112223
CREATED:20210623T041359Z
LAST-MODIFIED:20210623T041359Z
UID:10000584-1625158800-1625167800@valleybusinessreport.com
SUMMARY:Freedom Celebration Mixer Presented by Texas Regional Bank
DESCRIPTION:The Brownsville Chamber of Commerce hosts the return of the Freedom Celebration Mixer Presented by Texas Regional Bank July 1 at 5 p.m. Join the chamber for live music\, food\, snacks and drinks. Network with colleagues and friends. \nMembers of the chamber can register for $20 and nonmembers may register for $25 per person. \nRegister online.\n\n\n	Related
URL:https://valleybusinessreport.com/event/freedom-celebration-mixer-presented-by-texas-regional-bank-2/
LOCATION:Texas Regional Bank – Brownsville\, 3450 Pablo Kisel Blvd.\, Brownsville\, TX\, 78526\, United States
CATEGORIES:Networking
ATTACH;FMTTYPE=image/png:https://valleybusinessreport.com/wp-content/uploads/2021/06/Freedom-Celebration-Mixer.png
ORGANIZER;CN="Brownsville Chamber of Commerce":MAILTO:info@brownsvillechamber.com
END:VEVENT
BEGIN:VEVENT
DTSTART;TZID=America/Chicago:20210420T100000
DTEND;TZID=America/Chicago:20210420T110000
DTSTAMP:20260425T112223
CREATED:20210414T211145Z
LAST-MODIFIED:20210414T211145Z
UID:10000571-1618912800-1618916400@valleybusinessreport.com
SUMMARY:Preparing for a Financial Emergency
DESCRIPTION:Join the Brownsville Chamber of Commerce and BBVA April 20 for a virtual financial education workshop. In this workshop\, financial experts provide information\, tips and resources to help with everyday finances and long-term financial goals. \nIn this workshop\, participants will:\n\nUnderstand what a financial emergency is and how to prepare for it\nUnderstand the importance of having an emergency savings plan\nLearn tools and resources to develop and implement an emergency savings strategy\nDevelop skills to protect themselves during times of financial emergency or uncertainty\n\nThis event is free and open to the public. \nRegister online.\n\n\n	Related
URL:https://valleybusinessreport.com/event/preparing-for-a-financial-emergency/
LOCATION:Online\, TX\, United States
CATEGORIES:Seminars and Workshops
ATTACH;FMTTYPE=image/png:https://valleybusinessreport.com/wp-content/uploads/2021/04/4.20.21PreparingforaFinancialEmergency.png
ORGANIZER;CN="Brownsville Chamber of Commerce":MAILTO:info@brownsvillechamber.com
END:VEVENT
END:VCALENDAR