BEGIN:VCALENDAR
VERSION:2.0
PRODID:-//VBR - ECPv6.15.17.1//NONSGML v1.0//EN
CALSCALE:GREGORIAN
METHOD:PUBLISH
X-ORIGINAL-URL:https://valleybusinessreport.com
X-WR-CALDESC:Events for VBR
REFRESH-INTERVAL;VALUE=DURATION:PT1H
X-Robots-Tag:noindex
X-PUBLISHED-TTL:PT1H
BEGIN:VTIMEZONE
TZID:America/Chicago
BEGIN:DAYLIGHT
TZOFFSETFROM:-0600
TZOFFSETTO:-0500
TZNAME:CDT
DTSTART:20220313T080000
END:DAYLIGHT
BEGIN:STANDARD
TZOFFSETFROM:-0500
TZOFFSETTO:-0600
TZNAME:CST
DTSTART:20221106T070000
END:STANDARD
BEGIN:DAYLIGHT
TZOFFSETFROM:-0600
TZOFFSETTO:-0500
TZNAME:CDT
DTSTART:20230312T080000
END:DAYLIGHT
BEGIN:STANDARD
TZOFFSETFROM:-0500
TZOFFSETTO:-0600
TZNAME:CST
DTSTART:20231105T070000
END:STANDARD
BEGIN:DAYLIGHT
TZOFFSETFROM:-0600
TZOFFSETTO:-0500
TZNAME:CDT
DTSTART:20240310T080000
END:DAYLIGHT
BEGIN:STANDARD
TZOFFSETFROM:-0500
TZOFFSETTO:-0600
TZNAME:CST
DTSTART:20241103T070000
END:STANDARD
END:VTIMEZONE
BEGIN:VEVENT
DTSTART;TZID=America/Chicago:20231215T170000
DTEND;TZID=America/Chicago:20231215T190000
DTSTAMP:20260423T112712
CREATED:20231212T211639Z
LAST-MODIFIED:20231212T211639Z
UID:10001058-1702659600-1702666800@valleybusinessreport.com
SUMMARY:Historical Happy Hour: Ugly Christmas Sweater Contest
DESCRIPTION:The Brownsville Historical Association is having a party on Dec. 15 and things are going to get UGLY. Wear a Ho-Ho-Horrible Holiday sweater with a prize going to the person wearing the ugliest sweater. \nBHA will also toast to the holidays with friends and good cheer. This month’s happy hour is sponsored by L&F Distributors. Attendees must be 21 years and older. \nThis event is free for BHA members\, $15 if you RSVP and pay before the event\, $20 at the door. No refunds. \nFor more information\, call 956-541-5560. \n\n\n	Related
URL:https://valleybusinessreport.com/event/historical-happy-hour-ugly-christmas-sweater-contest/
LOCATION:Brownsville Heritage Museum\, 1325 E. Washington Street\, Brownsville\, United States
CATEGORIES:Festivals and Celebrations
ATTACH;FMTTYPE=image/webp:https://valleybusinessreport.com/wp-content/uploads/2023/12/8_hhh-dec-15-1200-4.webp
END:VEVENT
BEGIN:VEVENT
DTSTART;TZID=America/Chicago:20231117T170000
DTEND;TZID=America/Chicago:20231117T190000
DTSTAMP:20260423T112712
CREATED:20231114T191309Z
LAST-MODIFIED:20231114T191309Z
UID:10001044-1700240400-1700247600@valleybusinessreport.com
SUMMARY:Historical Happy Hour: Wine Tasting
DESCRIPTION:It’s the holiday season! Gather your friends and join the Brownsville Historical Association at the Laureles Ranch House Museum on Nov. 17 for a chance to sample an assortment of wine; perfect for your holiday gatherings. This month’s happy hour is sponsored by L&F Distributors. Attendees must be 21 years and older. \nAdmission is free for BHA members\, $15 when you RSVP\, $20 at the door. No refunds. \n\n\n	Related
URL:https://valleybusinessreport.com/event/historical-happy-hour-wine-tasting/
LOCATION:Laureles Ranch House in Linear Park\, 1501 E. 7th Street\, Brownsville\, United States
CATEGORIES:Festivals and Celebrations
ATTACH;FMTTYPE=image/jpeg:https://valleybusinessreport.com/wp-content/uploads/2023/11/wine.jpg
END:VEVENT
BEGIN:VEVENT
DTSTART;TZID=America/Chicago:20231027T170000
DTEND;TZID=America/Chicago:20231027T190000
DTSTAMP:20260423T112712
CREATED:20231020T005839Z
LAST-MODIFIED:20231020T005915Z
UID:10001030-1698426000-1698433200@valleybusinessreport.com
SUMMARY:Historical Happy Hour: Halloween Costume Contest
DESCRIPTION:Do you have what it takes to win the Brownsville Historical Association‘s Halloween costume contest on Oct. 27? Come in your scariest or unique attire to win some awesome goodies. \nEveryone is encouraged to wear their spookiest outfit (even if you are not participating in the contest). This month’s happy hour is sponsored by L&F Distributors. Attendees must be 21 years & older. \nFree for BHA members\, $15 when you RSVP\, $20 at the door. No refunds. \nFor more information and to make a reservation\, call 956-548-1313. \n\n\n	Related
URL:https://valleybusinessreport.com/event/historical-happy-hour-halloween-costume-contest/
LOCATION:Historic Brownsville Museum\, 641 E. Madison Street\, Brownsville\, TX\, 78520\, United States
CATEGORIES:Festivals and Celebrations
ATTACH;FMTTYPE=image/jpeg:https://valleybusinessreport.com/wp-content/uploads/2023/10/BHA-Halloween-costume-contest.jpg
END:VEVENT
BEGIN:VEVENT
DTSTART;TZID=America/Chicago:20231020T183000
DTEND;TZID=America/Chicago:20231020T193000
DTSTAMP:20260423T112712
CREATED:20231017T192955Z
LAST-MODIFIED:20231017T192955Z
UID:10001022-1697826600-1697830200@valleybusinessreport.com
SUMMARY:Shades of Haunted History Walking Tour: Downtown Brownsville
DESCRIPTION:Uncover the spooky past of Brownsville with Shades of Haunted History Walking Tour: Downtown Brownsville on Oct. 20. The Brownsville Historical Association is offering two downtown tours. The first tour begins at 6:30 p.m. and will be led by Anthony Knopp\, professor emeritus at UTRGV. The second tour begins at 7:30 p.m. and will be led by Michael Rodriguez. \nThere is a 25-person limit. Tickets are $10 for members and $15 for non-members. No refunds. \nTo register\, call 956-541-5560. \n\n\n	Related
URL:https://valleybusinessreport.com/event/shades-of-haunted-history-walking-tour-downtown-brownsville/
LOCATION:Brownsville Heritage Museum\, 1325 E. Washington Street\, Brownsville\, United States
CATEGORIES:Tours
ATTACH;FMTTYPE=image/jpeg:https://valleybusinessreport.com/wp-content/uploads/2023/10/haunted.jpg
END:VEVENT
END:VCALENDAR