BEGIN:VCALENDAR
VERSION:2.0
PRODID:-//VBR - ECPv6.15.17.1//NONSGML v1.0//EN
CALSCALE:GREGORIAN
METHOD:PUBLISH
X-ORIGINAL-URL:https://valleybusinessreport.com
X-WR-CALDESC:Events for VBR
REFRESH-INTERVAL;VALUE=DURATION:PT1H
X-Robots-Tag:noindex
X-PUBLISHED-TTL:PT1H
BEGIN:VTIMEZONE
TZID:America/Chicago
BEGIN:DAYLIGHT
TZOFFSETFROM:-0600
TZOFFSETTO:-0500
TZNAME:CDT
DTSTART:20210314T080000
END:DAYLIGHT
BEGIN:STANDARD
TZOFFSETFROM:-0500
TZOFFSETTO:-0600
TZNAME:CST
DTSTART:20211107T070000
END:STANDARD
BEGIN:DAYLIGHT
TZOFFSETFROM:-0600
TZOFFSETTO:-0500
TZNAME:CDT
DTSTART:20220313T080000
END:DAYLIGHT
BEGIN:STANDARD
TZOFFSETFROM:-0500
TZOFFSETTO:-0600
TZNAME:CST
DTSTART:20221106T070000
END:STANDARD
BEGIN:DAYLIGHT
TZOFFSETFROM:-0600
TZOFFSETTO:-0500
TZNAME:CDT
DTSTART:20230312T080000
END:DAYLIGHT
BEGIN:STANDARD
TZOFFSETFROM:-0500
TZOFFSETTO:-0600
TZNAME:CST
DTSTART:20231105T070000
END:STANDARD
BEGIN:DAYLIGHT
TZOFFSETFROM:-0600
TZOFFSETTO:-0500
TZNAME:CDT
DTSTART:20240310T080000
END:DAYLIGHT
BEGIN:STANDARD
TZOFFSETFROM:-0500
TZOFFSETTO:-0600
TZNAME:CST
DTSTART:20241103T070000
END:STANDARD
END:VTIMEZONE
BEGIN:VEVENT
DTSTART;TZID=America/Chicago:20230714T200000
DTEND;TZID=America/Chicago:20230714T200000
DTSTAMP:20260421T143500
CREATED:20230711T213937Z
LAST-MODIFIED:20230711T213937Z
UID:10000955-1689364800-1689364800@valleybusinessreport.com
SUMMARY:Movies With A Cop
DESCRIPTION:The Edinburg Police Department invites the public to join them for Movies with a Cop with a showing of “DC League of Super-Pets.” This fun event offers movie showings every Friday at 8 p.m. at the Municipal Park\, field #1\, through Aug. 11. \n\n\n	Related
URL:https://valleybusinessreport.com/event/movies-with-a-cop/
LOCATION:Edinburg Municipal Park\, 714 S Raul Longoria Road\, Edinburg\, TX\, 78542\, United States
CATEGORIES:Entertainment
ATTACH;FMTTYPE=image/jpeg:https://valleybusinessreport.com/wp-content/uploads/2023/07/movie-with-a-cop.jpg
END:VEVENT
BEGIN:VEVENT
DTSTART;TZID=America/Chicago:20221202T180000
DTEND;TZID=America/Chicago:20221202T220000
DTSTAMP:20260421T143500
CREATED:20221128T200209Z
LAST-MODIFIED:20221128T200209Z
UID:10000862-1670004000-1670018400@valleybusinessreport.com
SUMMARY:Fire Stoppers Festival
DESCRIPTION:The Edinburg Fire Department and the City of Edinburg invites the public to its annual Fire Stoppers Festival on Dec. 2. Families can enjoy a night of fun\, food\, kid’s rides\, entertainment and live music performances by Tejano Highway 281\, Conjunto Cats\, Spare Parts and Frankie Caballero Jr. \nBring your lawn chairs and blankets while you enjoy the music at the new amphitheater. \nFor more information\, call 956-378-5525.\n\n\n	Related
URL:https://valleybusinessreport.com/event/fire-stoppers-festival/
LOCATION:Edinburg Central Fire Station\, 212 W. McIntyre St.\, Edinburg\, TX\, United States
CATEGORIES:Festivals and Celebrations
ATTACH;FMTTYPE=image/jpeg:https://valleybusinessreport.com/wp-content/uploads/2022/11/Santa-and-Sirens-Firestoppers-Fest.jpg
END:VEVENT
END:VCALENDAR