BEGIN:VCALENDAR
VERSION:2.0
PRODID:-//VBR - ECPv6.15.17.1//NONSGML v1.0//EN
CALSCALE:GREGORIAN
METHOD:PUBLISH
X-ORIGINAL-URL:https://valleybusinessreport.com
X-WR-CALDESC:Events for VBR
REFRESH-INTERVAL;VALUE=DURATION:PT1H
X-Robots-Tag:noindex
X-PUBLISHED-TTL:PT1H
BEGIN:VTIMEZONE
TZID:America/Chicago
BEGIN:DAYLIGHT
TZOFFSETFROM:-0600
TZOFFSETTO:-0500
TZNAME:CDT
DTSTART:20220313T080000
END:DAYLIGHT
BEGIN:STANDARD
TZOFFSETFROM:-0500
TZOFFSETTO:-0600
TZNAME:CST
DTSTART:20221106T070000
END:STANDARD
BEGIN:DAYLIGHT
TZOFFSETFROM:-0600
TZOFFSETTO:-0500
TZNAME:CDT
DTSTART:20230312T080000
END:DAYLIGHT
BEGIN:STANDARD
TZOFFSETFROM:-0500
TZOFFSETTO:-0600
TZNAME:CST
DTSTART:20231105T070000
END:STANDARD
BEGIN:DAYLIGHT
TZOFFSETFROM:-0600
TZOFFSETTO:-0500
TZNAME:CDT
DTSTART:20240310T080000
END:DAYLIGHT
BEGIN:STANDARD
TZOFFSETFROM:-0500
TZOFFSETTO:-0600
TZNAME:CST
DTSTART:20241103T070000
END:STANDARD
END:VTIMEZONE
BEGIN:VEVENT
DTSTART;TZID=America/Chicago:20231202T150000
DTEND;TZID=America/Chicago:20231202T230000
DTSTAMP:20260421T160330
CREATED:20231129T183303Z
LAST-MODIFIED:20231129T183607Z
UID:10001050-1701529200-1701558000@valleybusinessreport.com
SUMMARY:McAllen Holiday Parade & Christmas in the Park 2023
DESCRIPTION:The 2023 McAllen Holiday Parade returns live on Dec. 2 with the largest holiday and helium balloon parade in Texas returning. \nEvents include: \n\n1.5 Mile stadium and street parade route\nCheer to twirl your favorite giant character\nBalloons in the new “Vuelta Zones”\nIlluminated floats and surprises\nCelebrity hosts and guest appearances\nMarching bands and dance teams\nChristmas in the Park\n\nFor more information\, visit mcallenholidayparade.com.\n\n\n	Related
URL:https://valleybusinessreport.com/event/mcallen-holiday-parade-christmas-in-the-park-2023/
LOCATION:McAllen Municipal Park\, 1921 North Bicentennial Blvd.\, McAllen\, TX\, United States
CATEGORIES:Festivals and Celebrations
ATTACH;FMTTYPE=image/jpeg:https://valleybusinessreport.com/wp-content/uploads/2023/11/IG_McAllen-Holiday-Parade.jpg
END:VEVENT
BEGIN:VEVENT
DTSTART;TZID=America/Chicago:20230415T080000
DTEND;TZID=America/Chicago:20230415T160000
DTSTAMP:20260421T160330
CREATED:20230405T155549Z
LAST-MODIFIED:20230405T155549Z
UID:10000739-1681545600-1681574400@valleybusinessreport.com
SUMMARY:McAllen Passport Fair
DESCRIPTION:The City of McAllen Passport Division Facility hosts a Passport Fair on April 15 from 8 a.m. to 4 p.m. at the City of McAllen Passport Facility in the Downtown Parking Garage at 221 South 15th Street. \n“Passport processing times have been extended and we want to make sure that anyone wishing to travel has their required documents in time\,” said Norma Rodriguez\, Passport Facility administrator. \nAppointments are not required for the Passport Fair and walk-ins are accepted on a first-come first-serve basis. If an appointment is preferred\, schedule by calling 956-681-1450. \nFor passport information\, fees and forms\, visit mcallen.net or travel.state.gov.\n\n\n	Related
URL:https://valleybusinessreport.com/event/mcallen-passport-fair/
LOCATION:City of McAllen Passport Facility (Downtown Parking Garage)\, 221 South 15th Street\, McAlllen\, TX\, United States
ATTACH;FMTTYPE=image/jpeg:https://valleybusinessreport.com/wp-content/uploads/2023/04/passport.jpg
END:VEVENT
END:VCALENDAR