BEGIN:VCALENDAR
VERSION:2.0
PRODID:-//VBR - ECPv6.15.17.1//NONSGML v1.0//EN
CALSCALE:GREGORIAN
METHOD:PUBLISH
X-ORIGINAL-URL:https://valleybusinessreport.com
X-WR-CALDESC:Events for VBR
REFRESH-INTERVAL;VALUE=DURATION:PT1H
X-Robots-Tag:noindex
X-PUBLISHED-TTL:PT1H
BEGIN:VTIMEZONE
TZID:America/Chicago
BEGIN:DAYLIGHT
TZOFFSETFROM:-0600
TZOFFSETTO:-0500
TZNAME:CDT
DTSTART:20200308T080000
END:DAYLIGHT
BEGIN:STANDARD
TZOFFSETFROM:-0500
TZOFFSETTO:-0600
TZNAME:CST
DTSTART:20201101T070000
END:STANDARD
BEGIN:DAYLIGHT
TZOFFSETFROM:-0600
TZOFFSETTO:-0500
TZNAME:CDT
DTSTART:20210314T080000
END:DAYLIGHT
BEGIN:STANDARD
TZOFFSETFROM:-0500
TZOFFSETTO:-0600
TZNAME:CST
DTSTART:20211107T070000
END:STANDARD
BEGIN:DAYLIGHT
TZOFFSETFROM:-0600
TZOFFSETTO:-0500
TZNAME:CDT
DTSTART:20220313T080000
END:DAYLIGHT
BEGIN:STANDARD
TZOFFSETFROM:-0500
TZOFFSETTO:-0600
TZNAME:CST
DTSTART:20221106T070000
END:STANDARD
END:VTIMEZONE
BEGIN:VEVENT
DTSTART;TZID=America/Chicago:20210913T080000
DTEND;TZID=America/Chicago:20210913T170000
DTSTAMP:20260421T180352
CREATED:20210913T203425Z
LAST-MODIFIED:20210913T203425Z
UID:10000503-1631520000-1631552400@valleybusinessreport.com
SUMMARY:Food Trucks N' Tunes Edinburg Chamber Night
DESCRIPTION:Join the Edinburg Chamber of Commerce and the Edinburg Arts Foundation for a special Food Trucks N’ Tunes Edinburg Chamber Night Sept. 17 at City Hall. \nFrom 6-10 p.m.\, attendees can visit food trucks and vendors while taking in live music by Eras & The Drifters. This event is free to the public. Dogs on a leashes are welcome. \nFor more information on vendor opportunities\, contact the Edinburg Arts Foundation.\n\n\n	Related
URL:https://valleybusinessreport.com/event/food-trucks-n-tunes-edinburg-chamber-night/
LOCATION:Edinburg City Hall\, 415 W. University Drive\, Edinburg\, TX\, 78539\, United States
CATEGORIES:Festivals and Celebrations
ATTACH;FMTTYPE=image/jpeg:https://valleybusinessreport.com/wp-content/uploads/2021/09/Food-Trucks-N-Tunes.jpg
END:VEVENT
END:VCALENDAR