BEGIN:VCALENDAR
VERSION:2.0
PRODID:-//VBR - ECPv6.15.17.1//NONSGML v1.0//EN
CALSCALE:GREGORIAN
METHOD:PUBLISH
X-WR-CALNAME:VBR
X-ORIGINAL-URL:https://valleybusinessreport.com
X-WR-CALDESC:Events for VBR
REFRESH-INTERVAL;VALUE=DURATION:PT1H
X-Robots-Tag:noindex
X-PUBLISHED-TTL:PT1H
BEGIN:VTIMEZONE
TZID:America/Chicago
BEGIN:DAYLIGHT
TZOFFSETFROM:-0600
TZOFFSETTO:-0500
TZNAME:CDT
DTSTART:20220313T080000
END:DAYLIGHT
BEGIN:STANDARD
TZOFFSETFROM:-0500
TZOFFSETTO:-0600
TZNAME:CST
DTSTART:20221106T070000
END:STANDARD
BEGIN:DAYLIGHT
TZOFFSETFROM:-0600
TZOFFSETTO:-0500
TZNAME:CDT
DTSTART:20230312T080000
END:DAYLIGHT
BEGIN:STANDARD
TZOFFSETFROM:-0500
TZOFFSETTO:-0600
TZNAME:CST
DTSTART:20231105T070000
END:STANDARD
BEGIN:DAYLIGHT
TZOFFSETFROM:-0600
TZOFFSETTO:-0500
TZNAME:CDT
DTSTART:20240310T080000
END:DAYLIGHT
BEGIN:STANDARD
TZOFFSETFROM:-0500
TZOFFSETTO:-0600
TZNAME:CST
DTSTART:20241103T070000
END:STANDARD
BEGIN:DAYLIGHT
TZOFFSETFROM:-0600
TZOFFSETTO:-0500
TZNAME:CDT
DTSTART:20250309T080000
END:DAYLIGHT
BEGIN:STANDARD
TZOFFSETFROM:-0500
TZOFFSETTO:-0600
TZNAME:CST
DTSTART:20251102T070000
END:STANDARD
END:VTIMEZONE
BEGIN:VEVENT
DTSTART;TZID=America/Chicago:20240828T113000
DTEND;TZID=America/Chicago:20240828T133000
DTSTAMP:20260421T112231
CREATED:20240819T191633Z
LAST-MODIFIED:20240819T191633Z
UID:10001155-1724844600-1724851800@valleybusinessreport.com
SUMMARY:McAllen Chamber Government Affairs Update Luncheon
DESCRIPTION:The McAllen Chamber hosts its Government Affairs Update Luncheon on Aug. 28\, featuring local legislators participating in a panel discussion and providing updates on important developments across the RGV and state. \nJoining are Sen. Juan “Chuy” Hinjosa\, Sen. Morgan LaMantia\, and state representatives R.D. Bobby Guerra\, Amando “Mando” Martinez and Sergio Munoz Jr. \nTickets are $45 each; $1\,000 per table. RSVP by contacting Gerry Garcia. \n\n\n	Related
URL:https://valleybusinessreport.com/event/mcallen-chamber-government-affairs-update-luncheon/
LOCATION:Embassy Suites by Hilton\, 800 Convention Center Blvd.\, McAllen\, TX\, 78501\, United States
CATEGORIES:Speakers
ATTACH;FMTTYPE=image/jpeg:https://valleybusinessreport.com/wp-content/uploads/2024/08/Government-Affairs-Update-Luncheon.jpg
END:VEVENT
BEGIN:VEVENT
DTSTART;TZID=America/Chicago:20240322T113000
DTEND;TZID=America/Chicago:20240322T130000
DTSTAMP:20260421T112231
CREATED:20240304T182258Z
LAST-MODIFIED:20240304T182627Z
UID:10001100-1711107000-1711112400@valleybusinessreport.com
SUMMARY:Legendary Women’s Luncheon
DESCRIPTION:The McAllen Chamber of Commerce hosts its annual Legendary Women’s Luncheon on March 22. The special event celebrates the achievements of trailblazing women who have left an enduring impact on the McAllen community. \nRSVP by March 19 with Gerry Garcia. \n\n\n	Related
URL:https://valleybusinessreport.com/event/legendary-womens-luncheon/
LOCATION:McAllen Convention Center\, 700 Convention Center Boulevard\, McAllen\, TX\, United States
CATEGORIES:Awards and Recognitions
ATTACH;FMTTYPE=image/webp:https://valleybusinessreport.com/wp-content/uploads/2024/03/McAllen-Woman-2024.webp
END:VEVENT
BEGIN:VEVENT
DTSTART;TZID=America/Chicago:20231215T113000
DTEND;TZID=America/Chicago:20231215T133000
DTSTAMP:20260421T112231
CREATED:20231212T212743Z
LAST-MODIFIED:20231212T212743Z
UID:10001059-1702639800-1702647000@valleybusinessreport.com
SUMMARY:Business & Tamales Holiday Open House
DESCRIPTION:Connect with fellow McAllen Chamber of Commerce members on Dec. 15 with the Business & Tamales Holiday Open House. Tamales are provided by Delia’s Tamales. \nRSVP with Gerry Garcia. \n\n\n	Related
URL:https://valleybusinessreport.com/event/business-tamales-holiday-open-house/
LOCATION:McAllen Chamber of Commerce\, 1200 Ash Ave.\, McAllen\, TX\, 78501\, United States
CATEGORIES:Networking
ATTACH;FMTTYPE=image/png:https://valleybusinessreport.com/wp-content/uploads/2023/12/Business-Tamales.png
END:VEVENT
END:VCALENDAR