BEGIN:VCALENDAR
VERSION:2.0
PRODID:-//VBR - ECPv6.15.17.1//NONSGML v1.0//EN
CALSCALE:GREGORIAN
METHOD:PUBLISH
X-ORIGINAL-URL:https://valleybusinessreport.com
X-WR-CALDESC:Events for VBR
REFRESH-INTERVAL;VALUE=DURATION:PT1H
X-Robots-Tag:noindex
X-PUBLISHED-TTL:PT1H
BEGIN:VTIMEZONE
TZID:America/Chicago
BEGIN:DAYLIGHT
TZOFFSETFROM:-0600
TZOFFSETTO:-0500
TZNAME:CDT
DTSTART:20220313T080000
END:DAYLIGHT
BEGIN:STANDARD
TZOFFSETFROM:-0500
TZOFFSETTO:-0600
TZNAME:CST
DTSTART:20221106T070000
END:STANDARD
BEGIN:DAYLIGHT
TZOFFSETFROM:-0600
TZOFFSETTO:-0500
TZNAME:CDT
DTSTART:20230312T080000
END:DAYLIGHT
BEGIN:STANDARD
TZOFFSETFROM:-0500
TZOFFSETTO:-0600
TZNAME:CST
DTSTART:20231105T070000
END:STANDARD
BEGIN:DAYLIGHT
TZOFFSETFROM:-0600
TZOFFSETTO:-0500
TZNAME:CDT
DTSTART:20240310T080000
END:DAYLIGHT
BEGIN:STANDARD
TZOFFSETFROM:-0500
TZOFFSETTO:-0600
TZNAME:CST
DTSTART:20241103T070000
END:STANDARD
END:VTIMEZONE
BEGIN:VEVENT
DTSTART;TZID=America/Chicago:20231006T180000
DTEND;TZID=America/Chicago:20231006T210000
DTSTAMP:20260421T171226
CREATED:20231003T193323Z
LAST-MODIFIED:20231003T193439Z
UID:10001010-1696615200-1696626000@valleybusinessreport.com
SUMMARY:Art Walk
DESCRIPTION:McAllen Creative Incubator hosts an Art Walk on Oct. 6\, featuring local vendors\, exhibits with original work\, live entertainment and more. \nThis family-friendly event is free and open to the public. \n\n\n	Related
URL:https://valleybusinessreport.com/event/art-walk-2/
LOCATION:McAllen Creative Incubator\, 601 N Main Street\, McAllen\, TX\, 78504\, United States
CATEGORIES:Arts
ATTACH;FMTTYPE=image/webp:https://valleybusinessreport.com/wp-content/uploads/2023/10/Artwalk_Oct-2023.webp
END:VEVENT
END:VCALENDAR