BEGIN:VCALENDAR
VERSION:2.0
PRODID:-//VBR - ECPv6.15.17.1//NONSGML v1.0//EN
CALSCALE:GREGORIAN
METHOD:PUBLISH
X-ORIGINAL-URL:https://valleybusinessreport.com
X-WR-CALDESC:Events for VBR
REFRESH-INTERVAL;VALUE=DURATION:PT1H
X-Robots-Tag:noindex
X-PUBLISHED-TTL:PT1H
BEGIN:VTIMEZONE
TZID:America/Chicago
BEGIN:DAYLIGHT
TZOFFSETFROM:-0600
TZOFFSETTO:-0500
TZNAME:CDT
DTSTART:20220313T080000
END:DAYLIGHT
BEGIN:STANDARD
TZOFFSETFROM:-0500
TZOFFSETTO:-0600
TZNAME:CST
DTSTART:20221106T070000
END:STANDARD
BEGIN:DAYLIGHT
TZOFFSETFROM:-0600
TZOFFSETTO:-0500
TZNAME:CDT
DTSTART:20230312T080000
END:DAYLIGHT
BEGIN:STANDARD
TZOFFSETFROM:-0500
TZOFFSETTO:-0600
TZNAME:CST
DTSTART:20231105T070000
END:STANDARD
BEGIN:DAYLIGHT
TZOFFSETFROM:-0600
TZOFFSETTO:-0500
TZNAME:CDT
DTSTART:20240310T080000
END:DAYLIGHT
BEGIN:STANDARD
TZOFFSETFROM:-0500
TZOFFSETTO:-0600
TZNAME:CST
DTSTART:20241103T070000
END:STANDARD
END:VTIMEZONE
BEGIN:VEVENT
DTSTART;TZID=America/Chicago:20230825T090000
DTEND;TZID=America/Chicago:20230825T153000
DTSTAMP:20260421T100526
CREATED:20230822T184255Z
LAST-MODIFIED:20230822T184556Z
UID:10000986-1692954000-1692977400@valleybusinessreport.com
SUMMARY:Free Young Adult Health Summit
DESCRIPTION:Calling all South Texas young adults. Come out to this free event on Aug. 25 during the sixth annual South Texas Adolescent Health Summit. Make new friends and hear from cool and inspiring speakers about contraception\, healthy relationships and more. \nThe event includes free food and a $50 stipend. Only open to young adults ages 17-24. \nRegister online. \n\n\n	Related
URL:https://valleybusinessreport.com/event/free-young-adult-health-summit/
LOCATION:McAllen Convention Center\, 700 Convention Center Boulevard\, McAllen\, TX\, United States
CATEGORIES:Festivals and Celebrations
ATTACH;FMTTYPE=image/jpeg:https://valleybusinessreport.com/wp-content/uploads/2023/08/YA-Summit.jpg
ORGANIZER;CN="Melanie Chasteen%2C Sr. Director%2C Community Engagement Healthy Futures of Texas":MAILTO:mchasteen@healthyfutures-tx.org
END:VEVENT
END:VCALENDAR