BEGIN:VCALENDAR
VERSION:2.0
PRODID:-//VBR - ECPv6.15.17.1//NONSGML v1.0//EN
CALSCALE:GREGORIAN
METHOD:PUBLISH
X-ORIGINAL-URL:https://valleybusinessreport.com
X-WR-CALDESC:Events for VBR
REFRESH-INTERVAL;VALUE=DURATION:PT1H
X-Robots-Tag:noindex
X-PUBLISHED-TTL:PT1H
BEGIN:VTIMEZONE
TZID:America/Chicago
BEGIN:DAYLIGHT
TZOFFSETFROM:-0600
TZOFFSETTO:-0500
TZNAME:CDT
DTSTART:20210314T080000
END:DAYLIGHT
BEGIN:STANDARD
TZOFFSETFROM:-0500
TZOFFSETTO:-0600
TZNAME:CST
DTSTART:20211107T070000
END:STANDARD
BEGIN:DAYLIGHT
TZOFFSETFROM:-0600
TZOFFSETTO:-0500
TZNAME:CDT
DTSTART:20220313T080000
END:DAYLIGHT
BEGIN:STANDARD
TZOFFSETFROM:-0500
TZOFFSETTO:-0600
TZNAME:CST
DTSTART:20221106T070000
END:STANDARD
BEGIN:DAYLIGHT
TZOFFSETFROM:-0600
TZOFFSETTO:-0500
TZNAME:CDT
DTSTART:20230312T080000
END:DAYLIGHT
BEGIN:STANDARD
TZOFFSETFROM:-0500
TZOFFSETTO:-0600
TZNAME:CST
DTSTART:20231105T070000
END:STANDARD
END:VTIMEZONE
BEGIN:VEVENT
DTSTART;TZID=America/Chicago:20221209T190000
DTEND;TZID=America/Chicago:20221209T203000
DTSTAMP:20260421T103817
CREATED:20221206T192551Z
LAST-MODIFIED:20221206T192551Z
UID:10000877-1670612400-1670617800@valleybusinessreport.com
SUMMARY:Mercedes Annual Christmas Lighted Parade
DESCRIPTION:The Mercedes Chamber of Commerce presents the annual Lighted Christmas Parade on Dec. 9 with the theme “A Sweet Christmas on Candy Cane Lane.” The parade begins at 7 p.m. on Sixth Street and will travel north on Texas Avenue into the Rio Grande Valley Livestock Show Grounds. \nContact the Mercedes Chamber of Commerce for information.\n\n\n	Related
URL:https://valleybusinessreport.com/event/mercedes-annual-christmas-lighted-parade/
LOCATION:Mercedes\, 6th Street\, Mercedes\, TX\, United States
CATEGORIES:Festivals and Celebrations
END:VEVENT
BEGIN:VEVENT
DTSTART;TZID=America/Chicago:20221207T160000
DTEND;TZID=America/Chicago:20221207T180000
DTSTAMP:20260421T103817
CREATED:20221128T205513Z
LAST-MODIFIED:20221128T205513Z
UID:10000874-1670428800-1670436000@valleybusinessreport.com
SUMMARY:Winter Texan Reception
DESCRIPTION:The Mercedes Chamber of Commerce hosts a Winter Texan Welcome Back Reception on Dec. 7 at the Youth Center at the Rio Grande Valley Livestock Show Grounds. Winter Texans are invited to attend and enjoy refreshments and entertainment to welcome them back to the Valley and Mercedes. \n\n\n	Related
URL:https://valleybusinessreport.com/event/winter-texan-reception/
LOCATION:Rio Grande Valley Livestock Show Grounds\, 1000 North Texas Ave.\, Mercedes\, TX\, United States
CATEGORIES:Festivals and Celebrations
END:VEVENT
BEGIN:VEVENT
DTSTART;TZID=America/Chicago:20221118T180000
DTEND;TZID=America/Chicago:20221118T220000
DTSTAMP:20260421T103817
CREATED:20221116T204058Z
LAST-MODIFIED:20221116T204058Z
UID:10000823-1668794400-1668808800@valleybusinessreport.com
SUMMARY:Christmas Tree Lighting and Little Nashville
DESCRIPTION:The City of Mercedes/Mercedes Chamber of Commerce presents The Christmas Tree Lighting/Little Nashville on Nov. 18. The evening includes food\, crafts\, music and festive fun with Santa Claus. \n\n\n	Related
URL:https://valleybusinessreport.com/event/christmas-tree-lighting-and-little-nashville/
LOCATION:H.E.B. Park\, 520 E. Second Street\, Mercedes\, TX\, United States
CATEGORIES:Festivals and Celebrations
ATTACH;FMTTYPE=image/jpeg:https://valleybusinessreport.com/wp-content/uploads/2020/11/christmas-tree-1149619_1920.jpg
END:VEVENT
END:VCALENDAR