BEGIN:VCALENDAR
VERSION:2.0
PRODID:-//VBR - ECPv6.15.17.1//NONSGML v1.0//EN
CALSCALE:GREGORIAN
METHOD:PUBLISH
X-ORIGINAL-URL:https://valleybusinessreport.com
X-WR-CALDESC:Events for VBR
REFRESH-INTERVAL;VALUE=DURATION:PT1H
X-Robots-Tag:noindex
X-PUBLISHED-TTL:PT1H
BEGIN:VTIMEZONE
TZID:America/Chicago
BEGIN:DAYLIGHT
TZOFFSETFROM:-0600
TZOFFSETTO:-0500
TZNAME:CDT
DTSTART:20220313T080000
END:DAYLIGHT
BEGIN:STANDARD
TZOFFSETFROM:-0500
TZOFFSETTO:-0600
TZNAME:CST
DTSTART:20221106T070000
END:STANDARD
BEGIN:DAYLIGHT
TZOFFSETFROM:-0600
TZOFFSETTO:-0500
TZNAME:CDT
DTSTART:20230312T080000
END:DAYLIGHT
BEGIN:STANDARD
TZOFFSETFROM:-0500
TZOFFSETTO:-0600
TZNAME:CST
DTSTART:20231105T070000
END:STANDARD
BEGIN:DAYLIGHT
TZOFFSETFROM:-0600
TZOFFSETTO:-0500
TZNAME:CDT
DTSTART:20240310T080000
END:DAYLIGHT
BEGIN:STANDARD
TZOFFSETFROM:-0500
TZOFFSETTO:-0600
TZNAME:CST
DTSTART:20241103T070000
END:STANDARD
END:VTIMEZONE
BEGIN:VEVENT
DTSTART;TZID=America/Chicago:20231027T190000
DTEND;TZID=America/Chicago:20231027T210000
DTSTAMP:20260422T060424
CREATED:20231023T173959Z
LAST-MODIFIED:20231023T174207Z
UID:10001031-1698433200-1698440400@valleybusinessreport.com
SUMMARY:17th Annual Spooktacular Halloween Bash
DESCRIPTION:The 17th annual Spooktacular Halloween Bash is a longstanding tradition that brings the Brownsville community together for a safe and enjoyable Halloween celebration. The Oct. 27 event from the Brownsville Police Department features food\, games and lots of prizes. \nDress up in your creepiest\, funniest or most creative costume for a hauntingly good time. \n\n\n	Related
URL:https://valleybusinessreport.com/event/17th-annual-spooktacular-halloween-bash/
LOCATION:Brownsville Sports Park\, 1000 Sports Park Blvd.\, Brownsville\, United States
CATEGORIES:Festivals and Celebrations
ATTACH;FMTTYPE=image/jpeg:https://valleybusinessreport.com/wp-content/uploads/2023/10/17thAnnualSpooktacularHalloweenBash.jpg
END:VEVENT
END:VCALENDAR