BEGIN:VCALENDAR
VERSION:2.0
PRODID:-//VBR - ECPv6.15.17.1//NONSGML v1.0//EN
CALSCALE:GREGORIAN
METHOD:PUBLISH
X-ORIGINAL-URL:https://valleybusinessreport.com
X-WR-CALDESC:Events for VBR
REFRESH-INTERVAL;VALUE=DURATION:PT1H
X-Robots-Tag:noindex
X-PUBLISHED-TTL:PT1H
BEGIN:VTIMEZONE
TZID:America/Chicago
BEGIN:DAYLIGHT
TZOFFSETFROM:-0600
TZOFFSETTO:-0500
TZNAME:CDT
DTSTART:20200308T080000
END:DAYLIGHT
BEGIN:STANDARD
TZOFFSETFROM:-0500
TZOFFSETTO:-0600
TZNAME:CST
DTSTART:20201101T070000
END:STANDARD
BEGIN:DAYLIGHT
TZOFFSETFROM:-0600
TZOFFSETTO:-0500
TZNAME:CDT
DTSTART:20210314T080000
END:DAYLIGHT
BEGIN:STANDARD
TZOFFSETFROM:-0500
TZOFFSETTO:-0600
TZNAME:CST
DTSTART:20211107T070000
END:STANDARD
BEGIN:DAYLIGHT
TZOFFSETFROM:-0600
TZOFFSETTO:-0500
TZNAME:CDT
DTSTART:20220313T080000
END:DAYLIGHT
BEGIN:STANDARD
TZOFFSETFROM:-0500
TZOFFSETTO:-0600
TZNAME:CST
DTSTART:20221106T070000
END:STANDARD
END:VTIMEZONE
BEGIN:VEVENT
DTSTART;VALUE=DATE:20210821
DTEND;VALUE=DATE:20210822
DTSTAMP:20260421T051140
CREATED:20210626T132725Z
LAST-MODIFIED:20210626T132725Z
UID:10000484-1629504000-1629590399@valleybusinessreport.com
SUMMARY:North Brownsville Rotary Club - Ninth Annual Whitewing Tune Up Shoot
DESCRIPTION:Tune up your wing-shooting skills before Whitewing-Dove Season at the North Brownsville Rotary Club’s ninth annual Whitewing Tune Up Shoot on Aug. 21. Proceeds go towards funding scholarships for area college-bound students. More than $250\,000 has been awarded since 1985. \nTrophies awarded for first-\, second- and third-place teams\, and first-\, second- and third-place individuals in men’s\, women’s and youth divisions\, plus Modified Lewis Class A\, B\, C and D winners. No experience is necessary as knowledgeable clay target shooters who will instruct participants. \nOrganizers will pair Individual participants with others to make up squads of five shooters. Practice rounds available on the Wednesday prior from 6 p.m. until closing at a special $6 per round. \nEntry fee includes participation in a multi-station sporting clay course\, BBQ meal and refreshments. Door prizes include ice chests\, a wine basket\, shotgun shells and beach gear.  Adult entry fee includes entry into the $1\,200 guaranteed payout Calcutta. Additional BBQ plates available for non-participants at $10 each. \nRegistration takes place from 8-10 a.m. Instructions to participants and commencement begins at 9 a.m. \nRaffle tickets are available from club members at $10 each for an adult Yildiz 12 Ga. Over/Under shotgun and two-liter ice chests. A total of 300 tickets are available. \nRegister at the event or entry forms are available from any club member\, and on the NBRC or Loma Alta’s Facebook pages.\n\n\n	Related
URL:https://valleybusinessreport.com/event/north-brownsville-rotary-club-ninth-annual-whitewing-tune-up-shoot-2/
LOCATION:Loma Alta Trap & Skeet Club\, 500 Old Port Isabel Road\, Brownsville\, TX\, 78521\, United States
CATEGORIES:Fundraisers,Recreation
ATTACH;FMTTYPE=image/jpeg:https://valleybusinessreport.com/wp-content/uploads/2021/06/whitewing-shoot.jpg
ORGANIZER;CN="North Brownsville Rotary Club":MAILTO:peteg@cob.us
END:VEVENT
END:VCALENDAR