BEGIN:VCALENDAR
VERSION:2.0
PRODID:-//VBR - ECPv6.15.17.1//NONSGML v1.0//EN
CALSCALE:GREGORIAN
METHOD:PUBLISH
X-WR-CALNAME:VBR
X-ORIGINAL-URL:https://valleybusinessreport.com
X-WR-CALDESC:Events for VBR
REFRESH-INTERVAL;VALUE=DURATION:PT1H
X-Robots-Tag:noindex
X-PUBLISHED-TTL:PT1H
BEGIN:VTIMEZONE
TZID:America/Chicago
BEGIN:DAYLIGHT
TZOFFSETFROM:-0600
TZOFFSETTO:-0500
TZNAME:CDT
DTSTART:20200308T080000
END:DAYLIGHT
BEGIN:STANDARD
TZOFFSETFROM:-0500
TZOFFSETTO:-0600
TZNAME:CST
DTSTART:20201101T070000
END:STANDARD
BEGIN:DAYLIGHT
TZOFFSETFROM:-0600
TZOFFSETTO:-0500
TZNAME:CDT
DTSTART:20210314T080000
END:DAYLIGHT
BEGIN:STANDARD
TZOFFSETFROM:-0500
TZOFFSETTO:-0600
TZNAME:CST
DTSTART:20211107T070000
END:STANDARD
BEGIN:DAYLIGHT
TZOFFSETFROM:-0600
TZOFFSETTO:-0500
TZNAME:CDT
DTSTART:20220313T080000
END:DAYLIGHT
BEGIN:STANDARD
TZOFFSETFROM:-0500
TZOFFSETTO:-0600
TZNAME:CST
DTSTART:20221106T070000
END:STANDARD
BEGIN:DAYLIGHT
TZOFFSETFROM:-0600
TZOFFSETTO:-0500
TZNAME:CDT
DTSTART:20230312T080000
END:DAYLIGHT
BEGIN:STANDARD
TZOFFSETFROM:-0500
TZOFFSETTO:-0600
TZNAME:CST
DTSTART:20231105T070000
END:STANDARD
END:VTIMEZONE
BEGIN:VEVENT
DTSTART;TZID=America/Chicago:20220721T183000
DTEND;TZID=America/Chicago:20220721T203000
DTSTAMP:20260421T194414
CREATED:20220714T131718Z
LAST-MODIFIED:20220714T131718Z
UID:10000769-1658428200-1658435400@valleybusinessreport.com
SUMMARY:Contacto Animal at Quinta Mazatlán
DESCRIPTION:Meet animals up close and learn more about them on July 21 for a bilingual demonstration by Contacto Animal at Quinta Mazatlán. Find out why all animals are important\, including scorpions\, tarantulas\, toads\, lizards\, snakes and more. Presentation begins at 7:30 p.m. in the park. \nAlejandro Millan\, director of Contacto Animal\, will talk about the unique traits and natural abilities of the animals. Alejandro was born in Mexico City\, and discovered his love and passions towards animals while working at a theme park. After a couple of years\, Millan moved to the city of Monterrey\, Nuevo Leon where he graduated with bachelors in biology and started working with animals in various city parks. Eventually\, he initiated his own business\, and today he is the director and founder of Contacto Animal USA. \nThe show was created to entertain and educate people on different animal species. Contacto Animal USA also provides presentations on topics regarding conservation\, management and environmental education. \nThursday Night LIVE takes place through Aug. 18. Sponsors are South Texas Health System Children’s and Freels Orthodontics. \nPark admission is $3 per person which includes the program; children ages 2 under are free. \nPre-purchase tickets are available at quintamazatlan.ticketleap.com.\n\n\n	Related
URL:https://valleybusinessreport.com/event/contacto-animal-at-quinta-mazatlan/
LOCATION:Quinta Mazatlan\, 600 Sunset Drive\, McAllen\, TX\, 78503\, United States
CATEGORIES:Speakers
ATTACH;FMTTYPE=image/jpeg:https://valleybusinessreport.com/wp-content/uploads/2022/07/Contacto-Animal.jpg
END:VEVENT
BEGIN:VEVENT
DTSTART;TZID=America/Chicago:20220707T183000
DTEND;TZID=America/Chicago:20220707T203000
DTSTAMP:20260421T194414
CREATED:20220701T041731Z
LAST-MODIFIED:20220701T041731Z
UID:10000759-1657218600-1657225800@valleybusinessreport.com
SUMMARY:Live Reptiles by Gladys Porter Zoo
DESCRIPTION:Jaime Zepeda\, Educational Assistant with Gladys Porter Zoo\, shows off one of the bull snakes that will be visiting Quinta Mazatlán\nGladys Porter Zoo presents live reptiles at Quinta Mazatlan on July 7 with an up-close learning experience. \nThe Gladys Porter Zoo focuses on conservation\, education\, recreation and also serves as a wildlife rehabilitation center. Public outreach is an important aspect of the zoo’s overall mission and is a primary responsibility for Jaime Zepeda. Zepeda will present several species of reptiles\, turtles\, snakes and even an alligator (Alligator mississippiensis). Attendees will learn what makes these animals so unique and important. \nZepeda graduated from University of Texas Rio Grande Valley with a bachelor degree in biology. He became a Texas Master Naturalist and volunteered at Gladys Porter Zoo prior to becoming permanent staff at the zoo. \nThursday Night Live takes place Thursday evenings through August from 6:30 p.m. to 8:30 p.m. Sponsors are South Texas Health System Children’s and Freels Orthodontics. \nPark admission is $3 per person and can be pre-purchased at quintamazatlan.ticketleap.com. \nFor more information\, contact Quinta Mazatlán.\n\n\n	Related
URL:https://valleybusinessreport.com/event/live-reptiles-by-gladys-porter-zoo/
LOCATION:Quinta Mazatlan\, 600 Sunset Drive\, McAllen\, TX\, 78503\, United States
CATEGORIES:Speakers
ATTACH;FMTTYPE=image/jpeg:https://valleybusinessreport.com/wp-content/uploads/2022/06/jaime-zepeda.jpg
END:VEVENT
BEGIN:VEVENT
DTSTART;TZID=America/Chicago:20220630T183000
DTEND;TZID=America/Chicago:20220630T203000
DTSTAMP:20260421T194414
CREATED:20220627T170637Z
LAST-MODIFIED:20220627T170637Z
UID:10000773-1656613800-1656621000@valleybusinessreport.com
SUMMARY:Thursday Night Live: A Night of Magic in Nature
DESCRIPTION:Oscar Munoz\nMagician Oscar Munoz visits Quinta Mazatlan for its Thursday Night Live on June 30. Munoz is an illusionist and motivational speaker\, offering quality programs that are both educational and entertaining. His programs contain magic\, music and educational messages for kids of all ages. Every presentation is created to motivate\, energize and entertain. Munoz combines motivational themes with his award-winning stage act. \nMuñoz possesses a doctorate in magic from the FFFF Fraternity in Batavia\, NY. He brings more than 27 years of experience as a professional motivational speaker and master comedic magician. He is known throughout the state of Texas as the leading specialist in the field of educational and motivational magic shows for students of all ages and grade levels. \nCome early for a walk on the trails or a picnic dinner under the trees. The park admission is $3 per person (ages 2 and under are free). \nPre-purchase tickets online at quintamazatlan.ticketleap.com.\n\n\n	Related
URL:https://valleybusinessreport.com/event/thursday-night-live-a-night-of-magic-in-nature/
LOCATION:Quinta Mazatlan\, 600 Sunset Drive\, McAllen\, TX\, 78503\, United States
CATEGORIES:Recreation
ATTACH;FMTTYPE=image/jpeg:https://valleybusinessreport.com/wp-content/uploads/2022/06/oscar-munoz.jpg
END:VEVENT
BEGIN:VEVENT
DTSTART;TZID=America/Chicago:20220623T183000
DTEND;TZID=America/Chicago:20220623T203000
DTSTAMP:20260421T194414
CREATED:20220614T174744Z
LAST-MODIFIED:20220614T174744Z
UID:10000796-1656009000-1656016200@valleybusinessreport.com
SUMMARY:Reptile Adventures with Danny Conner
DESCRIPTION:Danny Conner with Spartacus the Snapping Turtle.\nBring the family for a live Reptile Adventure with Danny Conner on June 23 at Quinta Mazatlan. Among the stars of the show are Juanita\, a reticulated python; “Spartacus”\, a 100-year-old alligator snapping turtle; and “Atlas\,” a granite python. \nConner is the owner of Reptile Adventures. He has been keeping and caring for reptiles for more than 30 years and has a unique background blend of education\, science and theater. Conner educates\, entertains and fascinates crowds of all ages as he shares his love\, knowledge and respect for these amazing animals. Conner is well respected\, and is often an expert source among his colleague and other reptile professionals. He is known for his passion\, his diverse and impressive collection\, and for his general love of all animals\, especially the cold-blooded kind. \nThursday Night Live takes place every Thursday evening in the summer through August from 6:30 to 8:30 p.m. Series sponsors are South Texas Health Systems Children’s and Freels Orthodontics. \nPark admission is $3 for everyone\, ages 2 and under are free. \nFor more information\, call Quinta Mazatlán. To purchase tickets\, visit quintamazatlan.ticketleap.com.\n\n\n	Related
URL:https://valleybusinessreport.com/event/reptile-adventures-with-danny-conner/
LOCATION:Quinta Mazatlan\, 600 Sunset Drive\, McAllen\, TX\, 78503\, United States
CATEGORIES:Entertainment,Speakers
ATTACH;FMTTYPE=image/jpeg:https://valleybusinessreport.com/wp-content/uploads/2022/06/Danny-Conner.jpg
END:VEVENT
BEGIN:VEVENT
DTSTART;TZID=America/Chicago:20220616T183000
DTEND;TZID=America/Chicago:20220616T203000
DTSTAMP:20260421T194414
CREATED:20220607T143642Z
LAST-MODIFIED:20220607T143642Z
UID:10000784-1655404200-1655411400@valleybusinessreport.com
SUMMARY:Amazing Animals
DESCRIPTION:Alejandro Millan\, director of Contacto Animal\nTake the opportunity to learn and explore at a live animal show on June 16th at Quinta Mazatlán. The interactive and bilingual demonstration by Contacto Animal USA features all kinds of animals from parrots\, lizards\, snakes and frogs. \nAlejandro Millan\, director of Contacto Animal\, will talk about the unique traits and natural abilities of the animals. Millan was born in Mexico City; he discovered his love and passions towards animals while working at a theme park. After a couple of years\, Millan moved to the city of Monterrey\, Nuevo Leon where he graduated with bachelors in biology and started working with animals in various city parks. Eventually\, he initiated his own business\, and today he is the director and founder of Contacto Animal USA. The show was created to entertain and educate people on different animal species. Contacto Animal USA also provides presentations on topics regarding conservation\, management and environmental education. \nThursday Night Lives take place Thursday evenings June 2 to Aug. 18 from 6:30-8:30 p.m. Sponsors are South Texas Health Systems Children and Freels Orthodontics. The park admission is $3 per person which includes the program; children ages 2 and under are free. \nPre-purchase tickets are available at quintamazatlan.ticketleap.com.\n\n\n	Related
URL:https://valleybusinessreport.com/event/amazing-animals/
LOCATION:Quinta Mazatlan\, 600 Sunset Drive\, McAllen\, TX\, 78503\, United States
CATEGORIES:Entertainment,Speakers
ATTACH;FMTTYPE=image/jpeg:https://valleybusinessreport.com/wp-content/uploads/2022/06/Contacto-Animal-Director.jpg
END:VEVENT
BEGIN:VEVENT
DTSTART;TZID=America/Chicago:20220402T090000
DTEND;TZID=America/Chicago:20220402T140000
DTSTAMP:20260421T194414
CREATED:20220328T235309Z
LAST-MODIFIED:20220328T235309Z
UID:10000721-1648890000-1648908000@valleybusinessreport.com
SUMMARY:Monarch Fest
DESCRIPTION:Each spring\, Monarch Butterflies migrate north and east around March or April. On April 2\, Quinta Mazatlan hosts the annual Monarch Fest from 9 a.m. to 2 p.m. in McAllen\, with the Bug Parade at 11 a.m. \nFamily activities include live music\, dance\, vendors\, arts & crafts\, migration path\, speakers\, garden tours\, food and other activities. The main stage features cultural dances and performers throughout the festival. Quinta Mazatlan encourages festival goers to wear orange and wings. \nChildren of all ages will enjoy the Bug Parade with an invitation to dress as a pollinator and walk in the parade. The Bug Parade is led by the famous McHi Drumline\, Butterfly Stilt Walkers and more entertainers. Kids can also meet The Very Hungry Caterpillar along the route. \nAmbassador animals will be on display with presentations by Gladys Porter Zoo and Animal Contacto. Boy Scouts can work on fulfilling badge requirements including Grow Something\, In the Wild\, Feathers-Fur-Fins and the Insect Badge. Girl Scouts can work to complete Outdoor Art Petal\, Animal Habitat\, Garden and Bug Badges. \nAdults will enjoy the live music\, garden tours\, native plant sale\, vendors\, food and monarch/gardening speakers. The streets of “Mazatlan” will feature educational booths hosted by UTRGV Entomology\, Estero Llano Grande\, Resaca de las Palmas\, McAllen Recycling & Composting\, McAllen Fire Station\, McAllen Police Department\, McAllen Library\, McAllen Public Utility\, One Up Mushroom\, Santa Ana NWR\, Texas Master Naturalists and more. \nFestival sponsors are the Radisson Hotel\, Med Care EMS\, Whataburger and many educational organizations and volunteers. \nFestival admission is $7 for adults\, $5 for children\, and children ages 2 and under are admitted free. \nTickets are available online at quintamazatlan.ticketleap.com.\n\n\n	Related
URL:https://valleybusinessreport.com/event/monarch-fest/
LOCATION:Quinta Mazatlan\, 600 Sunset Drive\, McAllen\, TX\, 78503\, United States
CATEGORIES:Festivals and Celebrations
ATTACH;FMTTYPE=image/jpeg:https://valleybusinessreport.com/wp-content/uploads/2022/03/Monarch-Fest-2020-Bug-Parade.jpg
END:VEVENT
BEGIN:VEVENT
DTSTART;TZID=America/Chicago:20220317T180000
DTEND;TZID=America/Chicago:20220317T180000
DTSTAMP:20260421T194414
CREATED:20220307T201931Z
LAST-MODIFIED:20220307T201931Z
UID:10000574-1647540000-1647540000@valleybusinessreport.com
SUMMARY:“Beginner’s Luck: My First Year of Birding” With Avrel Seale
DESCRIPTION:Avrel Seale\nLooking to begin birdwatching? Join Avrel Seale for “Beginner’s Luck: My First Year of Birding” at 6 p.m. March 17 at the Nature Speaker Series at Quinta Mazatlán World Birding Center. \nA Valley native living in Austin\, Seale is the author of 10 books and a writer for the University of Texas at Austin. The youngest son of Jan Seale and the late Carl Seale\, he is also the brother of Erren and Ansen\, all of whom have been heavily involved with Quinta Mazatlán over many years. Seale began filming and photographing birds during the catastrophic winter storm of February 2021 and never stopped. His presentation will include a video highlighting the best captures of his first year of birding. Nearly all of his subjects were filmed in Texas\, including at Quinta Mazatlán\, Estero Llano Grande State Park near Weslaco and South Padre Island. \nFor Seale\, the challenge of photography is greater due to a major stroke four years ago. Seale can use only his left hand\, and camera shutter releases are almost exclusively on the right. Despite this hurdle Seale persevered and picked up tips and tricks on how to capture stunning images of birds. He utilized a mix of tools to build his bird knowledge\, including traditional field guides and Facebook groups\, as well as apps such as Merlin\, eBird and iNaturalist. \nBeginning Birding\nCapturing images of nature does not require an advanced professional camera. Nature photography can begin with your own cell phone camera. In addition to digital photography\, Seale uses a cell phone and a spotting scope. This captures slow-motion video revealing extraordinary details of bird behavior too quick to notice in real time. \nThe benefits of birding include improving physical and mental health by staying active and reducing stress. Birders engage with community and other birders while providing a positive economic impact on the community. Birding can happen almost anywhere from a local park to a back yard. It also does not require any extras to begin. As long as you have an interest\, it’s never too late or too early to begin your birding journey. \n“They say youth is wasted on the young\, and I was woefully disinterested in birds for all those years I lived in the Valley\,” Seale mused. “I guess I had to move 350 miles away before I realized that my hometown is basically the center of the birding universe.” \nTickets are $5 per person. Pre-purchased tickets recommended. Tickets available for purchase at quintamazatlan.ticketleap.com.\n\n\n	Related
URL:https://valleybusinessreport.com/event/beginners-luck-my-first-year-of-birding-with-avrel-seale/
LOCATION:Quinta Mazatlan\, 600 Sunset Drive\, McAllen\, TX\, 78503\, United States
CATEGORIES:Speakers
ATTACH;FMTTYPE=image/jpeg:https://valleybusinessreport.com/wp-content/uploads/2022/03/Avrel-Seale.jpg
END:VEVENT
BEGIN:VEVENT
DTSTART;TZID=America/Chicago:20220312T090000
DTEND;TZID=America/Chicago:20220312T120000
DTSTAMP:20260421T194414
CREATED:20220302T190443Z
LAST-MODIFIED:20220302T190629Z
UID:10000570-1647075600-1647086400@valleybusinessreport.com
SUMMARY:National Plant a Flower Day at the Mazatlan Morning
DESCRIPTION:March 12 is National Plant a Flower Day and Quinta Mazatlan is celebrating with Mazatlan Morning from 9 a.m. to noon with the Native Plant Sale\, Talk\, Walk & Seed Bombing. \nMcAllen urban ecologist John Brush presents a program at 10 a.m. titled “Quinta in Bloom\,” highlighting the native flowers around the sanctuary. \nMike Heep\, Valley’s native plant nursery owner\, will sell plants from 9 a.m. to noon with a presentation at 11 a.m. This is an opportunity for attendees to ask questions about what to grow in a garden. \nKids and adults alike can make Seed Bombs to take home and toss anywhere they would like to cover with flowers.  Seed Bombs are balls made out of clay\, compost and seeds.  Apparently\, Seed Bombs were first used in the 70’s to “bomb” large vacant lots in New York City with flowers—they called it guerilla gardening. \nThe event is free with park admission of $3 for adults\, $2 for children\, and ages 2 and under are free. Reserve your tickets online at quintamazatlan.ticketleap.com in order for the park to prepare accordingly. \nFor more information\, contact Quinta Mazatlan or follow Quinta Mazatlan on social media.\n\n\n	Related
URL:https://valleybusinessreport.com/event/national-plant-a-flower-day-at-the-mazatlan-morning/
LOCATION:Quinta Mazatlan\, 600 Sunset Drive\, McAllen\, TX\, 78503\, United States
CATEGORIES:Festivals and Celebrations
ATTACH;FMTTYPE=image/jpeg:https://valleybusinessreport.com/wp-content/uploads/2022/03/CIMG2805.jpg
END:VEVENT
BEGIN:VEVENT
DTSTART;TZID=America/Chicago:20220303T180000
DTEND;TZID=America/Chicago:20220303T190000
DTSTAMP:20260421T194414
CREATED:20220222T205120Z
LAST-MODIFIED:20220222T205426Z
UID:10000737-1646330400-1646334000@valleybusinessreport.com
SUMMARY:Backyard Gardening with Stephanie Kasper
DESCRIPTION:Stephanie Kasper\nInterested in starting your own vegetable garden? Not sure where to start? Ask an experienced farmer for tips and tricks on how to begin and maintain your own garden at the Nature Speaker Series. Quinta Mazatlán World Birding Center hosts UTRGV research farmer Stephanie Kasper on March 3 for a special presentation on sustainable agriculture and growing food in the Rio Grande Valley. \nThis presentation will discuss strategies for starting and maintaining vegetable gardens under challenging South Texas conditions. \nKasper is a research farmer at the University of Texas Rio Grande Valley. Here\, she studies soil health practices and manages the Hub of Prosperity Farm. The farm began in 2019 for community-facing sustainable agriculture research and education. With agricultural experience at scales ranging from apartment patio to 200-acre ranch\, she believes everyone can be involved in creative and sustainable food production solutions. \nTickets are $5 and available for purchase at quintamazatlan.ticketleap.com.\n\n\n	Related
URL:https://valleybusinessreport.com/event/backyard-gardening-with-stephanie-kasper/
LOCATION:Quinta Mazatlan\, 600 Sunset Drive\, McAllen\, TX\, 78503\, United States
CATEGORIES:Speakers
ATTACH;FMTTYPE=image/jpeg:https://valleybusinessreport.com/wp-content/uploads/2022/02/kasper.jpg
END:VEVENT
BEGIN:VEVENT
DTSTART;TZID=America/Chicago:20220127T180000
DTEND;TZID=America/Chicago:20220127T190000
DTSTAMP:20260421T194414
CREATED:20220118T151903Z
LAST-MODIFIED:20220118T152209Z
UID:10000682-1643306400-1643310000@valleybusinessreport.com
SUMMARY:Winter Migrating & Resident Birds with Thamara Hernandez
DESCRIPTION:Quinta Mazatlán hosts Thamara Hernandez\, Urban Park Ranger at Santa Ana NWR\, on Jan. 27 in an outdoor presentation on winter migrating and resident birds of the Rio Grande Valley. \nIn North America there are 338 bird species that are Nearctic-Neotropical migrants. Of those 338 species\, 333 of them have been documented in Texas. The 615 species of birds on record in Texas are the highest record of any other state. About 54 percent of them are Nearctic-Neotropical migratory birds. The Rio Grande Valley is one of the most biologically diverse areas in North America. \nMigratory birds provide numerous ecosystem services such as pest control\, plant pollination\, serve as food source for other wildlife\, and attract millions of birders and nature enthusiasts from all over the world. \nAbout Thamara Hernandez\nWorking for the Santa Ana National Wildlife Refuge right along the banks of the Rio Grande river\, Hernandez has a responsibility to maintain the refuge for these magnificent migratory birds on their journeys. A Rio Grande Valley native Hernandez grew up in San Juan. Her passion for the environment and conservation was instilled early on by her family who worked in agriculture fields. She learned firsthand all the hard work that goes into maintaining a healthy environment. Through her role as Urban Park Ranger\, Hernandez has played an active role in educating her community on the importance of protecting and conserving the natural habitat of the Rio Grande Valley. \nTickets are $5 per person. Pre-purchased tickets are recommended online at www.quintamazatlan.ticketleap.com.\n\n\n	Related
URL:https://valleybusinessreport.com/event/winter-migrating-resident-birds-with-thamara-hernandez/
LOCATION:Quinta Mazatlan\, 600 Sunset Drive\, McAllen\, TX\, 78503\, United States
CATEGORIES:Speakers
ATTACH;FMTTYPE=image/png:https://valleybusinessreport.com/wp-content/uploads/2022/01/Ticketleap-Thamara-HDZ.png
END:VEVENT
BEGIN:VEVENT
DTSTART;TZID=America/Chicago:20220120T180000
DTEND;TZID=America/Chicago:20220120T190000
DTSTAMP:20260421T194414
CREATED:20220111T183206Z
LAST-MODIFIED:20220111T183514Z
UID:10000542-1642701600-1642705200@valleybusinessreport.com
SUMMARY:“Healthy-Delicious-Better! Mediterranean Cuisine”
DESCRIPTION:Chef Nancy Melhem\nQuinta Mazatlán hosts Chef Nancy Melhem from Greens & Lemons on Jan. 20 for a night of healthy Mediterranean Recipes & Tapas Tasting Outdoors at Thursday Night Live.  \nMelhem will showcase some of her favorite recipes and discuss the benefits of Mediterranean dishes. Mediterranean food is based on the traditional cuisines of Greece\, Italy\, Egypt and other countries that border the Mediterranean Sea. Plant-based foods\, such as whole grains\, vegetables\, legumes\, fruits\, nuts\, seeds\, herbs and spices\, are the foundation of Mediterranean cuisine. \nMelhem is the founder and head chef of Greens & Lemons restaurant in Mission. She started her business from the grounds up sharing her love of cooking and healthy dishes through social media as a contract chef for private clients. As her clientele grew\, Melhem decided to take a leap of faith and invest in her own establishment. Her passion for making delicious meals and providing quality products proved a success as Greens and Lemons is now one of the premiere healthy eateries in the Rio Grande Valley. \n“Many people associate eating healthy to lose weight. However\, following a balanced diet is good for everyone and its benefits are not only limited to weight control. Eating healthy is not a regimen\, it is a lifestyle in which you provide your body with what it needs to keep you healthy\, fit and happier than ever.” –Greens & Lemons \nPre-purchased tickets recommended at $5 each. Tickets available for purchase at quintamazatlan.ticketleap.com. \nFor more information\, contact Quinta Mazatlán.\n\n\n	Related
URL:https://valleybusinessreport.com/event/healthy-delicious-better-mediterranean-cuisine/
LOCATION:Quinta Mazatlan\, 600 Sunset Drive\, McAllen\, TX\, 78503\, United States
CATEGORIES:Entertainment
ATTACH;FMTTYPE=image/jpeg:https://valleybusinessreport.com/wp-content/uploads/2022/01/Chef-Nancy-Melhem.jpg
END:VEVENT
BEGIN:VEVENT
DTSTART;TZID=America/Chicago:20220106T180000
DTEND;TZID=America/Chicago:20220106T190000
DTSTAMP:20260421T194414
CREATED:20211229T153514Z
LAST-MODIFIED:20211229T153514Z
UID:10000681-1641492000-1641495600@valleybusinessreport.com
SUMMARY:Valley Nature Poetry with Katherine Hoerth
DESCRIPTION:Katherine Hoerth\nQuinta Mazatlán World Birding Center hosts author and poet Katherine Hoerth Jan. 6  for a night of eco-poetry and special reading/book signing of her most recent publication “Prairie Madness.” The visit is part of the Nature Speaker Series at Quinta Mazatlán. \nA McAllen native\, Hoerth captures the culture of South Texas. She paints a lasting image of one of the most biologically diverse regions in the country\, the Rio Grande Valley.  \nHoerth is the author of five poetry collections\, including Flare Stacks in Full Bloom\, Borderland Mujeres\, Prairie Madness and Goddess Wears Cowboy Boots. She is the 2015 recipient of the Helen C. Smith Prize for the best book of poetry in Texas. She is also the recipient of the 2021 Poetry of the Plains Prize from North Dakota State University Press. Her work has been published in numerous literary magazines including Summerset Review\, Valparaiso Review and Southwestern American Literature. She is a member of the Texas Institute of Letters. In 2017\, she joined the English department at Lamar University as an assistant professor of creative writing and editor-in-chief of Lamar University Literary Press. \nHoerth’s most recent publication Prairie Madness won the 2021 Poetry of Plains and Prairies Award from North Dakota State University Press.  \nTickets for the event are $5 per person. Pre-purchased tickets recommended. Tickets are available for purchase online.  \nFor more information\, contact Quinta Mazatlán and follow Quinta Mazatlán on social media.\n\n\n	Related
URL:https://valleybusinessreport.com/event/valley-nature-poetry-with-katherine-hoerth/
LOCATION:Quinta Mazatlan\, 600 Sunset Drive\, McAllen\, TX\, 78503\, United States
CATEGORIES:Arts,Speakers
ATTACH;FMTTYPE=image/jpeg:https://valleybusinessreport.com/wp-content/uploads/2021/12/Katherine-Hoerth.jpg
END:VEVENT
BEGIN:VEVENT
DTSTART;TZID=America/Chicago:20211030T090000
DTEND;TZID=America/Chicago:20211030T130000
DTSTAMP:20260421T194414
CREATED:20211019T183326Z
LAST-MODIFIED:20211019T183326Z
UID:10000518-1635584400-1635598800@valleybusinessreport.com
SUMMARY:Quinta Mazatlán Halloween Party in the Park
DESCRIPTION:Quinta Mazatlán World Birding Center‘s Halloween Party in the Park takes place Oct. 30 from 9 a.m. to 1 p.m. \nThe event is free with park admission. Guests will be able to walk the Sticks and Bones trail\, do some shopping from some local vendors and stop by Randerie’s food truck. Live performances include the City of McAllen Parks and Recreation Folkorico dancers and the award-winning Mariachi Mariposas. \nThe event is free with park admission. \nTickets are available at the gate or online at quintamazatlan.ticketleap.com.\n\n\n	Related
URL:https://valleybusinessreport.com/event/quinta-mazatlan-halloween-party-in-the-park/
LOCATION:Quinta Mazatlan\, 600 Sunset Drive\, McAllen\, TX\, 78503\, United States
CATEGORIES:Festivals and Celebrations
ATTACH;FMTTYPE=image/jpeg:https://valleybusinessreport.com/wp-content/uploads/2021/10/Halloween-Party-in-the-Park.jpg
END:VEVENT
END:VCALENDAR