BEGIN:VCALENDAR
VERSION:2.0
PRODID:-//VBR - ECPv6.15.17.1//NONSGML v1.0//EN
CALSCALE:GREGORIAN
METHOD:PUBLISH
X-WR-CALNAME:VBR
X-ORIGINAL-URL:https://valleybusinessreport.com
X-WR-CALDESC:Events for VBR
REFRESH-INTERVAL;VALUE=DURATION:PT1H
X-Robots-Tag:noindex
X-PUBLISHED-TTL:PT1H
BEGIN:VTIMEZONE
TZID:America/Chicago
BEGIN:DAYLIGHT
TZOFFSETFROM:-0600
TZOFFSETTO:-0500
TZNAME:CDT
DTSTART:20220313T080000
END:DAYLIGHT
BEGIN:STANDARD
TZOFFSETFROM:-0500
TZOFFSETTO:-0600
TZNAME:CST
DTSTART:20221106T070000
END:STANDARD
BEGIN:DAYLIGHT
TZOFFSETFROM:-0600
TZOFFSETTO:-0500
TZNAME:CDT
DTSTART:20230312T080000
END:DAYLIGHT
BEGIN:STANDARD
TZOFFSETFROM:-0500
TZOFFSETTO:-0600
TZNAME:CST
DTSTART:20231105T070000
END:STANDARD
BEGIN:DAYLIGHT
TZOFFSETFROM:-0600
TZOFFSETTO:-0500
TZNAME:CDT
DTSTART:20240310T080000
END:DAYLIGHT
BEGIN:STANDARD
TZOFFSETFROM:-0500
TZOFFSETTO:-0600
TZNAME:CST
DTSTART:20241103T070000
END:STANDARD
END:VTIMEZONE
BEGIN:VEVENT
DTSTART;TZID=America/Chicago:20231129T090000
DTEND;TZID=America/Chicago:20231129T120000
DTSTAMP:20260422T053037
CREATED:20231114T192958Z
LAST-MODIFIED:20231114T192958Z
UID:10001046-1701248400-1701259200@valleybusinessreport.com
SUMMARY:RGV H.I.R.E.S Cameron County: An Inclusive Job Fair Experience
DESCRIPTION:RGV H.I.R.E.S. (Helping Individuals Reach Exponential Success) is an inclusive job fair event on Nov. 29 that welcomes individuals with disabilities as well as job seekers without disabilities. The event is taking place in Cameron County and aims to foster a stronger connection between the business community and the disability community in the Rio Grande Valley. \nRGV H.I.R.E.S.’s primary objective is to identify companies and agencies that are searching for qualified candidates with diverse abilities. \nEmployers may register as vendors online. Job seekers may also register online. \n\n\n	Related
URL:https://valleybusinessreport.com/event/rgv-h-i-r-e-s-cameron-county-an-inclusive-job-fair-experience/
LOCATION:Brownsville Events Center\, 1 Events Center Blvd.\, Brownsville\, TX\, United States
CATEGORIES:Hiring events
ATTACH;FMTTYPE=image/png:https://valleybusinessreport.com/wp-content/uploads/2023/11/RGV-H.I.R.E.S.png
ORGANIZER;CN="RGV H.I.R.E.S.":MAILTO:info@dccrgv.org
END:VEVENT
END:VCALENDAR