BEGIN:VCALENDAR
VERSION:2.0
PRODID:-//VBR - ECPv6.15.17.1//NONSGML v1.0//EN
CALSCALE:GREGORIAN
METHOD:PUBLISH
X-WR-CALNAME:VBR
X-ORIGINAL-URL:https://valleybusinessreport.com
X-WR-CALDESC:Events for VBR
REFRESH-INTERVAL;VALUE=DURATION:PT1H
X-Robots-Tag:noindex
X-PUBLISHED-TTL:PT1H
BEGIN:VTIMEZONE
TZID:America/Chicago
BEGIN:DAYLIGHT
TZOFFSETFROM:-0600
TZOFFSETTO:-0500
TZNAME:CDT
DTSTART:20220313T080000
END:DAYLIGHT
BEGIN:STANDARD
TZOFFSETFROM:-0500
TZOFFSETTO:-0600
TZNAME:CST
DTSTART:20221106T070000
END:STANDARD
BEGIN:DAYLIGHT
TZOFFSETFROM:-0600
TZOFFSETTO:-0500
TZNAME:CDT
DTSTART:20230312T080000
END:DAYLIGHT
BEGIN:STANDARD
TZOFFSETFROM:-0500
TZOFFSETTO:-0600
TZNAME:CST
DTSTART:20231105T070000
END:STANDARD
BEGIN:DAYLIGHT
TZOFFSETFROM:-0600
TZOFFSETTO:-0500
TZNAME:CDT
DTSTART:20240310T080000
END:DAYLIGHT
BEGIN:STANDARD
TZOFFSETFROM:-0500
TZOFFSETTO:-0600
TZNAME:CST
DTSTART:20241103T070000
END:STANDARD
END:VTIMEZONE
BEGIN:VEVENT
DTSTART;TZID=America/Chicago:20230907T120000
DTEND;TZID=America/Chicago:20230907T130000
DTSTAMP:20260421T095930
CREATED:20230830T183416Z
LAST-MODIFIED:20230830T183705Z
UID:10000990-1694088000-1694091600@valleybusinessreport.com
SUMMARY:Lunch & Learn - Marketing in a Digital World
DESCRIPTION:Learn the importance of strategic marketing in today’s digital world during the RGV Hispanic Chamber of Commerce’s Lunch & Learn – Marketing in a Digital World on Sept. 7. \nSpace is limited\, RSVP online by Sept. 7. \n\n\n	Related
URL:https://valleybusinessreport.com/event/lunch-learn-marketing-in-a-digital-world-2/
LOCATION:Chase Bank\, 200 S. 10th Street\, McAllen\, TX\, 78501\, United States
CATEGORIES:Seminars and Workshops
ATTACH;FMTTYPE=image/jpeg:https://valleybusinessreport.com/wp-content/uploads/2023/08/Sept-7.-2023-_-Chase-SB-Workshop.jpg
END:VEVENT
BEGIN:VEVENT
DTSTART;TZID=America/Chicago:20230725T173000
DTEND;TZID=America/Chicago:20230725T193000
DTSTAMP:20260421T095930
CREATED:20230717T115938Z
LAST-MODIFIED:20230717T115938Z
UID:10000957-1690306200-1690313400@valleybusinessreport.com
SUMMARY:Cheers & Connections: Networking Mixer
DESCRIPTION:Join the RGV Hispanic Chamber of Commerce on July 25 for an evening of mingling and forging valuable connections at Cheers & Connections: Networking Mixer. This event is hosted in collaboration with Total Wine & More. The evening will be a fusion of business\, pleasure and fruitful connections. \nRegister online. \n\n\n	Related
URL:https://valleybusinessreport.com/event/cheers-connections-networking-mixer/
LOCATION:Total Wine\, 800 E. Expressway 83\, Suite 200\, McAllen\, TX\, 78503\, United States
CATEGORIES:Networking
ATTACH;FMTTYPE=image/jpeg:https://valleybusinessreport.com/wp-content/uploads/2023/07/Cheers-and-Connections.jpg
END:VEVENT
BEGIN:VEVENT
DTSTART;TZID=America/Chicago:20230719T100000
DTEND;TZID=America/Chicago:20230719T110000
DTSTAMP:20260421T095930
CREATED:20230711T222118Z
LAST-MODIFIED:20230711T223607Z
UID:10000964-1689760800-1689764400@valleybusinessreport.com
SUMMARY:Business Immigration 101
DESCRIPTION:Join the RGV Hispanic Chamber of Commerce on July 19 for an eye-opening seminar on Business Immigration 101.  \nDiscover the fundamentals of immigration law\, business immigration\, citizenship\, family petitions and more. Immigration Attorney Belia Pena serves as speaker\, sharing her expertise and insights.  \nRegister online. \n\n\n	Related
URL:https://valleybusinessreport.com/event/business-immigration-101/
LOCATION:RGV Hispanic Chamber of Commerce\, 801 E. Fern\, Suite 143\, McAllen\, TX\, 78501\, United States
CATEGORIES:Seminars and Workshops
ATTACH;FMTTYPE=image/jpeg:https://valleybusinessreport.com/wp-content/uploads/2023/07/ImmigrationLaw.jpg
END:VEVENT
BEGIN:VEVENT
DTSTART;TZID=America/Chicago:20230608T120000
DTEND;TZID=America/Chicago:20230608T130000
DTSTAMP:20260421T095930
CREATED:20230529T160202Z
LAST-MODIFIED:20230529T160202Z
UID:10000947-1686225600-1686229200@valleybusinessreport.com
SUMMARY:Lunch & Learn with Chase - Navigating your Cash Flow
DESCRIPTION:Chase Bank and the Rio Grande Valley Hispanic Chamber of Commerce present a Lunch & Learn workshop on “Navigating your Cash Flow” on June 8. Experts will speak on the things recommended to have in place in order to have a successful business. \nAttendees must RSVP in advance. \nAdditional Lunch & Learn workshops with Chase are scheduled for July 13\, Aug. 10 and Oct. 12. \n\n\n	Related
URL:https://valleybusinessreport.com/event/lunch-learn-with-chase-navigating-your-cash-flow/
LOCATION:Chase Bank\, 200 S. 10th Street\, McAllen\, TX\, 78501\, United States
CATEGORIES:Seminars and Workshops
ATTACH;FMTTYPE=image/png:https://valleybusinessreport.com/wp-content/uploads/2023/05/Lunch-Learn-with-Chase.png
END:VEVENT
END:VCALENDAR