BEGIN:VCALENDAR
VERSION:2.0
PRODID:-//VBR - ECPv6.15.17.1//NONSGML v1.0//EN
CALSCALE:GREGORIAN
METHOD:PUBLISH
X-ORIGINAL-URL:https://valleybusinessreport.com
X-WR-CALDESC:Events for VBR
REFRESH-INTERVAL;VALUE=DURATION:PT1H
X-Robots-Tag:noindex
X-PUBLISHED-TTL:PT1H
BEGIN:VTIMEZONE
TZID:America/Chicago
BEGIN:DAYLIGHT
TZOFFSETFROM:-0600
TZOFFSETTO:-0500
TZNAME:CDT
DTSTART:20240310T080000
END:DAYLIGHT
BEGIN:STANDARD
TZOFFSETFROM:-0500
TZOFFSETTO:-0600
TZNAME:CST
DTSTART:20241103T070000
END:STANDARD
BEGIN:DAYLIGHT
TZOFFSETFROM:-0600
TZOFFSETTO:-0500
TZNAME:CDT
DTSTART:20250309T080000
END:DAYLIGHT
BEGIN:STANDARD
TZOFFSETFROM:-0500
TZOFFSETTO:-0600
TZNAME:CST
DTSTART:20251102T070000
END:STANDARD
BEGIN:DAYLIGHT
TZOFFSETFROM:-0600
TZOFFSETTO:-0500
TZNAME:CDT
DTSTART:20260308T080000
END:DAYLIGHT
BEGIN:STANDARD
TZOFFSETFROM:-0500
TZOFFSETTO:-0600
TZNAME:CST
DTSTART:20261101T070000
END:STANDARD
END:VTIMEZONE
BEGIN:VEVENT
DTSTART;TZID=America/Chicago:20251029T080000
DTEND;TZID=America/Chicago:20251029T170000
DTSTAMP:20260422T041924
CREATED:20251029T223053Z
LAST-MODIFIED:20251029T223053Z
UID:10001331-1761724800-1761757200@valleybusinessreport.com
SUMMARY:RGV Hispanic Chamber Mixer at Gladys Porter Zoo
DESCRIPTION:The Rio Grande Valley Hispanic Chamber of Commerce hosts its Manic Monday Mixer on Nov. 10 at the Gladys Porter Zoo. The networking event provides an opportunity for local professionals and business leaders to connect\, share ideas and explore potential collaborations. \n“Manic Monday Mixers are designed to help professionals connect in a relaxed setting\,” said Cynthia Sakulenzki\, CEO and president of the RGV Hispanic Chamber of Commerce. “We are pleased to host this event at the Gladys Porter Zoo\, offering a unique venue for conversation and networking.” \nAttendees are encouraged to bring business cards to exchange information and leave a lasting impression. Those generously donating a door prize receive an extra opportunity to shine by sharing insights about their business with the audience. The event is open to chamber members\, prospective members and community professionals. Registration is recommended. \nFirst-time visitors may attend free of charge\, and light refreshments will be provided. Attendees are encouraged to register in advance at online. \n\n\n	Related
URL:https://valleybusinessreport.com/event/rgv-hispanic-chamber-mixer-at-gladys-porter-zoo/
LOCATION:Gladys Porter Zoo\, 500 Ringgold Street\, Brownsville\, TX\, United States
CATEGORIES:Networking
ATTACH;FMTTYPE=image/jpeg:https://valleybusinessreport.com/wp-content/uploads/2025/10/Manic-Monday-Mixer.jpg
END:VEVENT
BEGIN:VEVENT
DTSTART;TZID=America/Chicago:20250827T100000
DTEND;TZID=America/Chicago:20250827T133000
DTSTAMP:20260422T041924
CREATED:20250812T205638Z
LAST-MODIFIED:20250812T205638Z
UID:10001308-1756288800-1756301400@valleybusinessreport.com
SUMMARY:Luna Awards Luncheon
DESCRIPTION:The Luna Awards on Aug. 27 celebrates the achievements of women\, women-owned businesses and advocates who promote and develop women at all levels in Architecture\, Engineering and Construction. \nAward categories include: \n\nA/E/C Firm of the Year\nService Firm of the Year\nWoman of the Year A/E/C\nOutstanding Administrative Professional of the Year\n\nSingle tickets are $50; reserved tables are $750. \nRegister online. \n\n\n	Related
URL:https://valleybusinessreport.com/event/luna-awards-luncheon-2/
LOCATION:Harlingen Convention Center\, 701 Harlingen Heights Drive\, Harlingen\, TX\, 78552\, United States
CATEGORIES:Awards and Recognitions
ATTACH;FMTTYPE=image/jpeg:https://valleybusinessreport.com/wp-content/uploads/2025/08/Luna-Awards.jpg
END:VEVENT
BEGIN:VEVENT
DTSTART;TZID=America/Chicago:20250203T173000
DTEND;TZID=America/Chicago:20250203T193000
DTSTAMP:20260422T041924
CREATED:20250127T021011Z
LAST-MODIFIED:20250127T021011Z
UID:10001236-1738603800-1738611000@valleybusinessreport.com
SUMMARY:Manic Monday Mixer - Landtitle Texas (Starr County)
DESCRIPTION:Join the RGV Hispanic Chamber of Commerce on Feb. 3 its signature event\, the Manic Monday Mixer\, at Landtitle Texas. The networking experience is tailored for business owners and professionals looking to expand their horizons in the vibrant community of the Rio Grande Valley. \nAt the Manic Monday Mixer\, business owners come together to mingle\, foster new connections and cultivate meaningful business leads. Hosted by the RGV Hispanic Chamber\, this monthly event has become a cornerstone for our members to forge valuable relationships across the Rio Grande Valley. \nHighlights include: \n\nNetworking Magic: Immerse yourself in the dynamic atmosphere where connections are made and ideas flourish.\nBusiness Leads: The Manic Monday Mixers have proven to be a catalyst for members in creating numerous business contacts spanning the Rio Grande Valley.\nDoor Prize Bonanza: Elevate your visibility. Those generously donating a door prize receive an extra opportunity to shine\, sharing insights about their business with the audience.\nBring Your Business Cards: Be prepared to exchange information and leave a lasting impression.\n\nWhether you’re a seasoned business owner or just starting\, the Manic Monday Mixer is a gateway to a thriving network and countless opportunities. \nRegister online. \n\n\n	Related
URL:https://valleybusinessreport.com/event/manic-monday-mixer-landtitle-texas-starr-county/
LOCATION:Landtitle Texas\, 4377 E. US Hwy 83\, Rio Grande City\, United States
CATEGORIES:Networking
ATTACH;FMTTYPE=image/jpeg:https://valleybusinessreport.com/wp-content/uploads/2025/01/Manic-Monday-Mixer.jpg
END:VEVENT
END:VCALENDAR