BEGIN:VCALENDAR
VERSION:2.0
PRODID:-//VBR - ECPv6.15.17.1//NONSGML v1.0//EN
CALSCALE:GREGORIAN
METHOD:PUBLISH
X-ORIGINAL-URL:https://valleybusinessreport.com
X-WR-CALDESC:Events for VBR
REFRESH-INTERVAL;VALUE=DURATION:PT1H
X-Robots-Tag:noindex
X-PUBLISHED-TTL:PT1H
BEGIN:VTIMEZONE
TZID:America/Chicago
BEGIN:DAYLIGHT
TZOFFSETFROM:-0600
TZOFFSETTO:-0500
TZNAME:CDT
DTSTART:20220313T080000
END:DAYLIGHT
BEGIN:STANDARD
TZOFFSETFROM:-0500
TZOFFSETTO:-0600
TZNAME:CST
DTSTART:20221106T070000
END:STANDARD
BEGIN:DAYLIGHT
TZOFFSETFROM:-0600
TZOFFSETTO:-0500
TZNAME:CDT
DTSTART:20230312T080000
END:DAYLIGHT
BEGIN:STANDARD
TZOFFSETFROM:-0500
TZOFFSETTO:-0600
TZNAME:CST
DTSTART:20231105T070000
END:STANDARD
BEGIN:DAYLIGHT
TZOFFSETFROM:-0600
TZOFFSETTO:-0500
TZNAME:CDT
DTSTART:20240310T080000
END:DAYLIGHT
BEGIN:STANDARD
TZOFFSETFROM:-0500
TZOFFSETTO:-0600
TZNAME:CST
DTSTART:20241103T070000
END:STANDARD
END:VTIMEZONE
BEGIN:VEVENT
DTSTART;TZID=America/Chicago:20231028T150000
DTEND;TZID=America/Chicago:20231028T200000
DTSTAMP:20260424T045739
CREATED:20231019T162822Z
LAST-MODIFIED:20231019T162822Z
UID:10001025-1698505200-1698523200@valleybusinessreport.com
SUMMARY:Rio Grande Valley Premium Outlets Halloween Bash
DESCRIPTION:Black cats\, ghosts\, and witches’ brew. Your favorite little ghosts and goblins are invited to Rio Grande Valley Premium Outlets for a spooky fun Halloween Bash on Oct. 28. Children of all ages are encouraged to sport their best Halloween costumes to haunt Rio Grande Valley Premium Outlets in search of candy from retailers throughout the center. \nThe Halloween celebration will feature music\, family-friendly activities\, complimentary snow cones\, a balloon artist\, face painting\, a photo booth and more. Families will have a thrill shopping the wicked sidewalk sales\, and the first 100 kids will receive a spooky bag filled with goodies and tasty treats. \nThe Rio Grande Valley Premium Outlets will host its Halloween Bash near the exterior Food Court. \n\n\n	Related
URL:https://valleybusinessreport.com/event/rio-grande-valley-premium-outlets-halloween-bash/
LOCATION:Rio Grande Valley Premium Outlets\, 5001 E Expressway 83\, Mercedes\, 78570\, United States
CATEGORIES:Festivals and Celebrations
ATTACH;FMTTYPE=image/jpeg:https://valleybusinessreport.com/wp-content/uploads/2023/10/Halloween-Bash-at-RGVPO.jpg
END:VEVENT
END:VCALENDAR