BEGIN:VCALENDAR
VERSION:2.0
PRODID:-//VBR - ECPv6.15.17.1//NONSGML v1.0//EN
CALSCALE:GREGORIAN
METHOD:PUBLISH
X-WR-CALNAME:VBR
X-ORIGINAL-URL:https://valleybusinessreport.com
X-WR-CALDESC:Events for VBR
REFRESH-INTERVAL;VALUE=DURATION:PT1H
X-Robots-Tag:noindex
X-PUBLISHED-TTL:PT1H
BEGIN:VTIMEZONE
TZID:America/Chicago
BEGIN:DAYLIGHT
TZOFFSETFROM:-0600
TZOFFSETTO:-0500
TZNAME:CDT
DTSTART:20200308T080000
END:DAYLIGHT
BEGIN:STANDARD
TZOFFSETFROM:-0500
TZOFFSETTO:-0600
TZNAME:CST
DTSTART:20201101T070000
END:STANDARD
BEGIN:DAYLIGHT
TZOFFSETFROM:-0600
TZOFFSETTO:-0500
TZNAME:CDT
DTSTART:20210314T080000
END:DAYLIGHT
BEGIN:STANDARD
TZOFFSETFROM:-0500
TZOFFSETTO:-0600
TZNAME:CST
DTSTART:20211107T070000
END:STANDARD
BEGIN:DAYLIGHT
TZOFFSETFROM:-0600
TZOFFSETTO:-0500
TZNAME:CDT
DTSTART:20220313T080000
END:DAYLIGHT
BEGIN:STANDARD
TZOFFSETFROM:-0500
TZOFFSETTO:-0600
TZNAME:CST
DTSTART:20221106T070000
END:STANDARD
END:VTIMEZONE
BEGIN:VEVENT
DTSTART;TZID=America/Chicago:20211003T070000
DTEND;TZID=America/Chicago:20211003T120000
DTSTAMP:20260421T082450
CREATED:20210927T170818Z
LAST-MODIFIED:20210927T170818Z
UID:10000512-1633244400-1633262400@valleybusinessreport.com
SUMMARY:Ride for Rotary Queen Isabella Causeway Cross
DESCRIPTION:The Rotary Club of Historic Brownsville hosts its annual Ride for Rotary-Queen Isabella Causeway Cross Benefit Ride Oct. 3. The ride crosses over the Queen Isabella Causeway and onto South Padre Island\, ending at Longboard Bar & Grill.  The ride draws participation from cyclists of all levels and ages. \nAll proceeds support Rotary’s local projects\, which include providing free eye exams and eyeglasses to children\, hosting Rotary’s Annual Heart Gallery (an adoption awareness event)\, funding scholarships for local students\, providing Christmas gifts to nursing home residents\, and funding for other Rotary International humanitarian projects. \n\n\n	Related
URL:https://valleybusinessreport.com/event/ride-for-rotary-queen-isabella-causeway-cross/
LOCATION:Brownsville Event Center\, 1 Event Center\, Brownsville\, 78526\, United States
CATEGORIES:Fundraisers,Recreation
ATTACH;FMTTYPE=image/png:https://valleybusinessreport.com/wp-content/uploads/2021/09/Ride-for-Rotary.png
GEO:25.9621367;-97.4880968
X-APPLE-STRUCTURED-LOCATION;VALUE=URI;X-ADDRESS=Brownsville Event Center 1 Event Center Brownsville 78526 United States;X-APPLE-RADIUS=500;X-TITLE=1 Event Center:geo:-97.4880968,25.9621367
END:VEVENT
END:VCALENDAR