BEGIN:VCALENDAR
VERSION:2.0
PRODID:-//VBR - ECPv6.15.17.1//NONSGML v1.0//EN
CALSCALE:GREGORIAN
METHOD:PUBLISH
X-ORIGINAL-URL:https://valleybusinessreport.com
X-WR-CALDESC:Events for VBR
REFRESH-INTERVAL;VALUE=DURATION:PT1H
X-Robots-Tag:noindex
X-PUBLISHED-TTL:PT1H
BEGIN:VTIMEZONE
TZID:America/Chicago
BEGIN:DAYLIGHT
TZOFFSETFROM:-0600
TZOFFSETTO:-0500
TZNAME:CDT
DTSTART:20200308T080000
END:DAYLIGHT
BEGIN:STANDARD
TZOFFSETFROM:-0500
TZOFFSETTO:-0600
TZNAME:CST
DTSTART:20201101T070000
END:STANDARD
BEGIN:DAYLIGHT
TZOFFSETFROM:-0600
TZOFFSETTO:-0500
TZNAME:CDT
DTSTART:20210314T080000
END:DAYLIGHT
BEGIN:STANDARD
TZOFFSETFROM:-0500
TZOFFSETTO:-0600
TZNAME:CST
DTSTART:20211107T070000
END:STANDARD
BEGIN:DAYLIGHT
TZOFFSETFROM:-0600
TZOFFSETTO:-0500
TZNAME:CDT
DTSTART:20220313T080000
END:DAYLIGHT
BEGIN:STANDARD
TZOFFSETFROM:-0500
TZOFFSETTO:-0600
TZNAME:CST
DTSTART:20221106T070000
END:STANDARD
END:VTIMEZONE
BEGIN:VEVENT
DTSTART;TZID=America/Chicago:20210424T203000
DTEND;TZID=America/Chicago:20210424T223000
DTSTAMP:20260421T062138
CREATED:20210414T195818Z
LAST-MODIFIED:20210414T195838Z
UID:10000569-1619296200-1619303400@valleybusinessreport.com
SUMMARY:South Padre Island Sand Crab Nighttime Beach Run
DESCRIPTION:The South Padre Island Sand Crab on April 24 includes a 5k and 10k that start at 8:30 p.m.\, and a Kids Mile that starts at 8 p.m. All distances start and finish at the Pearl South Padre Resort. \nEntry includes the official race t-shirt and a finisher medal\, along with a post-race party and awards ceremony on the pool deck at the Pearl South Padre Resort. Free glow jewelry is also included. \nThe South Padre Island Sand Crab benefits Sea Turtle Inc.\, a South Padre-based non-profit dedicated to the conservation and rehabilitation of sea turtles. \nRegister online.\n\n\n	Related
URL:https://valleybusinessreport.com/event/south-padre-island-sand-crab-nighttime-beach-run/
LOCATION:Pearl South Padre Resort\, 310 Padre Blvd.\, South Padre Island\, TX\, 78597\, United States
ATTACH;FMTTYPE=image/jpeg:https://valleybusinessreport.com/wp-content/uploads/2021/04/SPI_SandCrabNight.jpg
END:VEVENT
END:VCALENDAR