BEGIN:VCALENDAR
VERSION:2.0
PRODID:-//VBR - ECPv6.15.17.1//NONSGML v1.0//EN
CALSCALE:GREGORIAN
METHOD:PUBLISH
X-WR-CALNAME:VBR
X-ORIGINAL-URL:https://valleybusinessreport.com
X-WR-CALDESC:Events for VBR
REFRESH-INTERVAL;VALUE=DURATION:PT1H
X-Robots-Tag:noindex
X-PUBLISHED-TTL:PT1H
BEGIN:VTIMEZONE
TZID:America/Chicago
BEGIN:DAYLIGHT
TZOFFSETFROM:-0600
TZOFFSETTO:-0500
TZNAME:CDT
DTSTART:20210314T080000
END:DAYLIGHT
BEGIN:STANDARD
TZOFFSETFROM:-0500
TZOFFSETTO:-0600
TZNAME:CST
DTSTART:20211107T070000
END:STANDARD
BEGIN:DAYLIGHT
TZOFFSETFROM:-0600
TZOFFSETTO:-0500
TZNAME:CDT
DTSTART:20220313T080000
END:DAYLIGHT
BEGIN:STANDARD
TZOFFSETFROM:-0500
TZOFFSETTO:-0600
TZNAME:CST
DTSTART:20221106T070000
END:STANDARD
BEGIN:DAYLIGHT
TZOFFSETFROM:-0600
TZOFFSETTO:-0500
TZNAME:CDT
DTSTART:20230312T080000
END:DAYLIGHT
BEGIN:STANDARD
TZOFFSETFROM:-0500
TZOFFSETTO:-0600
TZNAME:CST
DTSTART:20231105T070000
END:STANDARD
END:VTIMEZONE
BEGIN:VEVENT
DTSTART;TZID=America/Chicago:20221110T080000
DTEND;TZID=America/Chicago:20221110T120000
DTSTAMP:20260422T042314
CREATED:20221101T183608Z
LAST-MODIFIED:20221101T183608Z
UID:10000835-1668067200-1668081600@valleybusinessreport.com
SUMMARY:Hiring Red\, White & You!
DESCRIPTION:Hiring Red\, White & You! is a statewide hiring event that connects veterans\, transitioning military members and military spouses to employers across Texas. This year’s local event takes place Nov. 10 at the Brownsville Event Center. \n\n\n\n\nHiring Red\, White and You! has been working to connect Texas veterans with employers since 2012. \nIn that time\, it has: \n\nWorked with more than 20\,131employers.\nConnected more than 114\,778 job seekers to meaningful job opportunities.\nHelped facilitate over 3\,198 same-day hires.\n\nJob seekers may register online. \n*Sources: Texas Workforce Commission\, Bureau of Labor Statistics \n\n\n\n\n	Related
URL:https://valleybusinessreport.com/event/hiring-red-white-you/
LOCATION:Brownsville Event Center\, 1 Event Center\, Brownsville\, 78526\, United States
CATEGORIES:Hiring events
ATTACH;FMTTYPE=image/png:https://valleybusinessreport.com/wp-content/uploads/2022/11/hiring-red-white-and-you-logo.png
ORGANIZER;CN="Sally Perez":MAILTO:sally.perez@wfscameron.org
GEO:25.9621367;-97.4880968
X-APPLE-STRUCTURED-LOCATION;VALUE=URI;X-ADDRESS=Brownsville Event Center 1 Event Center Brownsville 78526 United States;X-APPLE-RADIUS=500;X-TITLE=1 Event Center:geo:-97.4880968,25.9621367
END:VEVENT
END:VCALENDAR