BEGIN:VCALENDAR
VERSION:2.0
PRODID:-//VBR - ECPv6.15.17.1//NONSGML v1.0//EN
CALSCALE:GREGORIAN
METHOD:PUBLISH
X-WR-CALNAME:VBR
X-ORIGINAL-URL:https://valleybusinessreport.com
X-WR-CALDESC:Events for VBR
REFRESH-INTERVAL;VALUE=DURATION:PT1H
X-Robots-Tag:noindex
X-PUBLISHED-TTL:PT1H
BEGIN:VTIMEZONE
TZID:America/Chicago
BEGIN:DAYLIGHT
TZOFFSETFROM:-0600
TZOFFSETTO:-0500
TZNAME:CDT
DTSTART:20200308T080000
END:DAYLIGHT
BEGIN:STANDARD
TZOFFSETFROM:-0500
TZOFFSETTO:-0600
TZNAME:CST
DTSTART:20201101T070000
END:STANDARD
BEGIN:DAYLIGHT
TZOFFSETFROM:-0600
TZOFFSETTO:-0500
TZNAME:CDT
DTSTART:20210314T080000
END:DAYLIGHT
BEGIN:STANDARD
TZOFFSETFROM:-0500
TZOFFSETTO:-0600
TZNAME:CST
DTSTART:20211107T070000
END:STANDARD
BEGIN:DAYLIGHT
TZOFFSETFROM:-0600
TZOFFSETTO:-0500
TZNAME:CDT
DTSTART:20220313T080000
END:DAYLIGHT
BEGIN:STANDARD
TZOFFSETFROM:-0500
TZOFFSETTO:-0600
TZNAME:CST
DTSTART:20221106T070000
END:STANDARD
END:VTIMEZONE
BEGIN:VEVENT
DTSTART;TZID=America/Chicago:20211013T080000
DTEND;TZID=America/Chicago:20211013T170000
DTSTAMP:20260421T142950
CREATED:20211013T215540Z
LAST-MODIFIED:20211013T215555Z
UID:10000514-1634112000-1634144400@valleybusinessreport.com
SUMMARY:Kid's Night Out At Sea Turtle Inc.
DESCRIPTION:Sea Turtle Inc. hosts a Kid’s Night Out for children ages 7-14 years old Oct. 16. Children will participate in educational sea turtle activities and spooky activities hosted by sea turtle educators. Pizza\, snacks and drinks are included in the $50 registration. \nRegister online.\n\n\n	Related
URL:https://valleybusinessreport.com/event/kids-night-out-at-sea-turtle-inc/
LOCATION:Sea Turtle Inc.\, 6617 Padre Blvd.\, South Padre Island\, TX\, 78597\, United States
CATEGORIES:Recreation
ATTACH;FMTTYPE=image/png:https://valleybusinessreport.com/wp-content/uploads/2021/10/Sea-Turtle-Inc-kids-night-out.png
END:VEVENT
END:VCALENDAR