BEGIN:VCALENDAR
VERSION:2.0
PRODID:-//VBR - ECPv6.15.17.1//NONSGML v1.0//EN
CALSCALE:GREGORIAN
METHOD:PUBLISH
X-ORIGINAL-URL:https://valleybusinessreport.com
X-WR-CALDESC:Events for VBR
REFRESH-INTERVAL;VALUE=DURATION:PT1H
X-Robots-Tag:noindex
X-PUBLISHED-TTL:PT1H
BEGIN:VTIMEZONE
TZID:America/Chicago
BEGIN:DAYLIGHT
TZOFFSETFROM:-0600
TZOFFSETTO:-0500
TZNAME:CDT
DTSTART:20210314T080000
END:DAYLIGHT
BEGIN:STANDARD
TZOFFSETFROM:-0500
TZOFFSETTO:-0600
TZNAME:CST
DTSTART:20211107T070000
END:STANDARD
BEGIN:DAYLIGHT
TZOFFSETFROM:-0600
TZOFFSETTO:-0500
TZNAME:CDT
DTSTART:20220313T080000
END:DAYLIGHT
BEGIN:STANDARD
TZOFFSETFROM:-0500
TZOFFSETTO:-0600
TZNAME:CST
DTSTART:20221106T070000
END:STANDARD
BEGIN:DAYLIGHT
TZOFFSETFROM:-0600
TZOFFSETTO:-0500
TZNAME:CDT
DTSTART:20230312T080000
END:DAYLIGHT
BEGIN:STANDARD
TZOFFSETFROM:-0500
TZOFFSETTO:-0600
TZNAME:CST
DTSTART:20231105T070000
END:STANDARD
BEGIN:DAYLIGHT
TZOFFSETFROM:-0600
TZOFFSETTO:-0500
TZNAME:CDT
DTSTART:20240310T080000
END:DAYLIGHT
BEGIN:STANDARD
TZOFFSETFROM:-0500
TZOFFSETTO:-0600
TZNAME:CST
DTSTART:20241103T070000
END:STANDARD
END:VTIMEZONE
BEGIN:VEVENT
DTSTART;TZID=America/Chicago:20230506T080000
DTEND;TZID=America/Chicago:20230506T170000
DTSTAMP:20260421T040229
CREATED:20230503T162723Z
LAST-MODIFIED:20230503T162723Z
UID:10000913-1683360000-1683392400@valleybusinessreport.com
SUMMARY:Alligator Sanctuary Anniversary
DESCRIPTION:The South Padre Island Birding\, Nature Center & Alligator Sanctuary celebrates its fourth anniversary on May 6 with fun for the young and young at heart. \nGator Talks are scheduled at 11a.m.\, 1:30 p.m. and 3:30 p.m. Come by and visit with baby gators\, juvenile gators and see the King Queen Gators – Big Padre and Lady Laguna. \nFree admission. \n\n\n	Related
URL:https://valleybusinessreport.com/event/alligator-sanctuary-anniversary-2/
LOCATION:South Padre Island Birding\, Nature Center & Alligator Sanctuary\, 6801 Padre Boulevard\, South Padre Island\, TX\, 78597\, United States
CATEGORIES:Festivals and Celebrations
ATTACH;FMTTYPE=image/png:https://valleybusinessreport.com/wp-content/uploads/2023/05/AlligatorSanctuaryAnnivFlyer123.png
ORGANIZER;CN="South Padre Island Birding%2C Nature Center & Alligator Sanctuary":MAILTO:choward@spibirding.com
END:VEVENT
BEGIN:VEVENT
DTSTART;TZID=America/Chicago:20220507T080000
DTEND;TZID=America/Chicago:20220507T170000
DTSTAMP:20260421T040229
CREATED:20220504T170457Z
LAST-MODIFIED:20220504T170457Z
UID:10000603-1651910400-1651942800@valleybusinessreport.com
SUMMARY:Alligator Sanctuary Anniversary
DESCRIPTION:Join the South Padre Island Birding\, Nature Center & Alligator Sanctuary on May 7 to celebrate the third anniversary of the Alligator Sanctuary. \nLearn all about the biology of an American alligator and the Alligator Sanctuary through our educational “Gator Talks.” \nAfterwards\, see the feeding of Big Padre\, the center’s 12.5-foot alligator. The center will have cake\, cookies and refreshments while supplies last. \nFree admission all day. \n\n\n	Related
URL:https://valleybusinessreport.com/event/alligator-sanctuary-anniversary/
LOCATION:South Padre Island Birding\, Nature Center & Alligator Sanctuary\, 6801 Padre Boulevard\, South Padre Island\, TX\, 78597\, United States
CATEGORIES:Festivals and Celebrations
ATTACH;FMTTYPE=image/jpeg:https://valleybusinessreport.com/wp-content/uploads/2022/05/Alligator-Sanctuary_third-anniversary.jpg
ORGANIZER;CN="South Padre Island Birding%2C Nature Center & Alligator Sanctuary":MAILTO:choward@spibirding.com
END:VEVENT
BEGIN:VEVENT
DTSTART;VALUE=DATE:20220423
DTEND;VALUE=DATE:20220425
DTSTAMP:20260421T040229
CREATED:20220401T004741Z
LAST-MODIFIED:20220401T004741Z
UID:10000797-1650672000-1650844799@valleybusinessreport.com
SUMMARY:Spring Migration Celebration
DESCRIPTION:Experience the spectacle and colors of spring bird migration through South Padre Island at the Spring Migration Celebration April 23-24. \nThe weekend includes birding workshops and presentations and a native plant sale. Also on the schedule are Island golf cart birding tours and kids’ activities. \n\n\n	Related
URL:https://valleybusinessreport.com/event/spring-migration-celebration/
LOCATION:South Padre Island Birding\, Nature Center & Alligator Sanctuary\, 6801 Padre Boulevard\, South Padre Island\, TX\, 78597\, United States
CATEGORIES:Festivals and Celebrations
ATTACH;FMTTYPE=image/png:https://valleybusinessreport.com/wp-content/uploads/2022/03/Spring-Migration-Celebration.png
ORGANIZER;CN="South Padre Island Birding%2C Nature Center & Alligator Sanctuary":MAILTO:choward@spibirding.com
END:VEVENT
END:VCALENDAR