BEGIN:VCALENDAR
VERSION:2.0
PRODID:-//VBR - ECPv6.15.17.1//NONSGML v1.0//EN
CALSCALE:GREGORIAN
METHOD:PUBLISH
X-WR-CALNAME:VBR
X-ORIGINAL-URL:https://valleybusinessreport.com
X-WR-CALDESC:Events for VBR
REFRESH-INTERVAL;VALUE=DURATION:PT1H
X-Robots-Tag:noindex
X-PUBLISHED-TTL:PT1H
BEGIN:VTIMEZONE
TZID:America/Chicago
BEGIN:DAYLIGHT
TZOFFSETFROM:-0600
TZOFFSETTO:-0500
TZNAME:CDT
DTSTART:20200308T080000
END:DAYLIGHT
BEGIN:STANDARD
TZOFFSETFROM:-0500
TZOFFSETTO:-0600
TZNAME:CST
DTSTART:20201101T070000
END:STANDARD
BEGIN:DAYLIGHT
TZOFFSETFROM:-0600
TZOFFSETTO:-0500
TZNAME:CDT
DTSTART:20210314T080000
END:DAYLIGHT
BEGIN:STANDARD
TZOFFSETFROM:-0500
TZOFFSETTO:-0600
TZNAME:CST
DTSTART:20211107T070000
END:STANDARD
BEGIN:DAYLIGHT
TZOFFSETFROM:-0600
TZOFFSETTO:-0500
TZNAME:CDT
DTSTART:20220313T080000
END:DAYLIGHT
BEGIN:STANDARD
TZOFFSETFROM:-0500
TZOFFSETTO:-0600
TZNAME:CST
DTSTART:20221106T070000
END:STANDARD
BEGIN:DAYLIGHT
TZOFFSETFROM:-0600
TZOFFSETTO:-0500
TZNAME:CDT
DTSTART:20230312T080000
END:DAYLIGHT
BEGIN:STANDARD
TZOFFSETFROM:-0500
TZOFFSETTO:-0600
TZNAME:CST
DTSTART:20231105T070000
END:STANDARD
END:VTIMEZONE
BEGIN:VEVENT
DTSTART;VALUE=DATE:20221019
DTEND;VALUE=DATE:20221021
DTSTAMP:20260421T060705
CREATED:20221010T180932Z
LAST-MODIFIED:20221010T180932Z
UID:10000666-1666137600-1666310399@valleybusinessreport.com
SUMMARY:ServSafe Food Managers Certification
DESCRIPTION:The ServSafe Food Managers Certification on Oct. 18-19 provides the training needed to meet SPI City Ordinances. Certification classes take place once a year and are good for five years. This is a two-day class offered in both English and Spanish\, with the test administered on the second day. \nRegistration is $200 for South Padre Island Chamber of Commerce members\, $225 for prospective members. Registration includes two days of classes\, state exam and lunch on Tuesday. Those wishing to keep the instruction book may pay an additional $40 fee. \nThe English class takes place at 321 Padre Blvd.\, while the Spanish class is at 610 Padre Blvd. \nDownload the registration form and/or fly\, and register online.\n\n\n\n\n	Related
URL:https://valleybusinessreport.com/event/servsafe-food-managers-certification-2/
LOCATION:Multiple sites\, South Padre Island
CATEGORIES:Seminars and Workshops
ATTACH;FMTTYPE=image/jpeg:https://valleybusinessreport.com/wp-content/uploads/2020/09/ServSafe.jpg
ORGANIZER;CN="South Padre Island Chamber of Commerce":MAILTO:info@spichamber.com
END:VEVENT
BEGIN:VEVENT
DTSTART;TZID=America/Chicago:20221018T173000
DTEND;TZID=America/Chicago:20221018T190000
DTSTAMP:20260421T060705
CREATED:20221010T175959Z
LAST-MODIFIED:20221010T175959Z
UID:10000664-1666114200-1666119600@valleybusinessreport.com
SUMMARY:SPI Chamber Fall Member Showcase
DESCRIPTION:Join the South Padre Island Chamber of Commerce on Oct. 18 for its Fall Member Showcase. Visit with more than 50 chamber members. \nAdmission is free and includes one drink coupon. \n\n\n	Related
URL:https://valleybusinessreport.com/event/spi-chamber-fall-member-showcase/
LOCATION:SPI Convention Center\, 7355 Padre Blvd.\, South Padre Island\, TX\, 78597\, United States
CATEGORIES:Festivals and Celebrations
ATTACH;FMTTYPE=image/png:https://valleybusinessreport.com/wp-content/uploads/2022/10/ShowcaseOct2022.png
ORGANIZER;CN="South Padre Island Chamber of Commerce":MAILTO:info@spichamber.com
END:VEVENT
BEGIN:VEVENT
DTSTART;TZID=America/Chicago:20221013T090000
DTEND;TZID=America/Chicago:20221013T100000
DTSTAMP:20260421T060705
CREATED:20220929T190044Z
LAST-MODIFIED:20220929T190306Z
UID:10000856-1665651600-1665655200@valleybusinessreport.com
SUMMARY:SPI Coffee & Conversation
DESCRIPTION:The South Padre Island Chamber of Commerce hosts its Coffee and Conversation on Oct. 13 with guest speaker Teri Capistran\, superintendent of Point Isabel ISD. Explore the opportunities to engage with students and educators to meet the workforce needs of businesses. \nCoffee and Conversation will also be on Facebook live @spichamber.\n\n\n	Related
URL:https://valleybusinessreport.com/event/spi-coffee-conversation/
LOCATION:Padre Island Brewing Company\, 3400 Padre Blvd.\, South Padre Island\, TX\, 78597\, United States
CATEGORIES:Speakers
ORGANIZER;CN="South Padre Island Chamber of Commerce":MAILTO:info@spichamber.com
END:VEVENT
BEGIN:VEVENT
DTSTART;TZID=America/Chicago:20220217T090000
DTEND;TZID=America/Chicago:20220217T100000
DTSTAMP:20260421T060705
CREATED:20220207T191956Z
LAST-MODIFIED:20220207T191956Z
UID:10000690-1645088400-1645092000@valleybusinessreport.com
SUMMARY:SPI Coffee and Conversation
DESCRIPTION:Join the South Padre Island Chamber of Commerce Feb. 17 for “Coffee and Conversation” at Padre Island Brewing Co. \nVarious representatives from the City of South Padre Island will discuss spring break 2022. What is expected? What is being planned? Who did the city market to? Learn over a cup of coffee what to expect. \n\n\n	Related
URL:https://valleybusinessreport.com/event/spi-coffee-and-conversation-13/
LOCATION:Padre Island Brewing Company\, 3400 Padre Blvd.\, South Padre Island\, TX\, 78597\, United States
CATEGORIES:Networking
ATTACH;FMTTYPE=image/png:https://valleybusinessreport.com/wp-content/uploads/2022/02/CoffeeConversation_Feb2022.png
ORGANIZER;CN="South Padre Island Chamber of Commerce":MAILTO:info@spichamber.com
END:VEVENT
BEGIN:VEVENT
DTSTART;TZID=America/Chicago:20220210T173000
DTEND;TZID=America/Chicago:20220210T190000
DTSTAMP:20260421T060705
CREATED:20220201T212749Z
LAST-MODIFIED:20220201T213045Z
UID:10000686-1644514200-1644519600@valleybusinessreport.com
SUMMARY:SPI Chamber of Commerce 2022 Member Showcase
DESCRIPTION:The South Padre Island Chamber of Commerce presents its 2022 Member Showcase Feb. 10 at the SPI Convention Center. Visit more than 50 chamber members. The event includes samples\, giveaways and door prizes. \nFree admission includes one drink coupon for wine\, beer\, soft drink or water. \n\n\n	Related
URL:https://valleybusinessreport.com/event/spi-chamber-of-commerce-2022-member-showcase/
LOCATION:South Padre Island Convention Centre\, 7355 Padre Boulevard\, South Padre Island\, TX\, 78597\, United States
CATEGORIES:Networking
ATTACH;FMTTYPE=image/png:https://valleybusinessreport.com/wp-content/uploads/2022/02/SPI-Member-Showcase.png
ORGANIZER;CN="South Padre Island Chamber of Commerce":MAILTO:info@spichamber.com
END:VEVENT
BEGIN:VEVENT
DTSTART;TZID=America/Chicago:20220126T173000
DTEND;TZID=America/Chicago:20220126T190000
DTSTAMP:20260421T060705
CREATED:20220111T185305Z
LAST-MODIFIED:20220112T002722Z
UID:10000699-1643218200-1643223600@valleybusinessreport.com
SUMMARY:SPI Chamber Open House\, Ribbon Cutting & Mixer
DESCRIPTION:Join the South Padre Island Chamber of Commerce Jan. 26 as it holds a ribbon cutting\, open house and mixer at its new offices. Chamber members and area businesses may attend. \n\n\n	Related
URL:https://valleybusinessreport.com/event/spi-chamber-open-house-ribbon-cutting-mixer/
LOCATION:South Padre Island Chamber of Commerce\, 321 Padre Blvd.\, South Padre Island\, TX\, United States
CATEGORIES:Networking
ATTACH;FMTTYPE=image/png:https://valleybusinessreport.com/wp-content/uploads/2022/01/RibbonCutting_SPIChamber.png
ORGANIZER;CN="South Padre Island Chamber of Commerce":MAILTO:info@spichamber.com
END:VEVENT
BEGIN:VEVENT
DTSTART;TZID=America/Chicago:20220120T090000
DTEND;TZID=America/Chicago:20220120T100000
DTSTAMP:20260421T060705
CREATED:20220111T184415Z
LAST-MODIFIED:20220111T184415Z
UID:10000698-1642669200-1642672800@valleybusinessreport.com
SUMMARY:SPI Coffee and Conversation
DESCRIPTION:Join the South Padre Island Chamber for “Coffee and Conversation” to hear about new county projects on Jan. 20 at Padre Island Brewing Co. \nGreg Weykemp\, director of design for Edgewater Resources\, will serve as speaker for the January installment. Weykemp will address the possibility of bringing a deep-water marina to South Padre Island. \n\n\n	Related
URL:https://valleybusinessreport.com/event/spi-coffee-and-conversation-12/
LOCATION:Padre Island Brewing Company\, 3400 Padre Blvd.\, South Padre Island\, TX\, 78597\, United States
CATEGORIES:Networking
ATTACH;FMTTYPE=image/png:https://valleybusinessreport.com/wp-content/uploads/2022/01/CoffeeConversationI6.png
ORGANIZER;CN="South Padre Island Chamber of Commerce":MAILTO:info@spichamber.com
END:VEVENT
BEGIN:VEVENT
DTSTART;TZID=America/Chicago:20211118T170000
DTEND;TZID=America/Chicago:20211118T190000
DTSTAMP:20260421T060705
CREATED:20211117T195729Z
LAST-MODIFIED:20211117T195729Z
UID:10000526-1637254800-1637262000@valleybusinessreport.com
SUMMARY:Cameron County Children's Advocacy Center Mixer
DESCRIPTION:Join the South Padre Island Chamber of Commerce for the Cameron County Children’s Advocacy Center Mixer and Plush Toy Drive at the chamber office’s. \nFor more information\, contact Beverley Eymard at beverley@spichamber.com.\n\n\n	Related
URL:https://valleybusinessreport.com/event/cameron-county-childrens-advocacy-center-mixer/
LOCATION:South Padre Island Chamber of Commerce\, 321 Padre Blvd.\, South Padre Island\, TX\, United States
CATEGORIES:Networking
ATTACH;FMTTYPE=image/jpeg:https://valleybusinessreport.com/wp-content/uploads/2020/12/christmas-toys.jpg
ORGANIZER;CN="South Padre Island Chamber of Commerce":MAILTO:info@spichamber.com
END:VEVENT
BEGIN:VEVENT
DTSTART;TZID=America/Chicago:20211014T090000
DTEND;TZID=America/Chicago:20211014T100000
DTSTAMP:20260421T060705
CREATED:20211004T171934Z
LAST-MODIFIED:20211004T172009Z
UID:10000671-1634202000-1634205600@valleybusinessreport.com
SUMMARY:SPI Coffee and Conversation
DESCRIPTION:Join the South Padre Island Chamber for “Coffee and Conversation” to hear about new county projects on Oct. 14 at Padre Island Brewing Co. \nSpeakers are Cameron County Judge Eddie Trevino Jr. and County Commissioner Pct. 1 Sofia Benavides. \nThe Point Isabel ISD will also provide information on the November bond election. \n\n\n	Related
URL:https://valleybusinessreport.com/event/spi-coffee-and-conversation-11/
LOCATION:Padre Island Brewing Company\, 3400 Padre Blvd.\, South Padre Island\, TX\, 78597\, United States
CATEGORIES:Networking
ATTACH;FMTTYPE=image/png:https://valleybusinessreport.com/wp-content/uploads/2021/10/CoffeeConversation_Oct21.png
ORGANIZER;CN="South Padre Island Chamber of Commerce":MAILTO:info@spichamber.com
END:VEVENT
BEGIN:VEVENT
DTSTART;TZID=America/Chicago:20210909T090000
DTEND;TZID=America/Chicago:20210909T090000
DTSTAMP:20260421T060705
CREATED:20210831T170001Z
LAST-MODIFIED:20210831T170323Z
UID:10000501-1631178000-1631178000@valleybusinessreport.com
SUMMARY:SPI Coffee & Conversation
DESCRIPTION:The South Padre Island Chamber of Commerce presents Coffee and Conversation Sept. 9. Speakers representing hotels\, retail\, vacation rental management\, restaurants and real estate. Hear how they feel the summer was\, their successes and their struggles. \n\n\n	Related
URL:https://valleybusinessreport.com/event/spi-coffee-conversation-3/
LOCATION:Padre Island Brewing Company\, 3400 Padre Blvd.\, South Padre Island\, TX\, 78597\, United States
CATEGORIES:Networking
ATTACH;FMTTYPE=image/png:https://valleybusinessreport.com/wp-content/uploads/2021/08/CoffeeConversationI4.png
ORGANIZER;CN="South Padre Island Chamber of Commerce":MAILTO:info@spichamber.com
END:VEVENT
BEGIN:VEVENT
DTSTART;TZID=America/Chicago:20210415T090000
DTEND;TZID=America/Chicago:20210415T100000
DTSTAMP:20260421T060705
CREATED:20210407T194327Z
LAST-MODIFIED:20210407T194551Z
UID:10000567-1618477200-1618480800@valleybusinessreport.com
SUMMARY:SPI Coffee & Conversation
DESCRIPTION:The South Padre Island Chamber of Commerce presents Coffee and Conversation April 15 with guest speaker Marv Esterly. Esterly currently serves as director of aviation for Valley International Airport. \nFind out what is happening at the airport and about new flights\, as well as expectations for summer travel. \n\n\n	Related
URL:https://valleybusinessreport.com/event/spi-coffee-conversation-2/
LOCATION:Padre Island Brewing Company\, 3400 Padre Blvd.\, South Padre Island\, TX\, 78597\, United States
CATEGORIES:Networking
ATTACH;FMTTYPE=image/png:https://valleybusinessreport.com/wp-content/uploads/2021/04/CoffeeAndConversation_0421.png
ORGANIZER;CN="South Padre Island Chamber of Commerce":MAILTO:info@spichamber.com
END:VEVENT
END:VCALENDAR