BEGIN:VCALENDAR
VERSION:2.0
PRODID:-//VBR - ECPv6.15.17.1//NONSGML v1.0//EN
CALSCALE:GREGORIAN
METHOD:PUBLISH
X-ORIGINAL-URL:https://valleybusinessreport.com
X-WR-CALDESC:Events for VBR
REFRESH-INTERVAL;VALUE=DURATION:PT1H
X-Robots-Tag:noindex
X-PUBLISHED-TTL:PT1H
BEGIN:VTIMEZONE
TZID:America/Chicago
BEGIN:DAYLIGHT
TZOFFSETFROM:-0600
TZOFFSETTO:-0500
TZNAME:CDT
DTSTART:20210314T080000
END:DAYLIGHT
BEGIN:STANDARD
TZOFFSETFROM:-0500
TZOFFSETTO:-0600
TZNAME:CST
DTSTART:20211107T070000
END:STANDARD
BEGIN:DAYLIGHT
TZOFFSETFROM:-0600
TZOFFSETTO:-0500
TZNAME:CDT
DTSTART:20220313T080000
END:DAYLIGHT
BEGIN:STANDARD
TZOFFSETFROM:-0500
TZOFFSETTO:-0600
TZNAME:CST
DTSTART:20221106T070000
END:STANDARD
BEGIN:DAYLIGHT
TZOFFSETFROM:-0600
TZOFFSETTO:-0500
TZNAME:CDT
DTSTART:20230312T080000
END:DAYLIGHT
BEGIN:STANDARD
TZOFFSETFROM:-0500
TZOFFSETTO:-0600
TZNAME:CST
DTSTART:20231105T070000
END:STANDARD
BEGIN:DAYLIGHT
TZOFFSETFROM:-0600
TZOFFSETTO:-0500
TZNAME:CDT
DTSTART:20240310T080000
END:DAYLIGHT
BEGIN:STANDARD
TZOFFSETFROM:-0500
TZOFFSETTO:-0600
TZNAME:CST
DTSTART:20241103T070000
END:STANDARD
END:VTIMEZONE
BEGIN:VEVENT
DTSTART;VALUE=DATE:20230224
DTEND;VALUE=DATE:20230227
DTSTAMP:20260421T143430
CREATED:20220113T150734Z
LAST-MODIFIED:20230213T203057Z
UID:10000708-1677196800-1677455999@valleybusinessreport.com
SUMMARY:SPI Market Days
DESCRIPTION:Visit the SPI Convention Center Jan 21-23 and Feb. 25-27 for SPI Market Days. Enjoy live music while exploring the different treasures from vendors from all over the world. Items include art\, gourmet food\, custom creations\, fashion and beauty\, home and garden decor\, cosmetics\, local activities\, jewelry\, tools\, health products\, pet merchandise and more. \nFood truck will be serving breakfast and lunch\, \nAdmission is $1\, parking is free. \n\n\n	Related
URL:https://valleybusinessreport.com/event/spi-market-days/2023-02-24/
LOCATION:SPI Convention Center\, 7355 Padre Blvd.\, South Padre Island\, TX\, 78597\, United States
CATEGORIES:Shopping
ATTACH;FMTTYPE=image/jpeg:https://valleybusinessreport.com/wp-content/uploads/2022/01/SPI-Market-Days-2022.jpg
ORGANIZER;CN="South Padre Island Convention & Visitors Bureau":MAILTO:info@sopadre.com
END:VEVENT
BEGIN:VEVENT
DTSTART;TZID=America/Chicago:20220704T090000
DTEND;TZID=America/Chicago:20220704T090000
DTSTAMP:20260421T143430
CREATED:20220629T174205Z
LAST-MODIFIED:20220629T174205Z
UID:10000753-1656925200-1656925200@valleybusinessreport.com
SUMMARY:4th of July Walking Beach Parade
DESCRIPTION:South Padre Island presents a 4th of July Walking Beach Parade on July 4 lining up at 9 a.m. at Beach Access #21. The parade begins at 9:30 a.m. and concludes at Beach Access #17. \nWatermelon\, water and giveaways while supplies last. \n\n\n	Related
URL:https://valleybusinessreport.com/event/4th-of-july-walking-beach-parade/
LOCATION:Beach Access #21\, Goodhope Circle\, South Padre Island\, TX\, 78578\, United States
CATEGORIES:Festivals and Celebrations
ATTACH;FMTTYPE=image/png:https://valleybusinessreport.com/wp-content/uploads/2022/06/SPI-July-4-walk-2022.png
ORGANIZER;CN="South Padre Island Convention & Visitors Bureau":MAILTO:info@sopadre.com
END:VEVENT
BEGIN:VEVENT
DTSTART;VALUE=DATE:20220121
DTEND;VALUE=DATE:20220124
DTSTAMP:20260421T143430
CREATED:20220113T150734Z
LAST-MODIFIED:20230213T203057Z
UID:10000707-1642723200-1642982399@valleybusinessreport.com
SUMMARY:SPI Market Days
DESCRIPTION:Visit the SPI Convention Center Jan 21-23 and Feb. 25-27 for SPI Market Days. Enjoy live music while exploring the different treasures from vendors from all over the world. Items include art\, gourmet food\, custom creations\, fashion and beauty\, home and garden decor\, cosmetics\, local activities\, jewelry\, tools\, health products\, pet merchandise and more. \nFood truck will be serving breakfast and lunch\, \nAdmission is $1\, parking is free. \n\n\n	Related
URL:https://valleybusinessreport.com/event/spi-market-days/2022-01-21/
LOCATION:SPI Convention Center\, 7355 Padre Blvd.\, South Padre Island\, TX\, 78597\, United States
CATEGORIES:Shopping
ATTACH;FMTTYPE=image/jpeg:https://valleybusinessreport.com/wp-content/uploads/2022/01/SPI-Market-Days-2022.jpg
ORGANIZER;CN="South Padre Island Convention & Visitors Bureau":MAILTO:info@sopadre.com
END:VEVENT
END:VCALENDAR