BEGIN:VCALENDAR
VERSION:2.0
PRODID:-//VBR - ECPv6.15.17.1//NONSGML v1.0//EN
CALSCALE:GREGORIAN
METHOD:PUBLISH
X-WR-CALNAME:VBR
X-ORIGINAL-URL:https://valleybusinessreport.com
X-WR-CALDESC:Events for VBR
REFRESH-INTERVAL;VALUE=DURATION:PT1H
X-Robots-Tag:noindex
X-PUBLISHED-TTL:PT1H
BEGIN:VTIMEZONE
TZID:America/Chicago
BEGIN:DAYLIGHT
TZOFFSETFROM:-0600
TZOFFSETTO:-0500
TZNAME:CDT
DTSTART:20200308T080000
END:DAYLIGHT
BEGIN:STANDARD
TZOFFSETFROM:-0500
TZOFFSETTO:-0600
TZNAME:CST
DTSTART:20201101T070000
END:STANDARD
BEGIN:DAYLIGHT
TZOFFSETFROM:-0600
TZOFFSETTO:-0500
TZNAME:CDT
DTSTART:20210314T080000
END:DAYLIGHT
BEGIN:STANDARD
TZOFFSETFROM:-0500
TZOFFSETTO:-0600
TZNAME:CST
DTSTART:20211107T070000
END:STANDARD
BEGIN:DAYLIGHT
TZOFFSETFROM:-0600
TZOFFSETTO:-0500
TZNAME:CDT
DTSTART:20220313T080000
END:DAYLIGHT
BEGIN:STANDARD
TZOFFSETFROM:-0500
TZOFFSETTO:-0600
TZNAME:CST
DTSTART:20221106T070000
END:STANDARD
END:VTIMEZONE
BEGIN:VEVENT
DTSTART;VALUE=DATE:20211106
DTEND;VALUE=DATE:20211107
DTSTAMP:20260421T044646
CREATED:20211101T195000Z
LAST-MODIFIED:20211101T195000Z
UID:10000657-1636156800-1636243199@valleybusinessreport.com
SUMMARY:2021 SPI Muzicians Run 5k/10k Fun Run/Walk
DESCRIPTION:South Padre Island Mariachi Run is now the South Padre Island Muzicians Run 5k/10k. The event takes place Nov. 6 with a running course infused with live entertainment. \nEveryone is invited to participate in this non-timed fun run/walk. \n  \n\n\n	Related
URL:https://valleybusinessreport.com/event/2021-spi-muzicians-run-5k-10k-fun-run-walk/
LOCATION:Beach Park at Isla Blanca\, 33261 State Park Road Hwy 100\, South Padre Island\, TX\, 78597\, United States
CATEGORIES:Recreation
ATTACH;FMTTYPE=image/jpeg:https://valleybusinessreport.com/wp-content/uploads/2021/11/MuziciansRun.jpg
END:VEVENT
END:VCALENDAR