BEGIN:VCALENDAR
VERSION:2.0
PRODID:-//VBR - ECPv6.15.17.1//NONSGML v1.0//EN
CALSCALE:GREGORIAN
METHOD:PUBLISH
X-WR-CALNAME:VBR
X-ORIGINAL-URL:https://valleybusinessreport.com
X-WR-CALDESC:Events for VBR
REFRESH-INTERVAL;VALUE=DURATION:PT1H
X-Robots-Tag:noindex
X-PUBLISHED-TTL:PT1H
BEGIN:VTIMEZONE
TZID:America/Chicago
BEGIN:DAYLIGHT
TZOFFSETFROM:-0600
TZOFFSETTO:-0500
TZNAME:CDT
DTSTART:20210314T080000
END:DAYLIGHT
BEGIN:STANDARD
TZOFFSETFROM:-0500
TZOFFSETTO:-0600
TZNAME:CST
DTSTART:20211107T070000
END:STANDARD
BEGIN:DAYLIGHT
TZOFFSETFROM:-0600
TZOFFSETTO:-0500
TZNAME:CDT
DTSTART:20220313T080000
END:DAYLIGHT
BEGIN:STANDARD
TZOFFSETFROM:-0500
TZOFFSETTO:-0600
TZNAME:CST
DTSTART:20221106T070000
END:STANDARD
BEGIN:DAYLIGHT
TZOFFSETFROM:-0600
TZOFFSETTO:-0500
TZNAME:CDT
DTSTART:20230312T080000
END:DAYLIGHT
BEGIN:STANDARD
TZOFFSETFROM:-0500
TZOFFSETTO:-0600
TZNAME:CST
DTSTART:20231105T070000
END:STANDARD
END:VTIMEZONE
BEGIN:VEVENT
DTSTART;TZID=America/Chicago:20220403T170000
DTEND;TZID=America/Chicago:20220403T190000
DTSTAMP:20260421T055657
CREATED:20220330T201148Z
LAST-MODIFIED:20220330T201427Z
UID:10000727-1649005200-1649012400@valleybusinessreport.com
SUMMARY:LAUNCHPAD - Managing Your Money
DESCRIPTION:Join STARSociety April 3 to build foundational knowledge in budgeting and financial planning that will prepare you for your future educational journey. \nLAUNCHPAD is an initiative between the South Texas Astronomical Society (STARS) and Brownsville Public Library System. It aims to facilitate access to STEAM resources and opportunities for students and families in the Brownsville/RGV area. \nCareer Pathways sessions are focused on college readiness and the exploration of potential career pathways. These sessions are led by STARS Director of Education\, Maria Fernanda Martinez. \n\n\n	Related
URL:https://valleybusinessreport.com/event/launchpad-managing-your-money/
LOCATION:Brownsville Public Library – Main Branch\, 2600 Central Blvd.\, Brownsville\, TX\, United States
CATEGORIES:Seminars and Workshops
ATTACH;FMTTYPE=image/png:https://valleybusinessreport.com/wp-content/uploads/2022/03/LAUNCHPAD.png
END:VEVENT
END:VCALENDAR