BEGIN:VCALENDAR
VERSION:2.0
PRODID:-//VBR - ECPv6.15.17.1//NONSGML v1.0//EN
CALSCALE:GREGORIAN
METHOD:PUBLISH
X-WR-CALNAME:VBR
X-ORIGINAL-URL:https://valleybusinessreport.com
X-WR-CALDESC:Events for VBR
REFRESH-INTERVAL;VALUE=DURATION:PT1H
X-Robots-Tag:noindex
X-PUBLISHED-TTL:PT1H
BEGIN:VTIMEZONE
TZID:America/Chicago
BEGIN:DAYLIGHT
TZOFFSETFROM:-0600
TZOFFSETTO:-0500
TZNAME:CDT
DTSTART:20240310T080000
END:DAYLIGHT
BEGIN:STANDARD
TZOFFSETFROM:-0500
TZOFFSETTO:-0600
TZNAME:CST
DTSTART:20241103T070000
END:STANDARD
BEGIN:DAYLIGHT
TZOFFSETFROM:-0600
TZOFFSETTO:-0500
TZNAME:CDT
DTSTART:20250309T080000
END:DAYLIGHT
BEGIN:STANDARD
TZOFFSETFROM:-0500
TZOFFSETTO:-0600
TZNAME:CST
DTSTART:20251102T070000
END:STANDARD
BEGIN:DAYLIGHT
TZOFFSETFROM:-0600
TZOFFSETTO:-0500
TZNAME:CDT
DTSTART:20260308T080000
END:DAYLIGHT
BEGIN:STANDARD
TZOFFSETFROM:-0500
TZOFFSETTO:-0600
TZNAME:CST
DTSTART:20261101T070000
END:STANDARD
END:VTIMEZONE
BEGIN:VEVENT
DTSTART;VALUE=DATE:20250308
DTEND;VALUE=DATE:20250309
DTSTAMP:20260422T020652
CREATED:20250305T010216Z
LAST-MODIFIED:20250305T010216Z
UID:10001257-1741392000-1741478399@valleybusinessreport.com
SUMMARY:Eddie’s Safari Run
DESCRIPTION:South Texas Health System Children’s hosts its third annual Eddie’s Safari Run on March 8 in its main parking lot in Edinburg. The 5K starts at 7:30 a.m. and 2K at 8 a.m. \nThe event is aimed at educating children on the importance of leading a healthy lifestyle and encouraging to exercise and eat well\, habits that they’ll hopefully carry into adulthood. All proceeds to benefit South Texas Juvenile Diabetes Association. \nRegister online. \n\n\n	Related
URL:https://valleybusinessreport.com/event/eddies-safari-run/
LOCATION:South Texas Health System Children’s\, 1102 W. Trenton Road\, Edinburg\, 78539\, United States
CATEGORIES:Fundraisers
ATTACH;FMTTYPE=image/jpeg:https://valleybusinessreport.com/wp-content/uploads/2025/03/Eddie-Safari-Run-2025.jpg
ORGANIZER;CN="STHS Marketing Department":MAILTO:STHSMarketing@uhsinc.com
END:VEVENT
END:VCALENDAR