BEGIN:VCALENDAR
VERSION:2.0
PRODID:-//VBR - ECPv6.15.17.1//NONSGML v1.0//EN
CALSCALE:GREGORIAN
METHOD:PUBLISH
X-ORIGINAL-URL:https://valleybusinessreport.com
X-WR-CALDESC:Events for VBR
REFRESH-INTERVAL;VALUE=DURATION:PT1H
X-Robots-Tag:noindex
X-PUBLISHED-TTL:PT1H
BEGIN:VTIMEZONE
TZID:America/Chicago
BEGIN:DAYLIGHT
TZOFFSETFROM:-0600
TZOFFSETTO:-0500
TZNAME:CDT
DTSTART:20200308T080000
END:DAYLIGHT
BEGIN:STANDARD
TZOFFSETFROM:-0500
TZOFFSETTO:-0600
TZNAME:CST
DTSTART:20201101T070000
END:STANDARD
BEGIN:DAYLIGHT
TZOFFSETFROM:-0600
TZOFFSETTO:-0500
TZNAME:CDT
DTSTART:20210314T080000
END:DAYLIGHT
BEGIN:STANDARD
TZOFFSETFROM:-0500
TZOFFSETTO:-0600
TZNAME:CST
DTSTART:20211107T070000
END:STANDARD
BEGIN:DAYLIGHT
TZOFFSETFROM:-0600
TZOFFSETTO:-0500
TZNAME:CDT
DTSTART:20220313T080000
END:DAYLIGHT
BEGIN:STANDARD
TZOFFSETFROM:-0500
TZOFFSETTO:-0600
TZNAME:CST
DTSTART:20221106T070000
END:STANDARD
BEGIN:DAYLIGHT
TZOFFSETFROM:-0600
TZOFFSETTO:-0500
TZNAME:CDT
DTSTART:20230312T080000
END:DAYLIGHT
BEGIN:STANDARD
TZOFFSETFROM:-0500
TZOFFSETTO:-0600
TZNAME:CST
DTSTART:20231105T070000
END:STANDARD
BEGIN:DAYLIGHT
TZOFFSETFROM:-0600
TZOFFSETTO:-0500
TZNAME:CDT
DTSTART:20240310T080000
END:DAYLIGHT
BEGIN:STANDARD
TZOFFSETFROM:-0500
TZOFFSETTO:-0600
TZNAME:CST
DTSTART:20241103T070000
END:STANDARD
END:VTIMEZONE
BEGIN:VEVENT
DTSTART;TZID=America/Chicago:20230810T080000
DTEND;TZID=America/Chicago:20230810T133000
DTSTAMP:20260421T062722
CREATED:20230718T190940Z
LAST-MODIFIED:20230718T193046Z
UID:10000972-1691654400-1691674200@valleybusinessreport.com
SUMMARY:Governor’s Small Business Summit – McAllen
DESCRIPTION:The Governor’s Small Business Summit – McAllen on Aug. 10 aims to help Texas small business owners and aspiring entrepreneurs reach new heights by connecting them with the resources and information needed to start\, strengthen and grow a business. \nThis event offers a variety of sessions bringing together local\, state and federal resource partners to provide key insights on critical business topics. It’s also an opportunity to network with other business owners and meet experts who will share timely\, relevant and actionable advice on a multitude of small business subjects. \nRegister online. \n\n\n	Related
URL:https://valleybusinessreport.com/event/governors-small-business-summit-mcallen/
LOCATION:DoubleTree Suites by Hilton\, 1800 S 2nd Street\, McAllen\, TX\, 78503\, United States
CATEGORIES:Conferences and Summits
ATTACH;FMTTYPE=image/png:https://valleybusinessreport.com/wp-content/uploads/2020/10/Texas-Governor-seal.png
END:VEVENT
BEGIN:VEVENT
DTSTART;TZID=America/Chicago:20211007T130000
DTEND;TZID=America/Chicago:20211007T140000
DTSTAMP:20260421T062722
CREATED:20210927T172459Z
LAST-MODIFIED:20210927T172459Z
UID:10000624-1633611600-1633615200@valleybusinessreport.com
SUMMARY:Governor’s Small Business Webinar: Identifying Your Target Market
DESCRIPTION:Who is most likely to use your product or service? Learn how to effectively identify your target market during the next Governor’s Small Business Webinar Oct. 7. A panel of subject-matter experts will discuss the importance of determining your customer base. They will also provide key resources to help small businesses succeed. \nThe session includes a live Q&A session. \nRegister online.\n\n\n	Related
URL:https://valleybusinessreport.com/event/governors-small-business-webinar-identifying-your-target-market/
LOCATION:Online\, TX\, United States
CATEGORIES:Seminars and Workshops
ATTACH;FMTTYPE=image/jpeg:https://valleybusinessreport.com/wp-content/uploads/2021/09/target-market.jpg
END:VEVENT
BEGIN:VEVENT
DTSTART;TZID=America/Chicago:20210928T080000
DTEND;TZID=America/Chicago:20210928T090000
DTSTAMP:20260421T062722
CREATED:20210914T212415Z
LAST-MODIFIED:20210914T212415Z
UID:10000504-1632816000-1632819600@valleybusinessreport.com
SUMMARY:Let’s Talk Texas: Tips for International Businesses Investing in the Lone Star State
DESCRIPTION:Are you an international firm interested in joining Texas’ thriving business ecosystem? The Governor’s International Business & Trade Team invites you to join a panel of subject-matter experts Sept. 28 as they discuss best practices for companies expanding to the Lone Star State. \nBusinesses will hear from a certified public accountant specializing in international tax\, an immigration attorney and other corporate advisors to help you take the next step towards expanding or relocating your business to Texas. \nRegister online.\n\n\n	Related
URL:https://valleybusinessreport.com/event/lets-talk-texas-tips-for-international-businesses-investing-in-the-lone-star-state/
LOCATION:Online\, TX\, United States
CATEGORIES:Seminars and Workshops
ATTACH;FMTTYPE=image/png:https://valleybusinessreport.com/wp-content/uploads/2021/09/texas.png
END:VEVENT
BEGIN:VEVENT
DTSTART;TZID=America/Chicago:20210901T130000
DTEND;TZID=America/Chicago:20210901T140000
DTSTAMP:20260421T062722
CREATED:20210825T164032Z
LAST-MODIFIED:20210825T164032Z
UID:10000499-1630501200-1630504800@valleybusinessreport.com
SUMMARY:Governor’s Small Business Webinar: Workforce in Texas
DESCRIPTION:Join the Governor’s Small Business Team and a panel of subject-matter experts Sept. 1 as they discuss workforce challenges faced by small businesses across the state. The webinar will highlight key sources of information for entrepreneurs and resources to help small businesses succeed. \nA live Q&A session is part of the webinar. \nParticipation is free\, however there is a maximum capacity of 10\,000 attendees. \nRegister online.\n\n\n	Related
URL:https://valleybusinessreport.com/event/governors-small-business-webinar-workforce-in-texas/
LOCATION:Online\, TX\, United States
CATEGORIES:Seminars and Workshops
ATTACH;FMTTYPE=image/png:https://valleybusinessreport.com/wp-content/uploads/2020/10/Texas-Governor-seal.png
END:VEVENT
END:VCALENDAR