BEGIN:VCALENDAR
VERSION:2.0
PRODID:-//VBR - ECPv6.15.17.1//NONSGML v1.0//EN
CALSCALE:GREGORIAN
METHOD:PUBLISH
X-WR-CALNAME:VBR
X-ORIGINAL-URL:https://valleybusinessreport.com
X-WR-CALDESC:Events for VBR
REFRESH-INTERVAL;VALUE=DURATION:PT1H
X-Robots-Tag:noindex
X-PUBLISHED-TTL:PT1H
BEGIN:VTIMEZONE
TZID:America/Chicago
BEGIN:DAYLIGHT
TZOFFSETFROM:-0600
TZOFFSETTO:-0500
TZNAME:CDT
DTSTART:20210314T080000
END:DAYLIGHT
BEGIN:STANDARD
TZOFFSETFROM:-0500
TZOFFSETTO:-0600
TZNAME:CST
DTSTART:20211107T070000
END:STANDARD
BEGIN:DAYLIGHT
TZOFFSETFROM:-0600
TZOFFSETTO:-0500
TZNAME:CDT
DTSTART:20220313T080000
END:DAYLIGHT
BEGIN:STANDARD
TZOFFSETFROM:-0500
TZOFFSETTO:-0600
TZNAME:CST
DTSTART:20221106T070000
END:STANDARD
BEGIN:DAYLIGHT
TZOFFSETFROM:-0600
TZOFFSETTO:-0500
TZNAME:CDT
DTSTART:20230312T080000
END:DAYLIGHT
BEGIN:STANDARD
TZOFFSETFROM:-0500
TZOFFSETTO:-0600
TZNAME:CST
DTSTART:20231105T070000
END:STANDARD
END:VTIMEZONE
BEGIN:VEVENT
DTSTART;TZID=America/Chicago:20221104T083000
DTEND;TZID=America/Chicago:20221104T093000
DTSTAMP:20260422T013416
CREATED:20221101T180050Z
LAST-MODIFIED:20221101T181728Z
UID:10000678-1667550600-1667554200@valleybusinessreport.com
SUMMARY:Franchising for Veterans - Boots to Business Extended Tour
DESCRIPTION:The Boots to Business Extended Tour series on Nov. 4 is a collection of workshops meant to give veterans a deeper understanding of covered topics\, as well as exposure to relevant subject matter experts. \nThe Franchising for Veterans workshop dispels the myths and misunderstandings related to being a franchisee. By the end of the class\, attendees will have a better grasp of the opportunities franchising can provide to a veteran entrepreneur and will have the chance to speak directly with a franchise consultant who can match a veteran’s skillset with available franchises. \nEach Boots to Business Extended Tour workshop is a freestanding event. There is no requirement to attend any other workshop besides the ones that interest you. \nRegister online. \nFor more information\, contact Josh Patton at Joshua.patton@sba.gov or 956-261-4307\, or Veronica Chavez.\n\n\n	Related
URL:https://valleybusinessreport.com/event/franchising-for-veterans-boots-to-business-extended-tour/
LOCATION:St. Joseph Academy\, 101 Saint Joseph Dr. - Room 120\, Brownsville\, TX\, 78520\, United States
CATEGORIES:Seminars and Workshops
ATTACH;FMTTYPE=image/png:https://valleybusinessreport.com/wp-content/uploads/2022/11/reboot.png
ORGANIZER;CN="Veronica Chavez":MAILTO:veronica.chavez@sba.gov
END:VEVENT
END:VCALENDAR