BEGIN:VCALENDAR
VERSION:2.0
PRODID:-//VBR - ECPv6.15.17.1//NONSGML v1.0//EN
CALSCALE:GREGORIAN
METHOD:PUBLISH
X-WR-CALNAME:VBR
X-ORIGINAL-URL:https://valleybusinessreport.com
X-WR-CALDESC:Events for VBR
REFRESH-INTERVAL;VALUE=DURATION:PT1H
X-Robots-Tag:noindex
X-PUBLISHED-TTL:PT1H
BEGIN:VTIMEZONE
TZID:America/Chicago
BEGIN:DAYLIGHT
TZOFFSETFROM:-0600
TZOFFSETTO:-0500
TZNAME:CDT
DTSTART:20210314T080000
END:DAYLIGHT
BEGIN:STANDARD
TZOFFSETFROM:-0500
TZOFFSETTO:-0600
TZNAME:CST
DTSTART:20211107T070000
END:STANDARD
BEGIN:DAYLIGHT
TZOFFSETFROM:-0600
TZOFFSETTO:-0500
TZNAME:CDT
DTSTART:20220313T080000
END:DAYLIGHT
BEGIN:STANDARD
TZOFFSETFROM:-0500
TZOFFSETTO:-0600
TZNAME:CST
DTSTART:20221106T070000
END:STANDARD
BEGIN:DAYLIGHT
TZOFFSETFROM:-0600
TZOFFSETTO:-0500
TZNAME:CDT
DTSTART:20230312T080000
END:DAYLIGHT
BEGIN:STANDARD
TZOFFSETFROM:-0500
TZOFFSETTO:-0600
TZNAME:CST
DTSTART:20231105T070000
END:STANDARD
END:VTIMEZONE
BEGIN:VEVENT
DTSTART;TZID=America/Chicago:20220514T150000
DTEND;TZID=America/Chicago:20220514T230000
DTSTAMP:20260421T170923
CREATED:20220510T172623Z
LAST-MODIFIED:20220510T172703Z
UID:10000615-1652540400-1652569200@valleybusinessreport.com
SUMMARY:Watermelon Festival & Cook-off
DESCRIPTION:The 10th annual Watermelon Festival & Cook-off takes place May 14 from 3-11 p.m. in Alamo. This family-friendly event will have entertainment for everyone to enjoy. \nFestival offerings include:\n\nBeer Garden\nFood Vendors\nCarnival Rides\nArts and Crafts\nMusical Line-up\nFree Watermelon Slices\nState-Sanctioned Cook-off\n\n\n\n	Related
URL:https://valleybusinessreport.com/event/watermelon-festival-cook-off/
LOCATION:Alamo Downtown Central Park\, 800 E. Main Street\, Alamo\, TX\, United States
CATEGORIES:Festivals and Celebrations
ATTACH;FMTTYPE=image/jpeg:https://valleybusinessreport.com/wp-content/uploads/2022/05/WatermelonFest2022.jpg
END:VEVENT
END:VCALENDAR