BEGIN:VCALENDAR
VERSION:2.0
PRODID:-//VBR - ECPv6.15.17.1//NONSGML v1.0//EN
CALSCALE:GREGORIAN
METHOD:PUBLISH
X-ORIGINAL-URL:https://valleybusinessreport.com
X-WR-CALDESC:Events for VBR
REFRESH-INTERVAL;VALUE=DURATION:PT1H
X-Robots-Tag:noindex
X-PUBLISHED-TTL:PT1H
BEGIN:VTIMEZONE
TZID:America/Chicago
BEGIN:DAYLIGHT
TZOFFSETFROM:-0600
TZOFFSETTO:-0500
TZNAME:CDT
DTSTART:20220313T080000
END:DAYLIGHT
BEGIN:STANDARD
TZOFFSETFROM:-0500
TZOFFSETTO:-0600
TZNAME:CST
DTSTART:20221106T070000
END:STANDARD
BEGIN:DAYLIGHT
TZOFFSETFROM:-0600
TZOFFSETTO:-0500
TZNAME:CDT
DTSTART:20230312T080000
END:DAYLIGHT
BEGIN:STANDARD
TZOFFSETFROM:-0500
TZOFFSETTO:-0600
TZNAME:CST
DTSTART:20231105T070000
END:STANDARD
BEGIN:DAYLIGHT
TZOFFSETFROM:-0600
TZOFFSETTO:-0500
TZNAME:CDT
DTSTART:20240310T080000
END:DAYLIGHT
BEGIN:STANDARD
TZOFFSETFROM:-0500
TZOFFSETTO:-0600
TZNAME:CST
DTSTART:20241103T070000
END:STANDARD
END:VTIMEZONE
BEGIN:VEVENT
DTSTART;TZID=America/Chicago:20230223T120000
DTEND;TZID=America/Chicago:20230223T130000
DTSTAMP:20260421T101629
CREATED:20230206T184514Z
LAST-MODIFIED:20230206T184834Z
UID:10000884-1677153600-1677157200@valleybusinessreport.com
SUMMARY:Alamo Small Business Workshop
DESCRIPTION:The Alamo Economic Development Corporation hosts a free workshop on Feb. 23 about the EDC’s small business programs such as the Small Business Grant Program\, Micro-Loan Program and Revolving Loan Fund. The UTRGV-Small Business Development Center will also be on hand to provide information on services provided by SBDC. \nFor more information\, contact Rafael Tapia at rtapia@alamotexas.org or 956-787-6622. \n\n\n	Related
URL:https://valleybusinessreport.com/event/alamo-small-business-workshop/
LOCATION:Alamo EDC\, 715 E. Business 83\, Alamo\, TX\, 78516\, United States
CATEGORIES:Seminars and Workshops
ATTACH;FMTTYPE=image/png:https://valleybusinessreport.com/wp-content/uploads/2020/05/alamoedc.png
END:VEVENT
END:VCALENDAR