BEGIN:VCALENDAR
VERSION:2.0
PRODID:-//VBR - ECPv6.15.17.1//NONSGML v1.0//EN
CALSCALE:GREGORIAN
METHOD:PUBLISH
X-ORIGINAL-URL:https://valleybusinessreport.com
X-WR-CALDESC:Events for VBR
REFRESH-INTERVAL;VALUE=DURATION:PT1H
X-Robots-Tag:noindex
X-PUBLISHED-TTL:PT1H
BEGIN:VTIMEZONE
TZID:America/Chicago
BEGIN:DAYLIGHT
TZOFFSETFROM:-0600
TZOFFSETTO:-0500
TZNAME:CDT
DTSTART:20220313T080000
END:DAYLIGHT
BEGIN:STANDARD
TZOFFSETFROM:-0500
TZOFFSETTO:-0600
TZNAME:CST
DTSTART:20221106T070000
END:STANDARD
BEGIN:DAYLIGHT
TZOFFSETFROM:-0600
TZOFFSETTO:-0500
TZNAME:CDT
DTSTART:20230312T080000
END:DAYLIGHT
BEGIN:STANDARD
TZOFFSETFROM:-0500
TZOFFSETTO:-0600
TZNAME:CST
DTSTART:20231105T070000
END:STANDARD
BEGIN:DAYLIGHT
TZOFFSETFROM:-0600
TZOFFSETTO:-0500
TZNAME:CDT
DTSTART:20240310T080000
END:DAYLIGHT
BEGIN:STANDARD
TZOFFSETFROM:-0500
TZOFFSETTO:-0600
TZNAME:CST
DTSTART:20241103T070000
END:STANDARD
END:VTIMEZONE
BEGIN:VEVENT
DTSTART;TZID=America/Chicago:20230701T180000
DTEND;TZID=America/Chicago:20230701T220000
DTSTAMP:20260422T070055
CREATED:20230626T181520Z
LAST-MODIFIED:20230626T181520Z
UID:10000783-1688234400-1688248800@valleybusinessreport.com
SUMMARY:Pharr Independence Day Festival and Fireworks Show
DESCRIPTION:Join the City of Pharr in celebrating freedom and unity at its Independence Day Festival on July 1. The day includes carnival rides\, live music and food. A fireworks spectacular begins at 9 p.m. \n\n\n	Related
URL:https://valleybusinessreport.com/event/pharr-independence-day-festival-and-fireworks-show/
LOCATION:Allen & William Arnold Elementary\, 615 West Eldora Road\, Pharr\, TX\, 78577\, United States
CATEGORIES:Festivals and Celebrations
ATTACH;FMTTYPE=image/jpeg:https://valleybusinessreport.com/wp-content/uploads/2023/06/PharrIndependence.jpg
END:VEVENT
END:VCALENDAR