BEGIN:VCALENDAR
VERSION:2.0
PRODID:-//VBR - ECPv6.15.17.1//NONSGML v1.0//EN
CALSCALE:GREGORIAN
METHOD:PUBLISH
X-ORIGINAL-URL:https://valleybusinessreport.com
X-WR-CALDESC:Events for VBR
REFRESH-INTERVAL;VALUE=DURATION:PT1H
X-Robots-Tag:noindex
X-PUBLISHED-TTL:PT1H
BEGIN:VTIMEZONE
TZID:America/Chicago
BEGIN:DAYLIGHT
TZOFFSETFROM:-0600
TZOFFSETTO:-0500
TZNAME:CDT
DTSTART:20220313T080000
END:DAYLIGHT
BEGIN:STANDARD
TZOFFSETFROM:-0500
TZOFFSETTO:-0600
TZNAME:CST
DTSTART:20221106T070000
END:STANDARD
BEGIN:DAYLIGHT
TZOFFSETFROM:-0600
TZOFFSETTO:-0500
TZNAME:CDT
DTSTART:20230312T080000
END:DAYLIGHT
BEGIN:STANDARD
TZOFFSETFROM:-0500
TZOFFSETTO:-0600
TZNAME:CST
DTSTART:20231105T070000
END:STANDARD
BEGIN:DAYLIGHT
TZOFFSETFROM:-0600
TZOFFSETTO:-0500
TZNAME:CDT
DTSTART:20240310T080000
END:DAYLIGHT
BEGIN:STANDARD
TZOFFSETFROM:-0500
TZOFFSETTO:-0600
TZNAME:CST
DTSTART:20241103T070000
END:STANDARD
END:VTIMEZONE
BEGIN:VEVENT
DTSTART;TZID=America/Chicago:20231019T163000
DTEND;TZID=America/Chicago:20231019T190000
DTSTAMP:20260421T201917
CREATED:20231011T143418Z
LAST-MODIFIED:20231011T143418Z
UID:10001020-1697733000-1697742000@valleybusinessreport.com
SUMMARY:Off The Clock Mixer
DESCRIPTION:The Edinburg Chamber of Commerce hosts its “Off The Clock Mixer\,” an engaging networking event to bring local professionals together\, on Oct. 19. \nJoin them as they celebrate Chamber of Commerce Week with this event that is free for chamber members\, $20 for non-members. \nRegister online. \n\n\n	Related
URL:https://valleybusinessreport.com/event/off-the-clock-mixer/
LOCATION:Alleycatz Bar & Pizza\, 2309 W. University Dr. STE B\, Edinburg\, United States
CATEGORIES:Networking
ATTACH;FMTTYPE=image/jpeg:https://valleybusinessreport.com/wp-content/uploads/2023/10/Off-the-clock.jpg
END:VEVENT
END:VCALENDAR