BEGIN:VCALENDAR
VERSION:2.0
PRODID:-//VBR - ECPv6.15.17.1//NONSGML v1.0//EN
CALSCALE:GREGORIAN
METHOD:PUBLISH
X-ORIGINAL-URL:https://valleybusinessreport.com
X-WR-CALDESC:Events for VBR
REFRESH-INTERVAL;VALUE=DURATION:PT1H
X-Robots-Tag:noindex
X-PUBLISHED-TTL:PT1H
BEGIN:VTIMEZONE
TZID:America/Chicago
BEGIN:DAYLIGHT
TZOFFSETFROM:-0600
TZOFFSETTO:-0500
TZNAME:CDT
DTSTART:20210314T080000
END:DAYLIGHT
BEGIN:STANDARD
TZOFFSETFROM:-0500
TZOFFSETTO:-0600
TZNAME:CST
DTSTART:20211107T070000
END:STANDARD
BEGIN:DAYLIGHT
TZOFFSETFROM:-0600
TZOFFSETTO:-0500
TZNAME:CDT
DTSTART:20220313T080000
END:DAYLIGHT
BEGIN:STANDARD
TZOFFSETFROM:-0500
TZOFFSETTO:-0600
TZNAME:CST
DTSTART:20221106T070000
END:STANDARD
BEGIN:DAYLIGHT
TZOFFSETFROM:-0600
TZOFFSETTO:-0500
TZNAME:CDT
DTSTART:20230312T080000
END:DAYLIGHT
BEGIN:STANDARD
TZOFFSETFROM:-0500
TZOFFSETTO:-0600
TZNAME:CST
DTSTART:20231105T070000
END:STANDARD
END:VTIMEZONE
BEGIN:VEVENT
DTSTART;TZID=America/Chicago:20220422T180000
DTEND;TZID=America/Chicago:20220422T200000
DTSTAMP:20260421T143252
CREATED:20220405T194722Z
LAST-MODIFIED:20220405T194722Z
UID:10000750-1650650400-1650657600@valleybusinessreport.com
SUMMARY:Greater Alton Chamber of Commerce Meet and Greet
DESCRIPTION:Attend the Greater Alton Chamber of Commerce Meet and Greet event April 22 to learn about the benefits of becoming a chamber member. Attendees may also voice the type of resources and support they would like to receive from the chamber. The evening provides an opportunity to meet other members of the business community. \nRSVP by contacting Susana Ruiz.\n\n\n	Related
URL:https://valleybusinessreport.com/event/greater-alton-chamber-of-commerce-meet-and-greet/
LOCATION:Alton Recreation Center\, 349 W. Dawes\, Alton\, TX\, United States
CATEGORIES:Networking
ATTACH;FMTTYPE=image/png:https://valleybusinessreport.com/wp-content/uploads/2022/04/meet-and-greet-alton.png
ORGANIZER;CN="Susana Ruiz":MAILTO:susana.ruiz@alton-tx.gov
END:VEVENT
END:VCALENDAR