BEGIN:VCALENDAR
VERSION:2.0
PRODID:-//VBR - ECPv6.15.17.1//NONSGML v1.0//EN
CALSCALE:GREGORIAN
METHOD:PUBLISH
X-ORIGINAL-URL:https://valleybusinessreport.com
X-WR-CALDESC:Events for VBR
REFRESH-INTERVAL;VALUE=DURATION:PT1H
X-Robots-Tag:noindex
X-PUBLISHED-TTL:PT1H
BEGIN:VTIMEZONE
TZID:America/Chicago
BEGIN:DAYLIGHT
TZOFFSETFROM:-0600
TZOFFSETTO:-0500
TZNAME:CDT
DTSTART:20220313T080000
END:DAYLIGHT
BEGIN:STANDARD
TZOFFSETFROM:-0500
TZOFFSETTO:-0600
TZNAME:CST
DTSTART:20221106T070000
END:STANDARD
BEGIN:DAYLIGHT
TZOFFSETFROM:-0600
TZOFFSETTO:-0500
TZNAME:CDT
DTSTART:20230312T080000
END:DAYLIGHT
BEGIN:STANDARD
TZOFFSETFROM:-0500
TZOFFSETTO:-0600
TZNAME:CST
DTSTART:20231105T070000
END:STANDARD
BEGIN:DAYLIGHT
TZOFFSETFROM:-0600
TZOFFSETTO:-0500
TZNAME:CDT
DTSTART:20240310T080000
END:DAYLIGHT
BEGIN:STANDARD
TZOFFSETFROM:-0500
TZOFFSETTO:-0600
TZNAME:CST
DTSTART:20241103T070000
END:STANDARD
END:VTIMEZONE
BEGIN:VEVENT
DTSTART;TZID=America/Chicago:20230501T173000
DTEND;TZID=America/Chicago:20230501T193000
DTSTAMP:20260422T025931
CREATED:20230424T181709Z
LAST-MODIFIED:20230424T182512Z
UID:10000911-1682962200-1682969400@valleybusinessreport.com
SUMMARY:RGVHCC Manic Monday Mixer
DESCRIPTION:The RGV Hispanic Chamber of Commerce hosts its Manic Monday Mixer on May 1 at Barrel House Kitchen & Bar in Edinburg. The networking event enables business people gather to enjoy appetizers and beverages while they mingle and create new business leads. \nThe Manic Monday Mixers have helped the RGVHCC members create many business contacts from throughout the Rio Grande Valley. \nDoor prizes are always a big draw. Anyone donating a door prize gets an extra opportunity to talk about their business. So plenty of business cards are definitely recommended. \nFor more information on the mixer or the benefits of the RGV Hispanic Chamber of Commerce membership benefits\, call the office at 928-0060.\n\n\n	Related
URL:https://valleybusinessreport.com/event/rgvhcc-manic-monday-mixer-4/
LOCATION:Barrel House Kitchen & Bar\, 1927 S. Tourist Drive\, Edinburg\, TX\, 78593\, United States
CATEGORIES:Networking
ATTACH;FMTTYPE=image/jpeg:https://valleybusinessreport.com/wp-content/uploads/2023/04/Manic-Monday-Mixer05.23.jpg
END:VEVENT
END:VCALENDAR