BEGIN:VCALENDAR
VERSION:2.0
PRODID:-//VBR - ECPv6.15.17.1//NONSGML v1.0//EN
CALSCALE:GREGORIAN
METHOD:PUBLISH
X-ORIGINAL-URL:https://valleybusinessreport.com
X-WR-CALDESC:Events for VBR
REFRESH-INTERVAL;VALUE=DURATION:PT1H
X-Robots-Tag:noindex
X-PUBLISHED-TTL:PT1H
BEGIN:VTIMEZONE
TZID:America/Chicago
BEGIN:DAYLIGHT
TZOFFSETFROM:-0600
TZOFFSETTO:-0500
TZNAME:CDT
DTSTART:20220313T080000
END:DAYLIGHT
BEGIN:STANDARD
TZOFFSETFROM:-0500
TZOFFSETTO:-0600
TZNAME:CST
DTSTART:20221106T070000
END:STANDARD
BEGIN:DAYLIGHT
TZOFFSETFROM:-0600
TZOFFSETTO:-0500
TZNAME:CDT
DTSTART:20230312T080000
END:DAYLIGHT
BEGIN:STANDARD
TZOFFSETFROM:-0500
TZOFFSETTO:-0600
TZNAME:CST
DTSTART:20231105T070000
END:STANDARD
BEGIN:DAYLIGHT
TZOFFSETFROM:-0600
TZOFFSETTO:-0500
TZNAME:CDT
DTSTART:20240310T080000
END:DAYLIGHT
BEGIN:STANDARD
TZOFFSETFROM:-0500
TZOFFSETTO:-0600
TZNAME:CST
DTSTART:20241103T070000
END:STANDARD
BEGIN:DAYLIGHT
TZOFFSETFROM:-0600
TZOFFSETTO:-0500
TZNAME:CDT
DTSTART:20250309T080000
END:DAYLIGHT
BEGIN:STANDARD
TZOFFSETFROM:-0500
TZOFFSETTO:-0600
TZNAME:CST
DTSTART:20251102T070000
END:STANDARD
BEGIN:DAYLIGHT
TZOFFSETFROM:-0600
TZOFFSETTO:-0500
TZNAME:CDT
DTSTART:20260308T080000
END:DAYLIGHT
BEGIN:STANDARD
TZOFFSETFROM:-0500
TZOFFSETTO:-0600
TZNAME:CST
DTSTART:20261101T070000
END:STANDARD
BEGIN:DAYLIGHT
TZOFFSETFROM:-0600
TZOFFSETTO:-0500
TZNAME:CDT
DTSTART:20270314T080000
END:DAYLIGHT
BEGIN:STANDARD
TZOFFSETFROM:-0500
TZOFFSETTO:-0600
TZNAME:CST
DTSTART:20271107T070000
END:STANDARD
END:VTIMEZONE
BEGIN:VEVENT
DTSTART;VALUE=DATE:20260305
DTEND;VALUE=DATE:20260309
DTSTAMP:20260422T070131
CREATED:20260225T001114Z
LAST-MODIFIED:20260225T001114Z
UID:10001355-1772668800-1773014399@valleybusinessreport.com
SUMMARY:Fiesta Edinburg Music Festival
DESCRIPTION:Fiesta Edinburg\, the annual vibrant festival presented by the Edinburg Chamber of Commerce\, promises four days of enchantment at the Bert Ogden Arena March 5-8. This event is a fusion of two days of pulsating live music\, thrilling carnival games and a plethora of family entertainment options. \nFrom the rhythm of captivating tunes to the excitement of carnival delights\, Fiesta Edinburg is a vibrant celebration that invites attendees to immerse themselves in a world of joy and festivity. Get ready for an unforgettable experience for individuals and families alike. \n\n\n	Related
URL:https://valleybusinessreport.com/event/fiesta-edinburg-music-festival/
LOCATION:Bert Ogden Arena\, 4900 S I-69 C\, Edinburg\, TX\, United States
CATEGORIES:Festivals and Celebrations
ATTACH;FMTTYPE=image/jpeg:https://valleybusinessreport.com/wp-content/uploads/2026/02/Fiesta-Edinburg-Music-Festival.jpg
ORGANIZER;CN="Edinburg Chamber of Commerce":MAILTO:chamber@edinburg.com
END:VEVENT
BEGIN:VEVENT
DTSTART;TZID=America/Chicago:20230228T173000
DTEND;TZID=America/Chicago:20230228T190000
DTSTAMP:20260422T070131
CREATED:20230206T183234Z
LAST-MODIFIED:20230206T183234Z
UID:10000883-1677605400-1677610800@valleybusinessreport.com
SUMMARY:RGVHCC RGV Vipers Game Networking Mixer
DESCRIPTION:The Rio Grande Valley Hispanic Chamber of Commerce hosts a Vipers game networking mixer prior to the game on Feb. 28. This is a networking event where business people gather for appetizers and beverages while they mingle and create new business leads. \nMixers have helped the RGVHCC members create many business contacts from throughout the Rio Grande Valley. \nDoor prizes are always a big draw. Anyone donating a door prize gets an extra opportunity to talk about their business. Plenty of business cards are recommended. \nThis event is free for current RGVHCC members. \nRegister online. \n\n\n	Related
URL:https://valleybusinessreport.com/event/rgvhcc-rgv-vipers-game-networking-mixer/
LOCATION:Bert Ogden Arena\, 4900 S I-69 C\, Edinburg\, TX\, United States
CATEGORIES:Networking
ATTACH;FMTTYPE=image/jpeg:https://valleybusinessreport.com/wp-content/uploads/2023/02/RGVHCChamber_vipers.jpg
END:VEVENT
END:VCALENDAR