BEGIN:VCALENDAR
VERSION:2.0
PRODID:-//VBR - ECPv6.15.17.1//NONSGML v1.0//EN
CALSCALE:GREGORIAN
METHOD:PUBLISH
X-ORIGINAL-URL:https://valleybusinessreport.com
X-WR-CALDESC:Events for VBR
REFRESH-INTERVAL;VALUE=DURATION:PT1H
X-Robots-Tag:noindex
X-PUBLISHED-TTL:PT1H
BEGIN:VTIMEZONE
TZID:America/Chicago
BEGIN:DAYLIGHT
TZOFFSETFROM:-0600
TZOFFSETTO:-0500
TZNAME:CDT
DTSTART:20220313T080000
END:DAYLIGHT
BEGIN:STANDARD
TZOFFSETFROM:-0500
TZOFFSETTO:-0600
TZNAME:CST
DTSTART:20221106T070000
END:STANDARD
BEGIN:DAYLIGHT
TZOFFSETFROM:-0600
TZOFFSETTO:-0500
TZNAME:CDT
DTSTART:20230312T080000
END:DAYLIGHT
BEGIN:STANDARD
TZOFFSETFROM:-0500
TZOFFSETTO:-0600
TZNAME:CST
DTSTART:20231105T070000
END:STANDARD
BEGIN:DAYLIGHT
TZOFFSETFROM:-0600
TZOFFSETTO:-0500
TZNAME:CDT
DTSTART:20240310T080000
END:DAYLIGHT
BEGIN:STANDARD
TZOFFSETFROM:-0500
TZOFFSETTO:-0600
TZNAME:CST
DTSTART:20241103T070000
END:STANDARD
END:VTIMEZONE
BEGIN:VEVENT
DTSTART;TZID=America/Chicago:20231202T180000
DTEND;TZID=America/Chicago:20231202T190000
DTSTAMP:20260421T131502
CREATED:20231128T203116Z
LAST-MODIFIED:20231128T203116Z
UID:10001047-1701540000-1701543600@valleybusinessreport.com
SUMMARY:Port Isabel Christmas Tree Lighting & Holiday Street Parade
DESCRIPTION:Port Isabel Mayor Cantu Jr. and the Port Isabel City Commissioners invite the community to attend and participate in a Port Isabel holiday tradition\, the lighting of the Community Christmas Tree in Beulah Lee Park on Dec. 2. Starting at 7 p.m.\, the event will feature performances\, vendors\, Santa Claus and a bigger and brighter Christmas tree. The event is open to the public. \nThe City of Port Isabel’s Public Works Department will also be decorating the Highway 100 medians with festive holiday lights and more. \n\n\n	Related
URL:https://valleybusinessreport.com/event/port-isabel-christmas-tree-lighting-holiday-street-parade/
LOCATION:Beulah Lee Park\, 213 N. Yturria Street\, Port Isabel\, United States
CATEGORIES:Festivals and Celebrations
ORGANIZER;CN="Port Isabel Chamber of Commerce":MAILTO:director@portisabel.org
END:VEVENT
END:VCALENDAR