BEGIN:VCALENDAR
VERSION:2.0
PRODID:-//VBR - ECPv6.15.17.1//NONSGML v1.0//EN
CALSCALE:GREGORIAN
METHOD:PUBLISH
X-ORIGINAL-URL:https://valleybusinessreport.com
X-WR-CALDESC:Events for VBR
REFRESH-INTERVAL;VALUE=DURATION:PT1H
X-Robots-Tag:noindex
X-PUBLISHED-TTL:PT1H
BEGIN:VTIMEZONE
TZID:America/Chicago
BEGIN:DAYLIGHT
TZOFFSETFROM:-0600
TZOFFSETTO:-0500
TZNAME:CDT
DTSTART:20200308T080000
END:DAYLIGHT
BEGIN:STANDARD
TZOFFSETFROM:-0500
TZOFFSETTO:-0600
TZNAME:CST
DTSTART:20201101T070000
END:STANDARD
BEGIN:DAYLIGHT
TZOFFSETFROM:-0600
TZOFFSETTO:-0500
TZNAME:CDT
DTSTART:20210314T080000
END:DAYLIGHT
BEGIN:STANDARD
TZOFFSETFROM:-0500
TZOFFSETTO:-0600
TZNAME:CST
DTSTART:20211107T070000
END:STANDARD
BEGIN:DAYLIGHT
TZOFFSETFROM:-0600
TZOFFSETTO:-0500
TZNAME:CDT
DTSTART:20220313T080000
END:DAYLIGHT
BEGIN:STANDARD
TZOFFSETFROM:-0500
TZOFFSETTO:-0600
TZNAME:CST
DTSTART:20221106T070000
END:STANDARD
BEGIN:DAYLIGHT
TZOFFSETFROM:-0600
TZOFFSETTO:-0500
TZNAME:CDT
DTSTART:20230312T080000
END:DAYLIGHT
BEGIN:STANDARD
TZOFFSETFROM:-0500
TZOFFSETTO:-0600
TZNAME:CST
DTSTART:20231105T070000
END:STANDARD
BEGIN:DAYLIGHT
TZOFFSETFROM:-0600
TZOFFSETTO:-0500
TZNAME:CDT
DTSTART:20240310T080000
END:DAYLIGHT
BEGIN:STANDARD
TZOFFSETFROM:-0500
TZOFFSETTO:-0600
TZNAME:CST
DTSTART:20241103T070000
END:STANDARD
BEGIN:DAYLIGHT
TZOFFSETFROM:-0600
TZOFFSETTO:-0500
TZNAME:CDT
DTSTART:20250309T080000
END:DAYLIGHT
BEGIN:STANDARD
TZOFFSETFROM:-0500
TZOFFSETTO:-0600
TZNAME:CST
DTSTART:20251102T070000
END:STANDARD
END:VTIMEZONE
BEGIN:VEVENT
DTSTART;TZID=America/Chicago:20240127T070000
DTEND;TZID=America/Chicago:20240127T110000
DTSTAMP:20260421T033814
CREATED:20240110T193831Z
LAST-MODIFIED:20240110T193831Z
UID:10001076-1706338800-1706353200@valleybusinessreport.com
SUMMARY:Sisters On The Run 2024
DESCRIPTION:Sisters on the Run takes place on Jan. 27 for all runners\, from experienced to first-timers\, with a fun run and 5K. The annual fundraising campaign supports Proyecto Juan Diego’s programs and services. \nSisters on the Run started as “The Running Nun” by Daughter of Charity\, Sister Liz Sjoberg in 2018 when she signed up for the Chick-fil-A Half Marathon. Her goal was to raise funds and brand awareness for Proyecto Juan Diego. Her fundraiser generated quite a buzz among her friends and family throughout social media and at the race. \nRegister online. \n\n\n	Related
URL:https://valleybusinessreport.com/event/sisters-on-the-run-2024/
LOCATION:Brownsville Event Center\, 1 Event Center\, Brownsville\, 78526\, United States
CATEGORIES:Fundraisers
ATTACH;FMTTYPE=image/jpeg:https://valleybusinessreport.com/wp-content/uploads/2024/01/sister-run.jpg
ORGANIZER;CN="Claudia Rodriguez":MAILTO:claudia.rodriguez@proyecto-jd.org
GEO:25.9621367;-97.4880968
X-APPLE-STRUCTURED-LOCATION;VALUE=URI;X-ADDRESS=Brownsville Event Center 1 Event Center Brownsville 78526 United States;X-APPLE-RADIUS=500;X-TITLE=1 Event Center:geo:-97.4880968,25.9621367
END:VEVENT
BEGIN:VEVENT
DTSTART;TZID=America/Chicago:20230613T113000
DTEND;TZID=America/Chicago:20230613T133000
DTSTAMP:20260421T033814
CREATED:20230607T191207Z
LAST-MODIFIED:20230607T191207Z
UID:10000934-1686655800-1686663000@valleybusinessreport.com
SUMMARY:Women In Leadership Luncheon Presenting the ATHENA International Award Ceremony
DESCRIPTION:Hosted annually\, the Women In Leadership Luncheon showcases a powerful group of female leaders highlighting the evolving role of women professionals and small business owners. The objective is to motivate women of all ages and backgrounds to aspire to leadership positions and contribute to the development of the community. \nThis year\, the Brownsville Chamber of Commerce is pleased to announce the first annual ATHENA Award in Brownsville. Nominees in the following categories will be recognized at the Women In Leadership Luncheon on June 13 at the Brownsville Events Center. \nAWARD CATEGORIES & NOMINEES:\n\nATHENA Leadership Award\n\nThe ATHENA Leadership Award celebrates exemplary leadership and is reflective of a quote by Plato: What is honored in a country will be cultivated there. Over 7\,000 Recipients have been honored with the ATHENA Leadership Award since the program’s inception in 1982.\nNominees Include:\n\n​Alexandra Anzaldua\, JuiceUs\nCarolina Cadengo\, SpawGlass\nDimple Desai\, South Texas Research Institute\nDalilah Garcia\, FemCity Brownsville\nRita Garcia\, Point Isabel Independent School District\nRosalinda Garza\, South Texas Vocational Technical Institute\nSarah Garza\, Driscoll Children’s Hospital\nArely Lugo\, Beautiful Beginnings I & II\nDesiree Ricarte\, Ricarte Sales Consultants\n\n\n\n\nATHENA Young Professional Award\n\nThe ATHENA Young Professional Leadership Award actively supports and celebrates the ATHENA mission of supporting\, developing and honoring women leaders\, inspiring women to achieve their full potential – creating balance in leadership worldwide. The ATHENA Young Professional Leadership Award Nominees are 40 years of age or younger.\nNominees Include:\n\n​Alexandra Anzaldua\, JuiceUs\nAnika Aviles\, Rio Bank\n​Claudia Castillo\, SpawGlass\nDimple Desai\, South Texas Research Institute\nLydia Mariel Hernandez\, IDEA Public Schools ​\n\n\n\n\nATHENA Organizational Award\n\nThe ATHENA Organizational Leadership Award actively supports and celebrates the ATHENA mission of supporting\, developing\, and honoring women leaders\, inspiring women to achieve their full potential – creating balance in leadership worldwide.\nNominees Include:\n\n​Brownsville Police Department\nJuiceUs\nSouth Texas Research Institute\n\n\n\n\n\nSingle tickets are $50 per person for both chamber members and non-members. Register online. \nFor more information\, contact the Brownsville Chamber of Commerce.\n\n\n	Related
URL:https://valleybusinessreport.com/event/women-in-leadership-luncheon-presenting-the-athena-international-award-ceremony/
LOCATION:Brownsville Event Center\, 1 Event Center\, Brownsville\, 78526\, United States
CATEGORIES:Awards and Recognitions
ATTACH;FMTTYPE=image/png:https://valleybusinessreport.com/wp-content/uploads/2023/06/6.13.23-Women-In-Leadership-Luncheon.png
ORGANIZER;CN="Brownsville Chamber of Commerce":MAILTO:info@brownsvillechamber.com
GEO:25.9621367;-97.4880968
X-APPLE-STRUCTURED-LOCATION;VALUE=URI;X-ADDRESS=Brownsville Event Center 1 Event Center Brownsville 78526 United States;X-APPLE-RADIUS=500;X-TITLE=1 Event Center:geo:-97.4880968,25.9621367
END:VEVENT
BEGIN:VEVENT
DTSTART;TZID=America/Chicago:20230419T110000
DTEND;TZID=America/Chicago:20230419T130000
DTSTAMP:20260421T033814
CREATED:20230412T211614Z
LAST-MODIFIED:20230412T211614Z
UID:10000746-1681902000-1681909200@valleybusinessreport.com
SUMMARY:State of the City: Launching The Future of BTX
DESCRIPTION:The Brownsville Chamber of Commerce and the City of Brownsville join Mayor Trey Mendez for his final State of the City Address on April 19. \nLocal businesses\, community stakeholders\, constituents\, and regional leaders are invited to join the in-person event showcasing the accomplishments of the City of Brownsville over the last year. Registration opens at 11 a.m. with an opportunity to network prior to the start of the program. For those unable to join in person\, the address will be live on the City of Brownsville YouTube channel. \nSingle tickets are $50. \nRSVP in advance.\n\n\n	Related
URL:https://valleybusinessreport.com/event/state-of-the-city-launching-the-future-of-btx/
LOCATION:Brownsville Event Center\, 1 Event Center\, Brownsville\, 78526\, United States
CATEGORIES:Speakers
ATTACH;FMTTYPE=image/png:https://valleybusinessreport.com/wp-content/uploads/2023/04/4.19.23StateoftheCity.png
ORGANIZER;CN="Brownsville Chamber of Commerce":MAILTO:info@brownsvillechamber.com
GEO:25.9621367;-97.4880968
X-APPLE-STRUCTURED-LOCATION;VALUE=URI;X-ADDRESS=Brownsville Event Center 1 Event Center Brownsville 78526 United States;X-APPLE-RADIUS=500;X-TITLE=1 Event Center:geo:-97.4880968,25.9621367
END:VEVENT
BEGIN:VEVENT
DTSTART;TZID=America/Chicago:20230210T080000
DTEND;TZID=America/Chicago:20230210T093000
DTSTAMP:20260421T033814
CREATED:20230203T190614Z
LAST-MODIFIED:20230203T190614Z
UID:10000900-1676016000-1676021400@valleybusinessreport.com
SUMMARY:Friday With The City: Revitalizing Downtown Brownsville
DESCRIPTION:The Brownsville Chamber of Commerce in partnership with the City of Brownsville hosts Friday with the City on Feb. 10. During this session\, attendees will learn of the great projects\, restaurants and businesses in Downtown Brownsville. \nFriday with the City is an initiative of the Brownsville Chamber of Commerce in partnership with the City of Brownsville aimed at providing an update to the community about the growth\, progress\, and future of the city. \nSubmit your questions for the presenters online. \nThis event is free with an RSVP.\n\n\n	Related
URL:https://valleybusinessreport.com/event/friday-with-the-city-revitalizing-downtown-brownsville/
LOCATION:Brownsville Event Center\, 1 Event Center\, Brownsville\, 78526\, United States
CATEGORIES:Speakers
ORGANIZER;CN="Brownsville Chamber of Commerce":MAILTO:info@brownsvillechamber.com
GEO:25.9621367;-97.4880968
X-APPLE-STRUCTURED-LOCATION;VALUE=URI;X-ADDRESS=Brownsville Event Center 1 Event Center Brownsville 78526 United States;X-APPLE-RADIUS=500;X-TITLE=1 Event Center:geo:-97.4880968,25.9621367
END:VEVENT
BEGIN:VEVENT
DTSTART;TZID=America/Chicago:20230131T113000
DTEND;TZID=America/Chicago:20230131T133000
DTSTAMP:20260421T033815
CREATED:20230125T011542Z
LAST-MODIFIED:20230125T161241Z
UID:10000706-1675164600-1675171800@valleybusinessreport.com
SUMMARY:Congressional Update Luncheon
DESCRIPTION:Join the Brownsville Chamber of Commerce for the Congressional Update Luncheon for a nonpartisan conversation on Jan. 31 with Thomas M. Sullivan\, vice president of Small Business Policy of the U.S. Chamber of Commerce. \nAs the 118th Congress convenes in the nation’s capital to debate\, consider and vote on key pieces of legislation\, Senator John Cornyn and Congressman Vicente Gonzalez will provide a virtual update on the challenges American businesses are facing and how Congress plans to solve these challenges. \nTickets are $50 per person and are open to members and non-members of the Brownsville Chamber of Commerce. \nRegister online. \n\n\n	Related
URL:https://valleybusinessreport.com/event/congressional-update-luncheon/
LOCATION:Brownsville Event Center\, 1 Event Center\, Brownsville\, 78526\, United States
CATEGORIES:Speakers
ATTACH;FMTTYPE=image/png:https://valleybusinessreport.com/wp-content/uploads/2023/01/1.31.23-Congressional-Update-Luncheon.png
ORGANIZER;CN="Brownsville Chamber of Commerce":MAILTO:info@brownsvillechamber.com
GEO:25.9621367;-97.4880968
X-APPLE-STRUCTURED-LOCATION;VALUE=URI;X-ADDRESS=Brownsville Event Center 1 Event Center Brownsville 78526 United States;X-APPLE-RADIUS=500;X-TITLE=1 Event Center:geo:-97.4880968,25.9621367
END:VEVENT
BEGIN:VEVENT
DTSTART;TZID=America/Chicago:20230127T153000
DTEND;TZID=America/Chicago:20230127T170000
DTSTAMP:20260421T033815
CREATED:20230125T010535Z
LAST-MODIFIED:20230125T010646Z
UID:10000704-1674833400-1674838800@valleybusinessreport.com
SUMMARY:Friday With The City: City of Brownsville Update
DESCRIPTION:The Brownsville Chamber of Commerce in partnership with the City of Brownsville hosts Friday with the City on Jan. 27. During this session\, attendees will get an update on the growth happening within the City of Brownsville. \nFriday with the City is an initiative of the Brownsville Chamber of Commerce in partnership with the City of Brownsville aimed at providing an update to the community about the growth\, progress\, and future of the city. \nThe public may submit questions for presenters online. \nRSVP in advance for no charge. \nFor more information\, contact the Brownsville Chamber of Commerce.\n\n\n	Related
URL:https://valleybusinessreport.com/event/friday-with-the-city-city-of-brownsville-update-2/
LOCATION:Brownsville Event Center\, 1 Event Center\, Brownsville\, 78526\, United States
CATEGORIES:Speakers
ATTACH;FMTTYPE=image/png:https://valleybusinessreport.com/wp-content/uploads/2023/01/1.27.22FridaywiththeCity.png
ORGANIZER;CN="Brownsville Chamber of Commerce":MAILTO:info@brownsvillechamber.com
GEO:25.9621367;-97.4880968
X-APPLE-STRUCTURED-LOCATION;VALUE=URI;X-ADDRESS=Brownsville Event Center 1 Event Center Brownsville 78526 United States;X-APPLE-RADIUS=500;X-TITLE=1 Event Center:geo:-97.4880968,25.9621367
END:VEVENT
BEGIN:VEVENT
DTSTART;TZID=America/Chicago:20230113T080000
DTEND;TZID=America/Chicago:20230113T093000
DTSTAMP:20260421T033815
CREATED:20230109T195047Z
LAST-MODIFIED:20230109T195047Z
UID:10000863-1673596800-1673602200@valleybusinessreport.com
SUMMARY:Friday With The City: City of Brownsville Update
DESCRIPTION:The Brownsville Chamber of Commerce in partnership with the City of Brownsville hosts Friday with the City on Jan. 13. During this session\, will attendees receive an update on the growth happening within the City of Brownsville. \nFriday with the City is an initiative of the Brownsville Chamber of Commerce in partnership with the City of Brownsville to provide an update to the community about the growth\, progress and future of the city. \nParticipants may submit questions in advance online. Admission is no cost with RSVP. \nFor more information\, contact the Brownsville Chamber of Commerce. Those interested in sponsorships should contact Astrid Rosales at membership@brownsvillechamber.com or at 956-542-4341. \n\n\n	Related
URL:https://valleybusinessreport.com/event/friday-with-the-city-city-of-brownsville-update/
LOCATION:Brownsville Event Center\, 1 Event Center\, Brownsville\, 78526\, United States
CATEGORIES:Speakers
ORGANIZER;CN="Brownsville Chamber of Commerce":MAILTO:info@brownsvillechamber.com
GEO:25.9621367;-97.4880968
X-APPLE-STRUCTURED-LOCATION;VALUE=URI;X-ADDRESS=Brownsville Event Center 1 Event Center Brownsville 78526 United States;X-APPLE-RADIUS=500;X-TITLE=1 Event Center:geo:-97.4880968,25.9621367
END:VEVENT
BEGIN:VEVENT
DTSTART;TZID=America/Chicago:20221110T080000
DTEND;TZID=America/Chicago:20221110T120000
DTSTAMP:20260421T033815
CREATED:20221101T183608Z
LAST-MODIFIED:20221101T183608Z
UID:10000835-1668067200-1668081600@valleybusinessreport.com
SUMMARY:Hiring Red\, White & You!
DESCRIPTION:Hiring Red\, White & You! is a statewide hiring event that connects veterans\, transitioning military members and military spouses to employers across Texas. This year’s local event takes place Nov. 10 at the Brownsville Event Center. \n\n\n\n\nHiring Red\, White and You! has been working to connect Texas veterans with employers since 2012. \nIn that time\, it has: \n\nWorked with more than 20\,131employers.\nConnected more than 114\,778 job seekers to meaningful job opportunities.\nHelped facilitate over 3\,198 same-day hires.\n\nJob seekers may register online. \n*Sources: Texas Workforce Commission\, Bureau of Labor Statistics \n\n\n\n\n	Related
URL:https://valleybusinessreport.com/event/hiring-red-white-you/
LOCATION:Brownsville Event Center\, 1 Event Center\, Brownsville\, 78526\, United States
CATEGORIES:Hiring events
ATTACH;FMTTYPE=image/png:https://valleybusinessreport.com/wp-content/uploads/2022/11/hiring-red-white-and-you-logo.png
ORGANIZER;CN="Sally Perez":MAILTO:sally.perez@wfscameron.org
GEO:25.9621367;-97.4880968
X-APPLE-STRUCTURED-LOCATION;VALUE=URI;X-ADDRESS=Brownsville Event Center 1 Event Center Brownsville 78526 United States;X-APPLE-RADIUS=500;X-TITLE=1 Event Center:geo:-97.4880968,25.9621367
END:VEVENT
BEGIN:VEVENT
DTSTART;TZID=America/Chicago:20221025T113000
DTEND;TZID=America/Chicago:20221025T133000
DTSTAMP:20260421T033815
CREATED:20221012T211308Z
LAST-MODIFIED:20221012T211542Z
UID:10000668-1666697400-1666704600@valleybusinessreport.com
SUMMARY:State of the Chamber & Leadership Luncheon
DESCRIPTION:The Brownsville Chamber of Commerce hosts its State of the Chamber & Leadership Luncheon on Oct. 25 at the Brownsville Events Center. The event brings the business community together to reflect upon the accomplishments and challenges of the past year and look ahead at moving the community forward. \nThe Brownsville Chamber of Commerce Chairman of the Board Avi Schwarcz and President/CEO Esmeralda Villarreal will speak on the Chamber’s Strategic Plan and Vision for the coming year\, and the newly elected board members will be sworn in. Immediate Past Chairman of the Board Richard Abete will honor all outgoing board members and reflect upon his accomplishments throughout the last year. \nTickets are $50 each. This event is open to chamber members and non-members. \nRSVP in advance\, seating is limited. \n\n\n	Related
URL:https://valleybusinessreport.com/event/state-of-the-chamber-leadership-luncheon/
LOCATION:Brownsville Event Center\, 1 Event Center\, Brownsville\, 78526\, United States
CATEGORIES:Networking
ATTACH;FMTTYPE=image/png:https://valleybusinessreport.com/wp-content/uploads/2022/10/10.25.22StateoftheChamberLeadershipLuncheon.png
ORGANIZER;CN="Brownsville Chamber of Commerce":MAILTO:info@brownsvillechamber.com
GEO:25.9621367;-97.4880968
X-APPLE-STRUCTURED-LOCATION;VALUE=URI;X-ADDRESS=Brownsville Event Center 1 Event Center Brownsville 78526 United States;X-APPLE-RADIUS=500;X-TITLE=1 Event Center:geo:-97.4880968,25.9621367
END:VEVENT
BEGIN:VEVENT
DTSTART;TZID=America/Chicago:20220914T113000
DTEND;TZID=America/Chicago:20220914T130000
DTSTAMP:20260421T033815
CREATED:20220907T183356Z
LAST-MODIFIED:20220912T213902Z
UID:10000824-1663155000-1663160400@valleybusinessreport.com
SUMMARY:Growth With Intention
DESCRIPTION:Ivette Mayo\, CEO of YoSoyIam LLC\, speaks on Growth with Intention on Sept. 14 at the Brownsville Events Center. \nAs much as you desire to get things done\, it seems difficult at times. You may feel weighed down by the uncertainty and constant change in the world. Even though you push forward\, you still lack the satisfaction one should feel when an important task is completed. Know that you are not alone in feeling this way. It is time to pivot and begin each day by setting an intention for your personal success. \nThis event is presented by AARP in Brownsville and the Brownsville Chamber of Commerce. It is free of charge and open to the community. \nRSVP by calling 1-877-926-8300 or online.\n\n\n	Related
URL:https://valleybusinessreport.com/event/growth-with-intention/
LOCATION:Brownsville Event Center\, 1 Event Center\, Brownsville\, 78526\, United States
CATEGORIES:Speakers
ATTACH;FMTTYPE=image/png:https://valleybusinessreport.com/wp-content/uploads/2022/09/9.14.22GrowthWithIntention.png
ORGANIZER;CN="Brownsville Chamber of Commerce":MAILTO:info@brownsvillechamber.com
GEO:25.9621367;-97.4880968
X-APPLE-STRUCTURED-LOCATION;VALUE=URI;X-ADDRESS=Brownsville Event Center 1 Event Center Brownsville 78526 United States;X-APPLE-RADIUS=500;X-TITLE=1 Event Center:geo:-97.4880968,25.9621367
END:VEVENT
BEGIN:VEVENT
DTSTART;TZID=America/Chicago:20220209T090000
DTEND;TZID=America/Chicago:20220209T130000
DTSTAMP:20260421T033815
CREATED:20220113T142009Z
LAST-MODIFIED:20220113T142009Z
UID:10000703-1644397200-1644411600@valleybusinessreport.com
SUMMARY:Sixth Annual Brownsville Senior & Community & Wellness Expo 2022
DESCRIPTION:RGV Promotions presents its sixth annual Brownsville Senior & Community Health & Wellness Expo 2022 on Feb. 9. \nAttendees can learn about living a heart-healthy lifestyle and receive educational information. Free screenings include blood pressure\, vision\, hearing\, glucose and BMI. Activities include Zumba\, country line dancing and bingo. Door prizes\, one-on-one with physical trainers and doctors\, and guest speakers every hour are part of the event. \nFree admission. \nFor more information on the Brownsville Senior & Community Health & Wellness Expo\, contact Marie Martinez.\n\n\n	Related
URL:https://valleybusinessreport.com/event/sixth-annual-brownsville-senior-community-wellness-expo-2022/
LOCATION:Brownsville Event Center\, 1 Event Center\, Brownsville\, 78526\, United States
CATEGORIES:Conferences and Summits
ATTACH;FMTTYPE=image/jpeg:https://valleybusinessreport.com/wp-content/uploads/2022/01/SeniorHealthWellnessExpo2022.jpg
ORGANIZER;CN="Marie Martinez":MAILTO:rgvexpo2017@gmail.com
GEO:25.9621367;-97.4880968
X-APPLE-STRUCTURED-LOCATION;VALUE=URI;X-ADDRESS=Brownsville Event Center 1 Event Center Brownsville 78526 United States;X-APPLE-RADIUS=500;X-TITLE=1 Event Center:geo:-97.4880968,25.9621367
END:VEVENT
BEGIN:VEVENT
DTSTART;TZID=America/Chicago:20211201T113000
DTEND;TZID=America/Chicago:20211201T133000
DTSTAMP:20260421T033815
CREATED:20211117T194040Z
LAST-MODIFIED:20211117T194040Z
UID:10000524-1638358200-1638365400@valleybusinessreport.com
SUMMARY:State of Business & Leadership Luncheon
DESCRIPTION:Join the Brownsville Chamber of Commerce for its in-person State of Business & Leadership Luncheon Dec. 1. Thought leaders from the Texas Association of Business and the Texas Chamber of Commerce Executives will discuss the big issues for businesses. Other topics include bills and policies from the 87th Texas Legislature\, the employment landscape and what we can expect in the near future. \nSpeakers include Senior Vice President of Advocacy for the Texas Association of Business Stephanie Matthews and Aaron Cox\, vice-president of chamber relations and for the Texas Association of Business and the CEO of the Texas Chamber of Commerce Executives. \nTickets are $50 and sponsorships are available. \nRegister online.\n\n\n	Related
URL:https://valleybusinessreport.com/event/state-of-business-leadership-luncheon/
LOCATION:Brownsville Event Center\, 1 Event Center\, Brownsville\, 78526\, United States
CATEGORIES:Speakers
ATTACH;FMTTYPE=image/png:https://valleybusinessreport.com/wp-content/uploads/2021/11/12.1.21-State-of-Business-Design.png
ORGANIZER;CN="Brownsville Chamber of Commerce":MAILTO:info@brownsvillechamber.com
GEO:25.9621367;-97.4880968
X-APPLE-STRUCTURED-LOCATION;VALUE=URI;X-ADDRESS=Brownsville Event Center 1 Event Center Brownsville 78526 United States;X-APPLE-RADIUS=500;X-TITLE=1 Event Center:geo:-97.4880968,25.9621367
END:VEVENT
BEGIN:VEVENT
DTSTART;TZID=America/Chicago:20211003T070000
DTEND;TZID=America/Chicago:20211003T120000
DTSTAMP:20260421T033815
CREATED:20210927T170818Z
LAST-MODIFIED:20210927T170818Z
UID:10000512-1633244400-1633262400@valleybusinessreport.com
SUMMARY:Ride for Rotary Queen Isabella Causeway Cross
DESCRIPTION:The Rotary Club of Historic Brownsville hosts its annual Ride for Rotary-Queen Isabella Causeway Cross Benefit Ride Oct. 3. The ride crosses over the Queen Isabella Causeway and onto South Padre Island\, ending at Longboard Bar & Grill.  The ride draws participation from cyclists of all levels and ages. \nAll proceeds support Rotary’s local projects\, which include providing free eye exams and eyeglasses to children\, hosting Rotary’s Annual Heart Gallery (an adoption awareness event)\, funding scholarships for local students\, providing Christmas gifts to nursing home residents\, and funding for other Rotary International humanitarian projects. \n\n\n	Related
URL:https://valleybusinessreport.com/event/ride-for-rotary-queen-isabella-causeway-cross/
LOCATION:Brownsville Event Center\, 1 Event Center\, Brownsville\, 78526\, United States
CATEGORIES:Fundraisers,Recreation
ATTACH;FMTTYPE=image/png:https://valleybusinessreport.com/wp-content/uploads/2021/09/Ride-for-Rotary.png
GEO:25.9621367;-97.4880968
X-APPLE-STRUCTURED-LOCATION;VALUE=URI;X-ADDRESS=Brownsville Event Center 1 Event Center Brownsville 78526 United States;X-APPLE-RADIUS=500;X-TITLE=1 Event Center:geo:-97.4880968,25.9621367
END:VEVENT
END:VCALENDAR