BEGIN:VCALENDAR
VERSION:2.0
PRODID:-//VBR - ECPv6.15.17.1//NONSGML v1.0//EN
CALSCALE:GREGORIAN
METHOD:PUBLISH
X-ORIGINAL-URL:https://valleybusinessreport.com
X-WR-CALDESC:Events for VBR
REFRESH-INTERVAL;VALUE=DURATION:PT1H
X-Robots-Tag:noindex
X-PUBLISHED-TTL:PT1H
BEGIN:VTIMEZONE
TZID:America/Chicago
BEGIN:DAYLIGHT
TZOFFSETFROM:-0600
TZOFFSETTO:-0500
TZNAME:CDT
DTSTART:20210314T080000
END:DAYLIGHT
BEGIN:STANDARD
TZOFFSETFROM:-0500
TZOFFSETTO:-0600
TZNAME:CST
DTSTART:20211107T070000
END:STANDARD
BEGIN:DAYLIGHT
TZOFFSETFROM:-0600
TZOFFSETTO:-0500
TZNAME:CDT
DTSTART:20220313T080000
END:DAYLIGHT
BEGIN:STANDARD
TZOFFSETFROM:-0500
TZOFFSETTO:-0600
TZNAME:CST
DTSTART:20221106T070000
END:STANDARD
BEGIN:DAYLIGHT
TZOFFSETFROM:-0600
TZOFFSETTO:-0500
TZNAME:CDT
DTSTART:20230312T080000
END:DAYLIGHT
BEGIN:STANDARD
TZOFFSETFROM:-0500
TZOFFSETTO:-0600
TZNAME:CST
DTSTART:20231105T070000
END:STANDARD
END:VTIMEZONE
BEGIN:VEVENT
DTSTART;TZID=America/Chicago:20220407T170000
DTEND;TZID=America/Chicago:20220407T190000
DTSTAMP:20260421T034828
CREATED:20220330T195158Z
LAST-MODIFIED:20220330T195158Z
UID:10000724-1649350800-1649358000@valleybusinessreport.com
SUMMARY:Mission Member Spotlight Mixer: Cano Logistics LLC
DESCRIPTION:Mission Chamber of Commerce\nThe Greater Mission Chamber of Commerce hosts its Member Spotlight Mixer April 7\, honoring the expansion of Cano Logistics LLC. \n\n\n	Related
URL:https://valleybusinessreport.com/event/mission-member-spotlight-mixer-cano-logistics-llc/
LOCATION:Cano Logistics LLC\, 503 W. Nolana Loop\, Pharr\, TX\, 78577\, United States
CATEGORIES:Networking
ATTACH;FMTTYPE=image/jpeg:https://valleybusinessreport.com/wp-content/uploads/2019/04/Mission-Chamber-Logo.jpg
END:VEVENT
END:VCALENDAR