BEGIN:VCALENDAR
VERSION:2.0
PRODID:-//VBR - ECPv6.15.17.1//NONSGML v1.0//EN
CALSCALE:GREGORIAN
METHOD:PUBLISH
X-ORIGINAL-URL:https://valleybusinessreport.com
X-WR-CALDESC:Events for VBR
REFRESH-INTERVAL;VALUE=DURATION:PT1H
X-Robots-Tag:noindex
X-PUBLISHED-TTL:PT1H
BEGIN:VTIMEZONE
TZID:America/Chicago
BEGIN:DAYLIGHT
TZOFFSETFROM:-0600
TZOFFSETTO:-0500
TZNAME:CDT
DTSTART:20200308T080000
END:DAYLIGHT
BEGIN:STANDARD
TZOFFSETFROM:-0500
TZOFFSETTO:-0600
TZNAME:CST
DTSTART:20201101T070000
END:STANDARD
BEGIN:DAYLIGHT
TZOFFSETFROM:-0600
TZOFFSETTO:-0500
TZNAME:CDT
DTSTART:20210314T080000
END:DAYLIGHT
BEGIN:STANDARD
TZOFFSETFROM:-0500
TZOFFSETTO:-0600
TZNAME:CST
DTSTART:20211107T070000
END:STANDARD
BEGIN:DAYLIGHT
TZOFFSETFROM:-0600
TZOFFSETTO:-0500
TZNAME:CDT
DTSTART:20220313T080000
END:DAYLIGHT
BEGIN:STANDARD
TZOFFSETFROM:-0500
TZOFFSETTO:-0600
TZNAME:CST
DTSTART:20221106T070000
END:STANDARD
BEGIN:DAYLIGHT
TZOFFSETFROM:-0600
TZOFFSETTO:-0500
TZNAME:CDT
DTSTART:20230312T080000
END:DAYLIGHT
BEGIN:STANDARD
TZOFFSETFROM:-0500
TZOFFSETTO:-0600
TZNAME:CST
DTSTART:20231105T070000
END:STANDARD
BEGIN:DAYLIGHT
TZOFFSETFROM:-0600
TZOFFSETTO:-0500
TZNAME:CDT
DTSTART:20240310T080000
END:DAYLIGHT
BEGIN:STANDARD
TZOFFSETFROM:-0500
TZOFFSETTO:-0600
TZNAME:CST
DTSTART:20241103T070000
END:STANDARD
END:VTIMEZONE
BEGIN:VEVENT
DTSTART;TZID=America/Chicago:20230211T170000
DTEND;TZID=America/Chicago:20230211T210000
DTSTAMP:20260421T033753
CREATED:20230206T144528Z
LAST-MODIFIED:20230206T144528Z
UID:10000893-1676134800-1676149200@valleybusinessreport.com
SUMMARY:Rotary Shrimp Fest of South Texas Inc.
DESCRIPTION:The Rotary Clubs of Harlingen and San Benito host their 27th Shrimp Fest and Fundraiser on Feb. 11. The evening features gulf shrimp\, a silent auction\, beer garden\, raffles and live music by the “Band”itos. Drive-thru will be available for pick-up. Tickets can be purchased online\, at the door or from your favorite Rotarian. \nNet proceeds from this fundraiser will be distributed among different scholarships\, charities and for the betterment of the community. \n\n\n	Related
URL:https://valleybusinessreport.com/event/rotary-shrimp-fest-of-south-texas-inc/
LOCATION:Casa de Amistad\, 1204 Fair Park Blvd.\, Harlingen\, TX\, 78550\, United States
CATEGORIES:Festivals and Celebrations
END:VEVENT
BEGIN:VEVENT
DTSTART;TZID=America/Chicago:20211208T090000
DTEND;TZID=America/Chicago:20211208T140000
DTSTAMP:20260421T033753
CREATED:20211129T200545Z
LAST-MODIFIED:20211129T200545Z
UID:10000527-1638954000-1638972000@valleybusinessreport.com
SUMMARY:Harlingen Workforce Wednesday
DESCRIPTION:The City of Harlingen and Harlingen EDC\, in partnership with Workforce Solutions Cameron\, host the Workforce Wednesday Dec. 8. The hiring event takes place from 9 a.m. to 2 p.m. at Casa de Amistad\, 1204 Fair Park Blvd. in Harlingen. \nWorkforce Wednesday will host dozens of employers seeking to fill part-time and full-time positions. Employers participating in the Dec. 8 event include Harlingen CISD\, Harlingen Waterworks System\, Harlingen Medical Center and Tropical Texas Behavioral Health\, among others. \nWorkforce Solutions Cameron and the Harlingen EDC is also recruiting employers to participate. The event is free to participate in and open to the public. \nEmployers can call or the Harlingen EDC to participate. Employers can also register online.\n\n\n	Related
URL:https://valleybusinessreport.com/event/harlingen-workforce-wednesday/
LOCATION:Casa de Amistad\, 1204 Fair Park Blvd.\, Harlingen\, TX\, 78550\, United States
CATEGORIES:Hiring events
ATTACH;FMTTYPE=image/png:https://valleybusinessreport.com/wp-content/uploads/2021/11/WW_12821.png
ORGANIZER;CN="Workforce Solutions Cameron":MAILTO:info@wfscameron.org
END:VEVENT
END:VCALENDAR