BEGIN:VCALENDAR
VERSION:2.0
PRODID:-//VBR - ECPv6.15.17.1//NONSGML v1.0//EN
CALSCALE:GREGORIAN
METHOD:PUBLISH
X-ORIGINAL-URL:https://valleybusinessreport.com
X-WR-CALDESC:Events for VBR
REFRESH-INTERVAL;VALUE=DURATION:PT1H
X-Robots-Tag:noindex
X-PUBLISHED-TTL:PT1H
BEGIN:VTIMEZONE
TZID:America/Chicago
BEGIN:DAYLIGHT
TZOFFSETFROM:-0600
TZOFFSETTO:-0500
TZNAME:CDT
DTSTART:20230312T080000
END:DAYLIGHT
BEGIN:STANDARD
TZOFFSETFROM:-0500
TZOFFSETTO:-0600
TZNAME:CST
DTSTART:20231105T070000
END:STANDARD
BEGIN:DAYLIGHT
TZOFFSETFROM:-0600
TZOFFSETTO:-0500
TZNAME:CDT
DTSTART:20240310T080000
END:DAYLIGHT
BEGIN:STANDARD
TZOFFSETFROM:-0500
TZOFFSETTO:-0600
TZNAME:CST
DTSTART:20241103T070000
END:STANDARD
BEGIN:DAYLIGHT
TZOFFSETFROM:-0600
TZOFFSETTO:-0500
TZNAME:CDT
DTSTART:20250309T080000
END:DAYLIGHT
BEGIN:STANDARD
TZOFFSETFROM:-0500
TZOFFSETTO:-0600
TZNAME:CST
DTSTART:20251102T070000
END:STANDARD
END:VTIMEZONE
BEGIN:VEVENT
DTSTART;TZID=America/Chicago:20240924T163000
DTEND;TZID=America/Chicago:20240924T190000
DTSTAMP:20260422T145424
CREATED:20240916T170745Z
LAST-MODIFIED:20240916T170745Z
UID:10001189-1727195400-1727204400@valleybusinessreport.com
SUMMARY:Edinburg Off the Clock Mixer
DESCRIPTION:Join the Edinburg Chamber of Commerce for its monthly “Off the Clock Mixer” on Sept. 24 at Castle Hill Bistro. This special event will honor the Rio Grande Valley Food Bank\, raising awareness for Hunger Action Month. \nThe event is free for chamber members and $20 for non-members. \nTo RSVP\, visit edinburg.com. \n\n\n	Related
URL:https://valleybusinessreport.com/event/edinburg-off-the-clock-mixer/
LOCATION:Castle Hill Bistro\, 2113 W. Trenton Road\, Edinburg\, TX\, United States
CATEGORIES:Networking
ATTACH;FMTTYPE=image/jpeg:https://valleybusinessreport.com/wp-content/uploads/2024/09/Off-the-Clock-Mixer.jpg
ORGANIZER;CN="Edinburg Chamber of Commerce":MAILTO:chamber@edinburg.com
END:VEVENT
END:VCALENDAR