BEGIN:VCALENDAR
VERSION:2.0
PRODID:-//VBR - ECPv6.15.17.1//NONSGML v1.0//EN
CALSCALE:GREGORIAN
METHOD:PUBLISH
X-ORIGINAL-URL:https://valleybusinessreport.com
X-WR-CALDESC:Events for VBR
REFRESH-INTERVAL;VALUE=DURATION:PT1H
X-Robots-Tag:noindex
X-PUBLISHED-TTL:PT1H
BEGIN:VTIMEZONE
TZID:America/Chicago
BEGIN:DAYLIGHT
TZOFFSETFROM:-0600
TZOFFSETTO:-0500
TZNAME:CDT
DTSTART:20230312T080000
END:DAYLIGHT
BEGIN:STANDARD
TZOFFSETFROM:-0500
TZOFFSETTO:-0600
TZNAME:CST
DTSTART:20231105T070000
END:STANDARD
BEGIN:DAYLIGHT
TZOFFSETFROM:-0600
TZOFFSETTO:-0500
TZNAME:CDT
DTSTART:20240310T080000
END:DAYLIGHT
BEGIN:STANDARD
TZOFFSETFROM:-0500
TZOFFSETTO:-0600
TZNAME:CST
DTSTART:20241103T070000
END:STANDARD
BEGIN:DAYLIGHT
TZOFFSETFROM:-0600
TZOFFSETTO:-0500
TZNAME:CDT
DTSTART:20250309T080000
END:DAYLIGHT
BEGIN:STANDARD
TZOFFSETFROM:-0500
TZOFFSETTO:-0600
TZNAME:CST
DTSTART:20251102T070000
END:STANDARD
END:VTIMEZONE
BEGIN:VEVENT
DTSTART;TZID=America/Chicago:20240816T080000
DTEND;TZID=America/Chicago:20240816T093000
DTSTAMP:20260422T022948
CREATED:20240809T144915Z
LAST-MODIFIED:20240809T145039Z
UID:10001154-1723795200-1723800600@valleybusinessreport.com
SUMMARY:Friday With The City | Brownsville Becoming a Hub for Binational Partnerships
DESCRIPTION:Join the Brownsville Chamber of Commerce and the City of Brownsville for Friday with the City on Aug. 16 for a conversation about “Brownsville Becoming A Hub for Binational Partnerships.” \nThe event will feature a conversation on Brownsville’s rapid status as a bi-national and regional nexus for government and leadership dialogues\, reflecting its growing influence and strategic importance. Recently\, the city has been the venue for significant meetings with binational leaders from the U.S. and Mexico\, including mayors from border cities\, which underscores its role as a central point for collaboration and policymaking across national lines. \nFriday with the City is an initiative of the Brownsville Chamber of Commerce in partnership with the City of Brownsville aimed at providing an update to the community about the growth\, progress\, and future of the city. \nSubmit questions for the presenters online. \nThis event is free with RSVP. \nFor more information\, contact the Brownsville Chamber of Commerce.\n\n\n	Related
URL:https://valleybusinessreport.com/event/friday-with-the-city-brownsville-becoming-a-hub-for-binational-partnerships/
LOCATION:City of Brownsville Communications & Marketing Complex\, 1312 East Adams Street\, Brownsville\, United States
CATEGORIES:Speakers
ATTACH;FMTTYPE=image/png:https://valleybusinessreport.com/wp-content/uploads/2024/08/Friday-With-The-City.png
ORGANIZER;CN="Brownsville Chamber of Commerce":MAILTO:info@brownsvillechamber.com
END:VEVENT
BEGIN:VEVENT
DTSTART;TZID=America/Chicago:20240328T113000
DTEND;TZID=America/Chicago:20240328T130000
DTSTAMP:20260422T022948
CREATED:20240319T203442Z
LAST-MODIFIED:20240319T203704Z
UID:10001106-1711625400-1711630800@valleybusinessreport.com
SUMMARY:Launch Your Business with Customer-Focused Marketing
DESCRIPTION:The Brownsville Chamber of Commerce and the City of Brownsville host “Launch Your Business with Customer-Focused Marketing\,” a free lunch and learn workshop\, on March 28. \nSponsored by the Brownsville Community Improvement Corporation\, Brownsville Independent School District\, and Hanson Professional Services Inc.\, this workshop is tailored to empower entrepreneurs with indispensable tools for business growth. \nAs a new entrepreneur\, you’ll need more than good products or services to grow your business. It’s also important to have strong customer-focused marketing strategies to reach your audience and turn them into loyal customers. \nIn this workshop\, you will learn how to: \n\nCreate a compelling brand\nDefine your audience\nConvert customers\nBuild loyalty and advocacy\n\nThis workshop is brought to you by the Brownsville Chamber of Commerce’s Connect BTX Committee. \nRegister online. \n\n\n	Related
URL:https://valleybusinessreport.com/event/launch-your-business-with-customer-focused-marketing/
LOCATION:City of Brownsville Communications & Marketing Complex\, 1312 East Adams Street\, Brownsville\, United States
CATEGORIES:Seminars and Workshops
ATTACH;FMTTYPE=image/png:https://valleybusinessreport.com/wp-content/uploads/2024/03/marketing.png
ORGANIZER;CN="Brownsville Chamber of Commerce":MAILTO:info@brownsvillechamber.com
END:VEVENT
END:VCALENDAR