BEGIN:VCALENDAR
VERSION:2.0
PRODID:-//VBR - ECPv6.15.17.1//NONSGML v1.0//EN
CALSCALE:GREGORIAN
METHOD:PUBLISH
X-ORIGINAL-URL:https://valleybusinessreport.com
X-WR-CALDESC:Events for VBR
REFRESH-INTERVAL;VALUE=DURATION:PT1H
X-Robots-Tag:noindex
X-PUBLISHED-TTL:PT1H
BEGIN:VTIMEZONE
TZID:America/Chicago
BEGIN:DAYLIGHT
TZOFFSETFROM:-0600
TZOFFSETTO:-0500
TZNAME:CDT
DTSTART:20210314T080000
END:DAYLIGHT
BEGIN:STANDARD
TZOFFSETFROM:-0500
TZOFFSETTO:-0600
TZNAME:CST
DTSTART:20211107T070000
END:STANDARD
BEGIN:DAYLIGHT
TZOFFSETFROM:-0600
TZOFFSETTO:-0500
TZNAME:CDT
DTSTART:20220313T080000
END:DAYLIGHT
BEGIN:STANDARD
TZOFFSETFROM:-0500
TZOFFSETTO:-0600
TZNAME:CST
DTSTART:20221106T070000
END:STANDARD
BEGIN:DAYLIGHT
TZOFFSETFROM:-0600
TZOFFSETTO:-0500
TZNAME:CDT
DTSTART:20230312T080000
END:DAYLIGHT
BEGIN:STANDARD
TZOFFSETFROM:-0500
TZOFFSETTO:-0600
TZNAME:CST
DTSTART:20231105T070000
END:STANDARD
END:VTIMEZONE
BEGIN:VEVENT
DTSTART;TZID=America/Chicago:20220404T173000
DTEND;TZID=America/Chicago:20220404T190000
DTSTAMP:20260421T100914
CREATED:20220330T195910Z
LAST-MODIFIED:20220330T195910Z
UID:10000725-1649093400-1649098800@valleybusinessreport.com
SUMMARY:RGVHCC Manic Mixer
DESCRIPTION:The RGV Hispanic Chamber hosts its monthly Manic Monday April 4 from 5:30-7:00 p.m. The evening includes appetizers and beverages. \nCome meet and greet members\, and network with new prospective members who wish to use the benefits that the RGVHCC offers. \nThis event is open to all. Attendees may bring a door prize for a chance to talk about their businesses. \n\n\n	Related
URL:https://valleybusinessreport.com/event/rgvhcc-manic-mixer/
LOCATION:Costa Messa\, 4013 W. Expy 83\, McAllen\, TX\, United States
CATEGORIES:Networking
ATTACH;FMTTYPE=image/png:https://valleybusinessreport.com/wp-content/uploads/2022/03/Manic-Monday-april-2022.png
END:VEVENT
END:VCALENDAR