BEGIN:VCALENDAR
VERSION:2.0
PRODID:-//VBR - ECPv6.15.17.1//NONSGML v1.0//EN
CALSCALE:GREGORIAN
METHOD:PUBLISH
X-ORIGINAL-URL:https://valleybusinessreport.com
X-WR-CALDESC:Events for VBR
REFRESH-INTERVAL;VALUE=DURATION:PT1H
X-Robots-Tag:noindex
X-PUBLISHED-TTL:PT1H
BEGIN:VTIMEZONE
TZID:America/Chicago
BEGIN:DAYLIGHT
TZOFFSETFROM:-0600
TZOFFSETTO:-0500
TZNAME:CDT
DTSTART:20210314T080000
END:DAYLIGHT
BEGIN:STANDARD
TZOFFSETFROM:-0500
TZOFFSETTO:-0600
TZNAME:CST
DTSTART:20211107T070000
END:STANDARD
BEGIN:DAYLIGHT
TZOFFSETFROM:-0600
TZOFFSETTO:-0500
TZNAME:CDT
DTSTART:20220313T080000
END:DAYLIGHT
BEGIN:STANDARD
TZOFFSETFROM:-0500
TZOFFSETTO:-0600
TZNAME:CST
DTSTART:20221106T070000
END:STANDARD
BEGIN:DAYLIGHT
TZOFFSETFROM:-0600
TZOFFSETTO:-0500
TZNAME:CDT
DTSTART:20230312T080000
END:DAYLIGHT
BEGIN:STANDARD
TZOFFSETFROM:-0500
TZOFFSETTO:-0600
TZNAME:CST
DTSTART:20231105T070000
END:STANDARD
END:VTIMEZONE
BEGIN:VEVENT
DTSTART;TZID=America/Chicago:20220217T150000
DTEND;TZID=America/Chicago:20220217T170000
DTSTAMP:20260421T052757
CREATED:20220207T203815Z
LAST-MODIFIED:20220207T203815Z
UID:10000732-1645110000-1645117200@valleybusinessreport.com
SUMMARY:Speed Networking at Dirty Al's Seafood Market & Cajun Kitchen
DESCRIPTION:The Brownsville Chamber of Commerce hosts its fast-paced in-person networking opportunity\, Speed Networking\, Feb. 17 at Al’s Seafood Market & Cajun Kitchen. \nIt’s a structured opportunity to meet accomplished professionals just like yourself\, face to face\, one business professional at a time. Whether you are an entrepreneur\, small business owner\, legal or medical professional\, in the finance\, real estate or entertainment industry this speed networking event will offer the perfect occasion to expand your business\, social or enterprise contacts. \nThis is an opportunity for you to maximize\, capitalize on and foster lasting connections for your business\, creative endeavors and your network. Bring business cards and/or promotional material for up to 50 individuals. \nHow It Works:\n\nUpon your arrival\, you will receive a sheet of paper with your personalized seating sequence. This sequence is used in order to avoid participants meeting twice.\nYou will have the opportunity to meet at least 30+ business professionals in a short period of time.\nYou have one minute to make a commercial presentation about your company/organization. There will be up to seven individuals at each of the seven tables.\nYou will rotate to a different table every eight to 10 minutes and will follow the same procedure until the final round.\n\nAdmission is $20 for chamber members\, $25 for non-members. \nRegister online.\n\n\n	Related
URL:https://valleybusinessreport.com/event/speed-networking-at-dirty-als-seafood-market-cajun-kitchen/
LOCATION:Dirty Al’s Seafood Market & Cajun Kitchen\, 4495 N Expressway 83/77\, Brownsville\, TX\, 78520\, United States
CATEGORIES:Networking
ATTACH;FMTTYPE=image/png:https://valleybusinessreport.com/wp-content/uploads/2022/02/2.17.22SpeedNetworkingatDirtyAls.png
ORGANIZER;CN="Brownsville Chamber of Commerce":MAILTO:info@brownsvillechamber.com
END:VEVENT
END:VCALENDAR