BEGIN:VCALENDAR
VERSION:2.0
PRODID:-//VBR - ECPv6.15.17.1//NONSGML v1.0//EN
CALSCALE:GREGORIAN
METHOD:PUBLISH
X-WR-CALNAME:VBR
X-ORIGINAL-URL:https://valleybusinessreport.com
X-WR-CALDESC:Events for VBR
REFRESH-INTERVAL;VALUE=DURATION:PT1H
X-Robots-Tag:noindex
X-PUBLISHED-TTL:PT1H
BEGIN:VTIMEZONE
TZID:America/Chicago
BEGIN:DAYLIGHT
TZOFFSETFROM:-0600
TZOFFSETTO:-0500
TZNAME:CDT
DTSTART:20200308T080000
END:DAYLIGHT
BEGIN:STANDARD
TZOFFSETFROM:-0500
TZOFFSETTO:-0600
TZNAME:CST
DTSTART:20201101T070000
END:STANDARD
BEGIN:DAYLIGHT
TZOFFSETFROM:-0600
TZOFFSETTO:-0500
TZNAME:CDT
DTSTART:20210314T080000
END:DAYLIGHT
BEGIN:STANDARD
TZOFFSETFROM:-0500
TZOFFSETTO:-0600
TZNAME:CST
DTSTART:20211107T070000
END:STANDARD
BEGIN:DAYLIGHT
TZOFFSETFROM:-0600
TZOFFSETTO:-0500
TZNAME:CDT
DTSTART:20220313T080000
END:DAYLIGHT
BEGIN:STANDARD
TZOFFSETFROM:-0500
TZOFFSETTO:-0600
TZNAME:CST
DTSTART:20221106T070000
END:STANDARD
BEGIN:DAYLIGHT
TZOFFSETFROM:-0600
TZOFFSETTO:-0500
TZNAME:CDT
DTSTART:20230312T080000
END:DAYLIGHT
BEGIN:STANDARD
TZOFFSETFROM:-0500
TZOFFSETTO:-0600
TZNAME:CST
DTSTART:20231105T070000
END:STANDARD
BEGIN:DAYLIGHT
TZOFFSETFROM:-0600
TZOFFSETTO:-0500
TZNAME:CDT
DTSTART:20240310T080000
END:DAYLIGHT
BEGIN:STANDARD
TZOFFSETFROM:-0500
TZOFFSETTO:-0600
TZNAME:CST
DTSTART:20241103T070000
END:STANDARD
BEGIN:DAYLIGHT
TZOFFSETFROM:-0600
TZOFFSETTO:-0500
TZNAME:CDT
DTSTART:20250309T080000
END:DAYLIGHT
BEGIN:STANDARD
TZOFFSETFROM:-0500
TZOFFSETTO:-0600
TZNAME:CST
DTSTART:20251102T070000
END:STANDARD
BEGIN:DAYLIGHT
TZOFFSETFROM:-0600
TZOFFSETTO:-0500
TZNAME:CDT
DTSTART:20260308T080000
END:DAYLIGHT
BEGIN:STANDARD
TZOFFSETFROM:-0500
TZOFFSETTO:-0600
TZNAME:CST
DTSTART:20261101T070000
END:STANDARD
END:VTIMEZONE
BEGIN:VEVENT
DTSTART;TZID=America/Chicago:20250503T140000
DTEND;TZID=America/Chicago:20250503T180000
DTSTAMP:20260422T054639
CREATED:20250429T014709Z
LAST-MODIFIED:20250429T014709Z
UID:10001277-1746280800-1746295200@valleybusinessreport.com
SUMMARY:Kentucky Derby at the Depot
DESCRIPTION:Join the Edinburg Chamber of Commerce on May 3 for an unforgettable afternoon at the Kentucky Derby at the Depot. Held at the historic Southern Pacific Depot\, this event promises Southern charm with delicious food & drinks by L&F Distributors. \nDress in your derby best for a chance to win in our Derby Hat Contest. All proceeds support your Edinburg Chamber of Commerce’s mission to empower local businesses. \nRegister online. \n\n\n	Related
URL:https://valleybusinessreport.com/event/kentucky-derby-at-the-depot/
LOCATION:Edinburg Chamber of Commerce\, 602 W University Drive\, Edinburg\, TX\, 78539\, United States
ATTACH;FMTTYPE=image/png:https://valleybusinessreport.com/wp-content/uploads/2025/04/Kentucky-Derby.png
ORGANIZER;CN="Edinburg Chamber of Commerce":MAILTO:chamber@edinburg.com
END:VEVENT
BEGIN:VEVENT
DTSTART;TZID=America/Chicago:20240828T163000
DTEND;TZID=America/Chicago:20240828T190000
DTSTAMP:20260422T054639
CREATED:20240819T192339Z
LAST-MODIFIED:20240819T192339Z
UID:10001156-1724862600-1724871600@valleybusinessreport.com
SUMMARY:Leadership Edinburg Recruitment Mixer
DESCRIPTION:The Edinburg Chamber of Commerce invites aspiring leaders to attend the Leadership Edinburg Program’s Recruitment Mixer for the 2025 Class on Aug. 28. \nWith a legacy of over 500 distinguished alumni\, including elected officials\, business executives and community leaders\, the Leadership Edinburg program is a gateway to invaluable connections\, exclusive resources and the knowledge needed to drive meaningful change. \nThis mixer offers a unique opportunity to hear firsthand from alumni who will share their personal experiences and the transformative impact the program has had on their careers and lives. Whether you’re looking to enhance your leadership skills\, expand your network or make a difference in your community\, the Leadership Edinburg program can help you achieve your goals. \nRegister by calling the chamber. \n\n\n	Related
URL:https://valleybusinessreport.com/event/leadership-edinburg-recruitment-mixer/
LOCATION:Edinburg Chamber of Commerce\, 602 W University Drive\, Edinburg\, TX\, 78539\, United States
CATEGORIES:Networking
ATTACH;FMTTYPE=image/jpeg:https://valleybusinessreport.com/wp-content/uploads/2024/08/le-mixer.jpg
ORGANIZER;CN="Edinburg Chamber of Commerce":MAILTO:chamber@edinburg.com
END:VEVENT
BEGIN:VEVENT
DTSTART;TZID=America/Chicago:20240430T163000
DTEND;TZID=America/Chicago:20240430T190000
DTSTAMP:20260422T054639
CREATED:20240423T193643Z
LAST-MODIFIED:20240423T193643Z
UID:10001123-1714494600-1714503600@valleybusinessreport.com
SUMMARY:Edinburg President's Red Coat Mixer
DESCRIPTION:Join the Edinburg Chamber of Commerce on April 30 to recognize the dedication of former board presidents who have tirelessly devoted their time to advancing the mission of the chamber. \nMembers of the Edinburg Chamber of Commerce are invited to attend this complimentary mixer. For non-members\, a nominal entry fee of $20 will apply. \nRegister online. \n\n\n	Related
URL:https://valleybusinessreport.com/event/edinburg-presidents-red-coat-mixer/
LOCATION:Edinburg Chamber of Commerce\, 602 W University Drive\, Edinburg\, TX\, 78539\, United States
CATEGORIES:Awards and Recognitions
ATTACH;FMTTYPE=image/jpeg:https://valleybusinessreport.com/wp-content/uploads/2024/04/red-coat-mixer.jpg
ORGANIZER;CN="Edinburg Chamber of Commerce":MAILTO:chamber@edinburg.com
END:VEVENT
BEGIN:VEVENT
DTSTART;TZID=America/Chicago:20240425T083000
DTEND;TZID=America/Chicago:20240425T110000
DTSTAMP:20260422T054639
CREATED:20240417T014822Z
LAST-MODIFIED:20240417T014822Z
UID:10001122-1714033800-1714042800@valleybusinessreport.com
SUMMARY:Hustle and Brunch Networking Event
DESCRIPTION:In celebration of National Volunteer Month\, the Edinburg Chamber is providing a unique platform for non-profit organizations and business professionals to come together with the Hustle and Brunch Networking Event on April 25. \nThe chamber’s goal is to create a spirit of volunteerism by facilitating interactions between community leaders and individuals passionate about making a difference. \nSabrina Walker-Hernandez\, representing Supporting World Hope\, will highlight the significance of community involvement and the positive impact it brings. \nThis event is free for chamber members\, $20 for non-members. \nRegister online. \n\n\n	Related
URL:https://valleybusinessreport.com/event/hustle-and-brunch-networking-event/
LOCATION:Edinburg Chamber of Commerce\, 602 W University Drive\, Edinburg\, TX\, 78539\, United States
CATEGORIES:Networking
ATTACH;FMTTYPE=image/jpeg:https://valleybusinessreport.com/wp-content/uploads/2024/04/Hustle-and-Brunch.jpg
ORGANIZER;CN="Edinburg Chamber of Commerce":MAILTO:chamber@edinburg.com
END:VEVENT
BEGIN:VEVENT
DTSTART;TZID=America/Chicago:20240222T090000
DTEND;TZID=America/Chicago:20240222T110000
DTSTAMP:20260422T054639
CREATED:20240205T193947Z
LAST-MODIFIED:20240205T194118Z
UID:10001087-1708592400-1708599600@valleybusinessreport.com
SUMMARY:Get Ready to File in 2024
DESCRIPTION:Small business owners\, are you ready for tax season? “Get Ready to File in 2024” on Feb. 22 at the Edinburg Chamber will provide the information needed to get ready to file. \nSession highlights:\n\nChanges affecting small businesses for 2024 tax season\nOrganizing and checking your records\nListing your tax deductions\nCreating your tax calendar for 2024 for your business\nGathering and checking your tax forms\nPrep with your accountant or tax professional\n\nRegister online. \nThis in-person session is presented by CAS CPA\, LLC and hosted by the UTRGV Small Business Development Center in partnership with Edinburg Chamber of Commerce. \n\n\n	Related
URL:https://valleybusinessreport.com/event/get-ready-to-file-in-2024-2/
LOCATION:Edinburg Chamber of Commerce\, 602 W University Drive\, Edinburg\, TX\, 78539\, United States
CATEGORIES:Seminars and Workshops
ATTACH;FMTTYPE=image/jpeg:https://valleybusinessreport.com/wp-content/uploads/2024/02/tax-form.jpg
ORGANIZER;CN="UTRGV Small Business Development Center":MAILTO:sbdc@utrgv.edu
END:VEVENT
BEGIN:VEVENT
DTSTART;TZID=America/Chicago:20231025T083000
DTEND;TZID=America/Chicago:20231025T103000
DTSTAMP:20260422T054639
CREATED:20231017T194841Z
LAST-MODIFIED:20231017T195009Z
UID:10001024-1698222600-1698229800@valleybusinessreport.com
SUMMARY:Exploring Your Market
DESCRIPTION:Who are your potential customers? \nBefore launching or growing a business\, it is important to identify your target market and new market segments. For example\, is there a demand or growing demand for your product or service? Who is buying or selling something similar? All these questions and more must be studied to make key business decisions in your small business. \nLearn about the following during “Exploring Your Market” on Oct. 25\, plus more: \n\nThe importance of Market Research\nTools to conduct Market Research\nSmall businesses and their target markets\nRelevant industry trends and what they mean\nCompetitors & how small businesses compare\nQuantifying Market Research for business decisions\n\nPresented by the UTRGV Small Business Development Center. \nRegister online. \n\n\n	Related
URL:https://valleybusinessreport.com/event/exploring-your-market-3/
LOCATION:Edinburg Chamber of Commerce\, 602 W University Drive\, Edinburg\, TX\, 78539\, United States
CATEGORIES:Seminars and Workshops
ATTACH;FMTTYPE=image/jpeg:https://valleybusinessreport.com/wp-content/uploads/2023/10/exploring-market-1.jpg
ORGANIZER;CN="Esperanza P. Delgado":MAILTO:esperanza.delgado@utrgv.edu
END:VEVENT
BEGIN:VEVENT
DTSTART;TZID=America/Chicago:20230621T083000
DTEND;TZID=America/Chicago:20230621T103000
DTSTAMP:20260422T054639
CREATED:20230613T195829Z
LAST-MODIFIED:20230613T195829Z
UID:10000940-1687336200-1687343400@valleybusinessreport.com
SUMMARY:Small Business Branding
DESCRIPTION:Why is branding important for a new business? Successful branding begins at the start of your business journey. \nWith “Small Business Branding” on June 21\, learn to develop a structure that is unique to your business and recognizable to your customer. \nSession Highlights:\n\nWhat is a brand?\nThe importance of branding?\nThe three branding principles.\nSteps to branding development.\nProtecting and maintaining a successful brand.\n\nThis seminar is presented by the UTRGV SBDC in partnership with the Edinburg Chamber of Commerce. \nRegister online. \n\n\n	Related
URL:https://valleybusinessreport.com/event/small-business-branding/
LOCATION:Edinburg Chamber of Commerce\, 602 W University Drive\, Edinburg\, TX\, 78539\, United States
CATEGORIES:Seminars and Workshops
ATTACH;FMTTYPE=image/jpeg:https://valleybusinessreport.com/wp-content/uploads/2019/04/BuildBrand.jpg
ORGANIZER;CN="Esperanza Delgado":MAILTO:esperanza.delgado@utrgv.edu
END:VEVENT
BEGIN:VEVENT
DTSTART;TZID=America/Chicago:20230601T120000
DTEND;TZID=America/Chicago:20230601T133000
DTSTAMP:20260422T054639
CREATED:20230524T164004Z
LAST-MODIFIED:20230524T164037Z
UID:10000951-1685620800-1685626200@valleybusinessreport.com
SUMMARY:Edinburg Power Punch at Lunch Networking
DESCRIPTION:The Edinburg Chamber of Commerce hosts its networking event\, Power Punch at Lunch\, presented by South Texas Health System Clinics\, on June 1. This event provides an opportunity for local businesses and professionals to expand their network while gaining valuable insights into the field of occupational medicine. \nParticipants can look forward to an engaging session led by renowned occupational medicine specialist\, Dr. Michael Wirsching. \nWirsching\, an esteemed physician at South Texas Health System Clinics\, will present an introduction to occupational medicine during the event. With years of experience in the field\, Wirsching will provide valuable insights into the importance of occupational medicine for both employees and employers alike. Attendees can expect to gain a comprehensive understanding of the benefits that occupational medicine can bring to their organizations. \nThis networking event aims to bring together local business leaders\, human resources professionals and individuals interested in learning more about occupational medicine. It will provide a platform for meaningful discussions\, fostering collaborations and sharing best practices among attendees. Furthermore\, participants will have the opportunity to connect with representatives from South Texas Health System Clinics to explore potential partnerships and avail themselves of the clinic’s expertise in occupational medicine. \nTo register for the event or for more information\, visit the Edinburg Chamber of Commerce website or call 956-383-4974.\n\n\n	Related
URL:https://valleybusinessreport.com/event/edinburg-power-punch-at-lunch-networking/
LOCATION:Edinburg Chamber of Commerce\, 602 W University Drive\, Edinburg\, TX\, 78539\, United States
CATEGORIES:Networking
ATTACH;FMTTYPE=image/jpeg:https://valleybusinessreport.com/wp-content/uploads/2023/05/06.01.23-Power-Punch-at-Lunch.jpg
ORGANIZER;CN="Edinburg Chamber of Commerce":MAILTO:chamber@edinburg.com
END:VEVENT
BEGIN:VEVENT
DTSTART;TZID=America/Chicago:20230506T143000
DTEND;TZID=America/Chicago:20230506T180000
DTSTAMP:20260422T054639
CREATED:20230503T210249Z
LAST-MODIFIED:20230503T210350Z
UID:10000915-1683383400-1683396000@valleybusinessreport.com
SUMMARY:Derby at the Depot - Leadership Edinburg XXXIV Fundraiser
DESCRIPTION:Put on your fancy hats and get ready to race for a good cause on May 6 at Derby at the Depot\, a Leadership Edinburg XXXIV fundraiser. The afternoon includes heavy hors d’oeuvres\, music\, drinks and games. \nTickets are $75 per person or $100 per couple\, and are available for purchase online. \n\n\n	Related
URL:https://valleybusinessreport.com/event/derby-at-the-depot-leadership-edinburg-xxxiv-fundraiser/
LOCATION:Edinburg Chamber of Commerce\, 602 W University Drive\, Edinburg\, TX\, 78539\, United States
CATEGORIES:Fundraisers
ATTACH;FMTTYPE=image/jpeg:https://valleybusinessreport.com/wp-content/uploads/2023/05/Derby-at-the-Depot.jpg
ORGANIZER;CN="Edinburg Chamber of Commerce":MAILTO:chamber@edinburg.com
END:VEVENT
BEGIN:VEVENT
DTSTART;TZID=America/Chicago:20230419T083000
DTEND;TZID=America/Chicago:20230419T103000
DTSTAMP:20260422T054639
CREATED:20230411T171023Z
LAST-MODIFIED:20230411T171023Z
UID:10000744-1681893000-1681900200@valleybusinessreport.com
SUMMARY:Art of Marketing Workshop
DESCRIPTION:The Edinburg Chamber of Commerce hosts a marketing workshop for local business owners on April 19. “Art of Marketing” covers various topics related to marketing\, including the identification of target market\, pricing strategy and more. Marivel Mata\, Senior Business Advisor at the UTRGV SBDC\, leads the workshop and will help businesses improve their marketing efforts. \n“We’re excited to offer this workshop to local business owners\,” said Ronnie Larralde\, executive director of the Edinburg Chamber of Commerce. “Marketing is an essential part of any business\, and we want to help our members improve their marketing strategies so that they can grow and succeed.” \nThe workshop includes a Q&A session where attendees can ask the presenters any questions they may have. Light refreshments will also be provided. \nInterested business owners can register online or by calling the chamber’s office. Space is limited\, so interested attendees are encouraged to register early to secure their spot. \n\n\n	Related
URL:https://valleybusinessreport.com/event/art-of-marketing-workshop/
LOCATION:Edinburg Chamber of Commerce\, 602 W University Drive\, Edinburg\, TX\, 78539\, United States
CATEGORIES:Seminars and Workshops
ATTACH;FMTTYPE=image/png:https://valleybusinessreport.com/wp-content/uploads/2023/04/Art-of-Marketing-04.19.23.png
ORGANIZER;CN="Edinburg Chamber of Commerce":MAILTO:chamber@edinburg.com
END:VEVENT
BEGIN:VEVENT
DTSTART;TZID=America/Chicago:20230203T083000
DTEND;TZID=America/Chicago:20230203T100000
DTSTAMP:20260422T054639
CREATED:20230201T202253Z
LAST-MODIFIED:20230201T202253Z
UID:10000716-1675413000-1675418400@valleybusinessreport.com
SUMMARY:Effective Communication Seminar
DESCRIPTION:Join the Edinburg Chamber of Commerce on Feb. 3 for an informative seminar on Effective Communication presented by Sabrina Walker-Hernandez of Supporting World Hope. \nLearn how Effective Communication can help your team improve their communication skills and build stronger relationships with others. \nThis workshop covers nonverbal communication\, active listening and effective communication in different settings. This interactive workshop includes activities and exercises to practice and apply the skills learned. \nThis seminar is free from Edinburg Chamber members\, $20 for non-members. RSVP is required. \n\n\n	Related
URL:https://valleybusinessreport.com/event/effective-communication-seminar/
LOCATION:Edinburg Chamber of Commerce\, 602 W University Drive\, Edinburg\, TX\, 78539\, United States
CATEGORIES:Seminars and Workshops
ATTACH;FMTTYPE=image/jpeg:https://valleybusinessreport.com/wp-content/uploads/2023/02/Sabrina-Walker-Hernandez.jpg
ORGANIZER;CN="Edinburg Chamber of Commerce":MAILTO:chamber@edinburg.com
END:VEVENT
BEGIN:VEVENT
DTSTART;TZID=America/Chicago:20230119T113000
DTEND;TZID=America/Chicago:20230119T130000
DTSTAMP:20260422T054639
CREATED:20230111T153236Z
LAST-MODIFIED:20230111T153236Z
UID:10000869-1674127800-1674133200@valleybusinessreport.com
SUMMARY:Diversify Your Workforce Workshop
DESCRIPTION:The Edinburg Chamber of Commerce hosts its “Diversify Your Workforce!” collaborative workshop with the Disability Chamber of Commerce on Jan.19. The workshop will be catered towards employers who seek talent sources. \nThe workshop will feature a presentation by Evelyn Cano\, president of the Disability Chamber of Commerce RGV. Cano will discuss the benefits of hiring an employee with disabilities as well as the best accommodation practices for them and other related topics. \nEvelyn Cano is a parent\, advocate\, co-founder and president of the Disability Chamber. The Disability Chamber is the fourth cross-disability chamber of commerce in the U.S. and works to promote employment opportunities for people with disabilities. In 2022\, Gov. Abbott appointed Cano to the board of Disability Rights Texas. \nThe workshop is free of charge for Edinburg Chamber members and $20 for non-members. \nEmployers interested in participating must RSVP by calling 956-383-4974 or emailing marketing@edinburg.com.\n\n\n	Related
URL:https://valleybusinessreport.com/event/diversify-your-workforce-workshop/
LOCATION:Edinburg Chamber of Commerce\, 602 W University Drive\, Edinburg\, TX\, 78539\, United States
CATEGORIES:Seminars and Workshops
ATTACH;FMTTYPE=image/jpeg:https://valleybusinessreport.com/wp-content/uploads/2023/01/DiversifyWorkforce.jpg
ORGANIZER;CN="Edinburg Chamber of Commerce":MAILTO:chamber@edinburg.com
END:VEVENT
BEGIN:VEVENT
DTSTART;TZID=America/Chicago:20220330T080000
DTEND;TZID=America/Chicago:20220330T170000
DTSTAMP:20260422T054639
CREATED:20220330T200320Z
LAST-MODIFIED:20220330T200320Z
UID:10000726-1648627200-1648659600@valleybusinessreport.com
SUMMARY:Tax Tips For Your Business
DESCRIPTION:Join the Edinburg Chamber of Commerce April 5 for the “Tax Tips For Your Business” seminar. Accounting experts from CAS CPA LLC will answer questions regarding taxes. \nTopics discussed will include:\n\n100% Meal Deduction\nPPP Loan Forgiveness\nDonation Deduction\nExpired Tax Cuts & Jobs Acts Provisions\nEmployer Retention Tax Credit\nOptimizing Business Tax Deductions\n\nFor more information on this event\, call 956-383-4974. \nRSVP online.\n\n\n\n	Related
URL:https://valleybusinessreport.com/event/tax-tips-for-your-business/
LOCATION:Edinburg Chamber of Commerce\, 602 W University Drive\, Edinburg\, TX\, 78539\, United States
CATEGORIES:Seminars and Workshops
ATTACH;FMTTYPE=image/jpeg:https://valleybusinessreport.com/wp-content/uploads/2021/01/tax-calculator.jpg
ORGANIZER;CN="Edinburg Chamber of Commerce":MAILTO:chamber@edinburg.com
END:VEVENT
BEGIN:VEVENT
DTSTART;TZID=America/Chicago:20210819T150000
DTEND;TZID=America/Chicago:20210819T190000
DTSTAMP:20260422T054639
CREATED:20210806T131109Z
LAST-MODIFIED:20210806T131109Z
UID:10000646-1629385200-1629399600@valleybusinessreport.com
SUMMARY:Edinburg Sunset Member Market
DESCRIPTION:The Edinburg Chamber of Commerce hosts its Sunset Member Market Aug. 19 from 3-7 p.m. at the Historic Edinburg Chamber Depot. \nThe chamber’s Sunset Member Market allows attendees to discover new products and services from different Edinburg Chamber vendors and creators. \nFor vendor information\, contact the chamber.\n\n\n\n	Related
URL:https://valleybusinessreport.com/event/edinburg-sunset-member-market/
LOCATION:Edinburg Chamber of Commerce\, 602 W University Drive\, Edinburg\, TX\, 78539\, United States
CATEGORIES:Shopping
ATTACH;FMTTYPE=image/jpeg:https://valleybusinessreport.com/wp-content/uploads/2021/08/Sunset-Member-Market.jpg
ORGANIZER;CN="Edinburg Chamber of Commerce":MAILTO:chamber@edinburg.com
END:VEVENT
BEGIN:VEVENT
DTSTART;TZID=America/Chicago:20210819T130000
DTEND;TZID=America/Chicago:20210819T170000
DTSTAMP:20260422T054639
CREATED:20210806T130044Z
LAST-MODIFIED:20210806T130044Z
UID:10000635-1629378000-1629392400@valleybusinessreport.com
SUMMARY:Edinburg Chamber Membership Drive
DESCRIPTION:The Edinburg Chamber of Commerce hosts a membership drive Aug. 19 from 1-5 p.m. The chamber invites prospective members to stop by for an opportunity to meet chamber staff\, ambassadors and volunteers. \nThose who also become chamber members or renew their membership that day will be entered into a drawing for door prizes. \nRSVP online.\n\n\n\n	Related
URL:https://valleybusinessreport.com/event/edinburg-chamber-membership-drive/
LOCATION:Edinburg Chamber of Commerce\, 602 W University Drive\, Edinburg\, TX\, 78539\, United States
CATEGORIES:Networking
ATTACH;FMTTYPE=image/jpeg:https://valleybusinessreport.com/wp-content/uploads/2021/08/crop_edinburg-chamber-logo.jpg
ORGANIZER;CN="Edinburg Chamber of Commerce":MAILTO:chamber@edinburg.com
END:VEVENT
END:VCALENDAR