BEGIN:VCALENDAR
VERSION:2.0
PRODID:-//VBR - ECPv6.15.17.1//NONSGML v1.0//EN
CALSCALE:GREGORIAN
METHOD:PUBLISH
X-WR-CALNAME:VBR
X-ORIGINAL-URL:https://valleybusinessreport.com
X-WR-CALDESC:Events for VBR
REFRESH-INTERVAL;VALUE=DURATION:PT1H
X-Robots-Tag:noindex
X-PUBLISHED-TTL:PT1H
BEGIN:VTIMEZONE
TZID:America/Chicago
BEGIN:DAYLIGHT
TZOFFSETFROM:-0600
TZOFFSETTO:-0500
TZNAME:CDT
DTSTART:20210314T080000
END:DAYLIGHT
BEGIN:STANDARD
TZOFFSETFROM:-0500
TZOFFSETTO:-0600
TZNAME:CST
DTSTART:20211107T070000
END:STANDARD
BEGIN:DAYLIGHT
TZOFFSETFROM:-0600
TZOFFSETTO:-0500
TZNAME:CDT
DTSTART:20220313T080000
END:DAYLIGHT
BEGIN:STANDARD
TZOFFSETFROM:-0500
TZOFFSETTO:-0600
TZNAME:CST
DTSTART:20221106T070000
END:STANDARD
BEGIN:DAYLIGHT
TZOFFSETFROM:-0600
TZOFFSETTO:-0500
TZNAME:CDT
DTSTART:20230312T080000
END:DAYLIGHT
BEGIN:STANDARD
TZOFFSETFROM:-0500
TZOFFSETTO:-0600
TZNAME:CST
DTSTART:20231105T070000
END:STANDARD
END:VTIMEZONE
BEGIN:VEVENT
DTSTART;TZID=America/Chicago:20220629T170000
DTEND;TZID=America/Chicago:20220629T193000
DTSTAMP:20260421T101602
CREATED:20220620T184431Z
LAST-MODIFIED:20220620T184631Z
UID:10000805-1656522000-1656531000@valleybusinessreport.com
SUMMARY:Freedom Celebration Mixer Presented by Falcon Bank
DESCRIPTION:Falcon Bank and the Brownsville Chamber of Commerce host the Freedom Celebration Mixer on June 29 beginning at 5 p.m. The evening includes music\, food and drinks\, and networking while supporting a local non-profit organization. \nRegistration is $20 for Brownsville Chamber members\, $25 for non-members. \nRegister online or contact the Brownsville Chamber.\n\n\n	Related
URL:https://valleybusinessreport.com/event/freedom-celebration-mixer-presented-by-falcon-bank/
LOCATION:Falcon Bank\, 1805 N. Expressway 77\, Brownsville\, 78520
CATEGORIES:Networking
ATTACH;FMTTYPE=image/png:https://valleybusinessreport.com/wp-content/uploads/2022/06/6.29.22-Freedom-Celebration-Mixer.png
ORGANIZER;CN="Brownsville Chamber of Commerce":MAILTO:info@brownsvillechamber.com
END:VEVENT
END:VCALENDAR