BEGIN:VCALENDAR
VERSION:2.0
PRODID:-//VBR - ECPv6.15.17.1//NONSGML v1.0//EN
CALSCALE:GREGORIAN
METHOD:PUBLISH
X-ORIGINAL-URL:https://valleybusinessreport.com
X-WR-CALDESC:Events for VBR
REFRESH-INTERVAL;VALUE=DURATION:PT1H
X-Robots-Tag:noindex
X-PUBLISHED-TTL:PT1H
BEGIN:VTIMEZONE
TZID:America/Chicago
BEGIN:DAYLIGHT
TZOFFSETFROM:-0600
TZOFFSETTO:-0500
TZNAME:CDT
DTSTART:20230312T080000
END:DAYLIGHT
BEGIN:STANDARD
TZOFFSETFROM:-0500
TZOFFSETTO:-0600
TZNAME:CST
DTSTART:20231105T070000
END:STANDARD
BEGIN:DAYLIGHT
TZOFFSETFROM:-0600
TZOFFSETTO:-0500
TZNAME:CDT
DTSTART:20240310T080000
END:DAYLIGHT
BEGIN:STANDARD
TZOFFSETFROM:-0500
TZOFFSETTO:-0600
TZNAME:CST
DTSTART:20241103T070000
END:STANDARD
BEGIN:DAYLIGHT
TZOFFSETFROM:-0600
TZOFFSETTO:-0500
TZNAME:CDT
DTSTART:20250309T080000
END:DAYLIGHT
BEGIN:STANDARD
TZOFFSETFROM:-0500
TZOFFSETTO:-0600
TZNAME:CST
DTSTART:20251102T070000
END:STANDARD
END:VTIMEZONE
BEGIN:VEVENT
DTSTART;TZID=America/Chicago:20240123T173000
DTEND;TZID=America/Chicago:20240123T193000
DTSTAMP:20260421T224131
CREATED:20240110T150726Z
LAST-MODIFIED:20240110T150726Z
UID:10001071-1706031000-1706038200@valleybusinessreport.com
SUMMARY:RGVHCC Annual Membership Meeting 2024
DESCRIPTION:The Rio Grande Hispanic Chamber of Commerce hosts its annual membership meeting on Jan. 23\, giving members a chance to network and discuss issues or concerns that affect their businesses such as transportation\, health\, immigration\, taxes\, education\, etc. \nIn addition\, major events for 2024 will be announced\, the presentation of some By-Law changes and elections for new board members. \nIf you are interested\, you must be a member in good standing and qualified in the position. Feel free to call the RGVHCC office to get a complete description of the position. A short letter of intent and bio is required to be submitted by no later than Jan. 21 to be eligible. \nRegister online. \n\n\n	Related
URL:https://valleybusinessreport.com/event/rgvhcc-annual-membership-meeting-2024/
LOCATION:Fireman’s Pumphouse\, 201 North 1st Street\, McAllen\, 78501\, United States
CATEGORIES:Networking
ATTACH;FMTTYPE=image/png:https://valleybusinessreport.com/wp-content/uploads/2024/01/RGVHCC-Annual-Membership-Meeting-2024.png
END:VEVENT
END:VCALENDAR