BEGIN:VCALENDAR
VERSION:2.0
PRODID:-//VBR - ECPv6.15.17.1//NONSGML v1.0//EN
CALSCALE:GREGORIAN
METHOD:PUBLISH
X-WR-CALNAME:VBR
X-ORIGINAL-URL:https://valleybusinessreport.com
X-WR-CALDESC:Events for VBR
REFRESH-INTERVAL;VALUE=DURATION:PT1H
X-Robots-Tag:noindex
X-PUBLISHED-TTL:PT1H
BEGIN:VTIMEZONE
TZID:America/Chicago
BEGIN:DAYLIGHT
TZOFFSETFROM:-0600
TZOFFSETTO:-0500
TZNAME:CDT
DTSTART:20210314T080000
END:DAYLIGHT
BEGIN:STANDARD
TZOFFSETFROM:-0500
TZOFFSETTO:-0600
TZNAME:CST
DTSTART:20211107T070000
END:STANDARD
BEGIN:DAYLIGHT
TZOFFSETFROM:-0600
TZOFFSETTO:-0500
TZNAME:CDT
DTSTART:20220313T080000
END:DAYLIGHT
BEGIN:STANDARD
TZOFFSETFROM:-0500
TZOFFSETTO:-0600
TZNAME:CST
DTSTART:20221106T070000
END:STANDARD
BEGIN:DAYLIGHT
TZOFFSETFROM:-0600
TZOFFSETTO:-0500
TZNAME:CDT
DTSTART:20230312T080000
END:DAYLIGHT
BEGIN:STANDARD
TZOFFSETFROM:-0500
TZOFFSETTO:-0600
TZNAME:CST
DTSTART:20231105T070000
END:STANDARD
END:VTIMEZONE
BEGIN:VEVENT
DTSTART;TZID=America/Chicago:20220316T173000
DTEND;TZID=America/Chicago:20220316T203000
DTSTAMP:20260421T063347
CREATED:20220308T153326Z
LAST-MODIFIED:20220308T153341Z
UID:10000582-1647451800-1647462600@valleybusinessreport.com
SUMMARY:Tamales & Menudo Mixer
DESCRIPTION:Join the RGV Hispanic Chamber of Commerce\, LiftFund and PeopleFund for Tamales & Menudo March 16 at Fireman’s Pump House. The appreciation mixer shows appreciation to those in the small business community. \nThe evening includes door prizes and cocktails. \nTo RSVP or receive more information\, contact the RGV Hispanic Chamber of Commerce.\n\n\n	Related
URL:https://valleybusinessreport.com/event/tamales-menudo-mixer/
LOCATION:Firemen’s Pump House\, 201 North 1st Street\, McAllen\, TX\, 78501\, United States
CATEGORIES:Networking
ATTACH;FMTTYPE=image/png:https://valleybusinessreport.com/wp-content/uploads/2022/03/Tamales-Mixer_March2022.png
END:VEVENT
END:VCALENDAR