BEGIN:VCALENDAR
VERSION:2.0
PRODID:-//VBR - ECPv6.15.17.1//NONSGML v1.0//EN
CALSCALE:GREGORIAN
METHOD:PUBLISH
X-ORIGINAL-URL:https://valleybusinessreport.com
X-WR-CALDESC:Events for VBR
REFRESH-INTERVAL;VALUE=DURATION:PT1H
X-Robots-Tag:noindex
X-PUBLISHED-TTL:PT1H
BEGIN:VTIMEZONE
TZID:America/Chicago
BEGIN:DAYLIGHT
TZOFFSETFROM:-0600
TZOFFSETTO:-0500
TZNAME:CDT
DTSTART:20230312T080000
END:DAYLIGHT
BEGIN:STANDARD
TZOFFSETFROM:-0500
TZOFFSETTO:-0600
TZNAME:CST
DTSTART:20231105T070000
END:STANDARD
BEGIN:DAYLIGHT
TZOFFSETFROM:-0600
TZOFFSETTO:-0500
TZNAME:CDT
DTSTART:20240310T080000
END:DAYLIGHT
BEGIN:STANDARD
TZOFFSETFROM:-0500
TZOFFSETTO:-0600
TZNAME:CST
DTSTART:20241103T070000
END:STANDARD
BEGIN:DAYLIGHT
TZOFFSETFROM:-0600
TZOFFSETTO:-0500
TZNAME:CDT
DTSTART:20250309T080000
END:DAYLIGHT
BEGIN:STANDARD
TZOFFSETFROM:-0500
TZOFFSETTO:-0600
TZNAME:CST
DTSTART:20251102T070000
END:STANDARD
END:VTIMEZONE
BEGIN:VEVENT
DTSTART;TZID=America/Chicago:20240217T070000
DTEND;TZID=America/Chicago:20240217T160000
DTSTAMP:20260421T101502
CREATED:20240122T192409Z
LAST-MODIFIED:20240122T192409Z
UID:10001078-1708153200-1708185600@valleybusinessreport.com
SUMMARY:7th Annual Resaca City Bike Tour
DESCRIPTION:Join the San Benito Chamber of Commerce for the seventh annual “Resaca City Bike Tour” on Feb. 17 at Heavin Resaca Trail. Rides include a 20-mile\, 40.4-mile and 62.2-mile ride. T-shirts will be given to the first 100 registrants and medals will be given to all participants. \nEarly bird registration is $35. There is also a veteran discount of $25 registration. \nThe core purpose of the San Benito Chamber of Commerce is to foster\, enable and facilitate the success of local businesses\, so the community is financially healthy and all the people living\, working and playing in San Benito can enjoy a high quality of life. \nRegister online. \n\n\n	Related
URL:https://valleybusinessreport.com/event/7th-annual-resaca-city-bike-tour/
LOCATION:Heavin Park\, Heavin Park\, San Benito\, 78586\, United States
CATEGORIES:Recreation
ATTACH;FMTTYPE=image/jpeg:https://valleybusinessreport.com/wp-content/uploads/2024/01/Resaca-City-Bike-Tour.jpg
ORGANIZER;CN="San Benito Chamber of Commerce":MAILTO:info@chamberofsanbenito.com
END:VEVENT
END:VCALENDAR